BEGIN:VCALENDAR
VERSION:2.0
PRODID:-//Antigua Public Utilities Authority (APUA) - ECPv5.1.2.1//NONSGML v1.0//EN
CALSCALE:GREGORIAN
METHOD:PUBLISH
X-WR-CALNAME:Antigua Public Utilities Authority (APUA)
X-ORIGINAL-URL:https://www.apua.ag
X-WR-CALDESC:Events for Antigua Public Utilities Authority (APUA)
BEGIN:VTIMEZONE
TZID:America/Antigua
BEGIN:STANDARD
TZOFFSETFROM:-0400
TZOFFSETTO:-0400
TZNAME:AST
DTSTART:20200101T000000
END:STANDARD
END:VTIMEZONE
BEGIN:VEVENT
DTSTART;TZID=America/Antigua:20201117T083000
DTEND;TZID=America/Antigua:20201117T113000
DTSTAMP:20260424T191534
CREATED:20201116T133105Z
LAST-MODIFIED:20201116T133105Z
UID:1480-1605601800-1605612600@www.apua.ag
SUMMARY:Electricity Maintenance Schedule - Section of Lightfoot; CHAPA Development
DESCRIPTION:Please note that Electricity will be suppressed during this period.\n  \nDate: Tuesday 17th November\, 2020 \nExpected duration: 8:30 AM – 11:30 AM \nAffected areas: Section of Lightfoot; CHAPA Development \n
URL:https://www.apua.ag/outage/electricity-maintenance-schedule-section-of-lightfoot-chapa-development/
CATEGORIES:Maintenance
END:VEVENT
BEGIN:VEVENT
DTSTART;TZID=America/Antigua:20201118T083000
DTEND;TZID=America/Antigua:20201118T113000
DTSTAMP:20260424T191534
CREATED:20201116T134614Z
LAST-MODIFIED:20201116T134614Z
UID:1482-1605688200-1605699000@www.apua.ag
SUMMARY:Electricity Maintenance Schedule –Section of Parham west of Mary Ground
DESCRIPTION:Please note that Electricity will be suppressed during this period.\n  \nDate: Tuesday 18th November\, 2020 \nExpected duration: 8:30 AM – 11:30 AM \nAffected areas: Section of Parham west of Mary Ground \n
URL:https://www.apua.ag/outage/electricity-maintenance-schedule-section-of-parham-west-of-mary-ground/
CATEGORIES:Maintenance
END:VEVENT
BEGIN:VEVENT
DTSTART;TZID=America/Antigua:20201118T133000
DTEND;TZID=America/Antigua:20201118T153000
DTSTAMP:20260424T191534
CREATED:20201116T140856Z
LAST-MODIFIED:20201125T130815Z
UID:1484-1605706200-1605713400@www.apua.ag
SUMMARY:Electricity Maintenance Schedule – Section of Lightfoot and Bay View
DESCRIPTION:Please note that Electricity will be suppressed during this period.\nDate: Wed 18th November\, 2020 \nExpected duration: 1:30 PM – 3:30 PM \nAffected areas: Section of Lightfoot and Bay View \n
URL:https://www.apua.ag/outage/electricity-maintenance-schedule-section-of-lightfoot-and-bay-view/
CATEGORIES:Maintenance
END:VEVENT
BEGIN:VEVENT
DTSTART;TZID=America/Antigua:20201119T083000
DTEND;TZID=America/Antigua:20201119T130000
DTSTAMP:20260424T191534
CREATED:20201116T143025Z
LAST-MODIFIED:20201116T143805Z
UID:1486-1605774600-1605790800@www.apua.ag
SUMMARY:Electricity Maintenance Schedule – Section of New Winthropes\, Cedar Valley and Mount Pleasant
DESCRIPTION:Please note that Electricity will be suppressed during this period.\nDate: Thursday 19th November\, 2020 \nExpected duration: 08:30 AM – 1:00 PM \nAffected areas: Section of New Winthropes\, Cedar Valley and Mount Pleasant \n
URL:https://www.apua.ag/outage/electricity-maintenance-schedule-section-of-new-winthropes-cedar-valley-and-mount-pleasant/
CATEGORIES:Maintenance
END:VEVENT
BEGIN:VEVENT
DTSTART;TZID=America/Antigua:20201120T083000
DTEND;TZID=America/Antigua:20201120T120000
DTSTAMP:20260424T191534
CREATED:20201116T144017Z
LAST-MODIFIED:20201116T144017Z
UID:1488-1605861000-1605873600@www.apua.ag
SUMMARY:Electricity Maintenance Schedule – Holberton Hospital
DESCRIPTION:Please note that Electricity will be suppressed during this period.\nDate: Friday 20th November\, 2020 \nExpected duration: 08:30 AM – 12:00 PM \nAffected areas: Holberton Hospital \n
URL:https://www.apua.ag/outage/electricity-maintenance-schedule-holberton-hospital/
CATEGORIES:Maintenance
END:VEVENT
BEGIN:VEVENT
DTSTART;TZID=America/Antigua:20201123T083000
DTEND;TZID=America/Antigua:20201123T113000
DTSTAMP:20260424T191534
CREATED:20201120T131322Z
LAST-MODIFIED:20201125T131351Z
UID:1498-1606120200-1606131000@www.apua.ag
SUMMARY:Electricity Maintenance Schedule – Section of All Saint Road\, Otto's New Town & Martin Village
DESCRIPTION:Please note that Electricity will be suppressed during this period.\nDate: Monday 23rd November 2020 \nExpected duration: 08:30 AM – 11:30 AM \nAffected areas: Section of All Saint Road\, Otto’s New Town & Martin Village \n
URL:https://www.apua.ag/outage/electricity-maintenance-schedule-section-of-all-saint-road-ottos-new-town-martin-village/
CATEGORIES:Maintenance
END:VEVENT
BEGIN:VEVENT
DTSTART;TZID=America/Antigua:20201125T083000
DTEND;TZID=America/Antigua:20201125T120000
DTSTAMP:20260424T191534
CREATED:20201120T132220Z
LAST-MODIFIED:20201125T132327Z
UID:1501-1606293000-1606305600@www.apua.ag
SUMMARY:Electricity Maintenance Schedule –Section of Skerritts Pasture near Scrabbler's Mechanic Shop
DESCRIPTION:Please note that Electricity will be suppressed during this period.\nDate: Wednesday 25th  November 2020 \nExpected duration: 08:30 AM – 12:00 PM \nAffected areas: Affected areas: Section of Skerritts Pasture near Scrabbler’s Mechanic Shop \n
URL:https://www.apua.ag/outage/electricity-maintenance-schedule-section-of-skerritts-pasture-near-scrabblers-mechanic-shop/
CATEGORIES:Maintenance
END:VEVENT
BEGIN:VEVENT
DTSTART;TZID=America/Antigua:20201126T080000
DTEND;TZID=America/Antigua:20201126T160000
DTSTAMP:20260424T191534
CREATED:20201125T181902Z
LAST-MODIFIED:20201125T181902Z
UID:1507-1606377600-1606406400@www.apua.ag
SUMMARY:Network Upgrade - Freetown
DESCRIPTION:Please note that intermittent service may occur  during this period.\nDate: Thursday 26th November\, 2020 \nExpected duration: 08:00 AM – 4:00 PM \nAffected areas: Freetown \n
URL:https://www.apua.ag/outage/network-upgrade-freetown/
CATEGORIES:Network Upgrade
END:VEVENT
BEGIN:VEVENT
DTSTART;TZID=America/Antigua:20201126T083000
DTEND;TZID=America/Antigua:20201126T113000
DTSTAMP:20260424T191534
CREATED:20201120T133445Z
LAST-MODIFIED:20201125T133550Z
UID:1504-1606379400-1606390200@www.apua.ag
SUMMARY:Electricity Maintenance Schedule – Blue Waters and Boon's Point areas
DESCRIPTION:Please note that Electricity will be suppressed during this period.\nDate: Thursday 26th  November 2020 \nExpected duration: 08:30 AM – 11:30 AM \nAffected areas: Blue Waters and Boon’s Point areas. \n
URL:https://www.apua.ag/outage/electricity-maintenance-schedule-blue-waters-and-boons-point-areas/
CATEGORIES:Maintenance
END:VEVENT
BEGIN:VEVENT
DTSTART;TZID=America/Antigua:20201130T080000
DTEND;TZID=America/Antigua:20201130T140000
DTSTAMP:20260424T191534
CREATED:20201127T190628Z
LAST-MODIFIED:20201127T190628Z
UID:1516-1606723200-1606744800@www.apua.ag
SUMMARY:Electricity Maintenance Schedule – Royal Gardens\, Hodges Bay\, New Winthropes\, Cedar Grove and Mount Pleasant
DESCRIPTION:Please note that Electricity will be suppressed during this period.\nDate: Monday 30th November 2020 \nExpected duration: 08:00 AM – 2:00 PM \nAffected areas: Royal Gardens\, Hodges Bay\, New Winthropes\, Cedar Grove and Mount Pleasant \n
URL:https://www.apua.ag/outage/electricity-maintenance-schedule-royal-gardens-hodges-bay-new-winthropes-cedar-grove-and-mount-pleasant/
CATEGORIES:Maintenance
END:VEVENT
BEGIN:VEVENT
DTSTART;TZID=America/Antigua:20201130T080000
DTEND;TZID=America/Antigua:20201130T140000
DTSTAMP:20260424T191534
CREATED:20201127T191004Z
LAST-MODIFIED:20201127T191004Z
UID:1518-1606723200-1606744800@www.apua.ag
SUMMARY:Electricity Maintenance Schedule – Donkey Sanctuary\, Delaps Agriculture Farms
DESCRIPTION:Please note that Electricity will be suppressed during this period.\nDate: Monday 30th November 2020 \nExpected duration: 08:00 AM – 02:00 PM \nAffected areas: Donkey Sanctuary\, Delaps Agriculture Farms \n
URL:https://www.apua.ag/outage/electricity-maintenance-schedule-donkey-sanctuary-delaps-agriculture-farms/
CATEGORIES:Maintenance
END:VEVENT
BEGIN:VEVENT
DTSTART;TZID=America/Antigua:20201130T083000
DTEND;TZID=America/Antigua:20201130T113000
DTSTAMP:20260424T191534
CREATED:20201127T191652Z
LAST-MODIFIED:20201127T191652Z
UID:1522-1606725000-1606735800@www.apua.ag
SUMMARY:Electricity Maintenance Schedule – Section of All Saints\, Northeast of Mockpond playing field
DESCRIPTION:Please note that Electricity will be suppressed during this period.\nDate: Monday 30th November 2020 \nExpected duration: 08:30 AM – 11:30 AM \nAffected areas: Section of All Saints\, Northeast of Mockpond playing field \n
URL:https://www.apua.ag/outage/electricity-maintenance-schedule-section-of-all-saints-northeast-of-mockpond-playing-field/
CATEGORIES:Maintenance
END:VEVENT
BEGIN:VEVENT
DTSTART;TZID=America/Antigua:20201130T093000
DTEND;TZID=America/Antigua:20201130T100000
DTSTAMP:20260424T191534
CREATED:20201127T192058Z
LAST-MODIFIED:20201127T192058Z
UID:1527-1606728600-1606730400@www.apua.ag
SUMMARY:Electricity Maintenance Schedule – Bendals\, Bathlodge\, Body Pond
DESCRIPTION:Please note that Electricity will be suppressed during this period.\nDate: Monday 30th November 2020 \nExpected duration: 09:30 AM – 10:00 AM \nAffected areas: Bendals\, Bathlodge\, Body Pond \n
URL:https://www.apua.ag/outage/electricity-maintenance-schedule-bendals-bathlodge-body-pond/
CATEGORIES:Maintenance
END:VEVENT
BEGIN:VEVENT
DTSTART;TZID=America/Antigua:20201201T080000
DTEND;TZID=America/Antigua:20201201T140000
DTSTAMP:20260424T191534
CREATED:20201127T192608Z
LAST-MODIFIED:20201127T192608Z
UID:1529-1606809600-1606831200@www.apua.ag
SUMMARY:Electricity Maintenance Schedule – Donkey Sanctuary\, Delaps Agriculture Farms
DESCRIPTION:Please note that Electricity will be suppressed during this period.\nDate: Tuesday 1st  December 2020 \nExpected duration: 08:00 AM – 2:00 PM \nAffected areas: Donkey Sanctuary\, Delaps Agriculture Farms \n
URL:https://www.apua.ag/outage/electricity-maintenance-schedule-donkey-sanctuary-delaps-agriculture-farms-2/
CATEGORIES:Maintenance
END:VEVENT
BEGIN:VEVENT
DTSTART;TZID=America/Antigua:20201201T080000
DTEND;TZID=America/Antigua:20201201T140000
DTSTAMP:20260424T191534
CREATED:20201127T192825Z
LAST-MODIFIED:20201127T192825Z
UID:1531-1606809600-1606831200@www.apua.ag
SUMMARY:Electricity Maintenance Schedule – Affected areas: Royal Gardens\, Hodges Bay\, New Winthropes\, Cedar Grove\, Mount Pleasant
DESCRIPTION:Please note that Electricity will be suppressed during this period.\nDate: Tuesday 1st  December 2020 \nExpected duration: 08:00 AM – 2:00 PM \nAffected areas: Affected areas: Royal Gardens\, Hodges Bay\, New Winthropes\, Cedar Grove\, Mount Pleasant \n
URL:https://www.apua.ag/outage/electricity-maintenance-schedule-affected-areas-royal-gardens-hodges-bay-new-winthropes-cedar-grove-mount-pleasant/
CATEGORIES:Maintenance
END:VEVENT
BEGIN:VEVENT
DTSTART;TZID=America/Antigua:20201201T080000
DTEND;TZID=America/Antigua:20201201T130000
DTSTAMP:20260424T191535
CREATED:20201127T193134Z
LAST-MODIFIED:20201127T193134Z
UID:1534-1606809600-1606827600@www.apua.ag
SUMMARY:Electricity Maintenance Schedule – Bendals\, Belvedere and Body Pond
DESCRIPTION:Please note that Electricity will be suppressed during this period.\nDate: Tuesday 1st  December 2020 \nExpected duration: 08:00 AM – 01:00 PM \nAffected areas: Bendals\, Belvedere and Body Pond \n
URL:https://www.apua.ag/outage/electricity-maintenance-schedule-bendals-belvedere-and-body-pond/
CATEGORIES:Maintenance
END:VEVENT
BEGIN:VEVENT
DTSTART;TZID=America/Antigua:20201202T080000
DTEND;TZID=America/Antigua:20201202T130000
DTSTAMP:20260424T191535
CREATED:20201127T193350Z
LAST-MODIFIED:20201127T193350Z
UID:1536-1606896000-1606914000@www.apua.ag
SUMMARY:Electricity Maintenance Schedule – Bendals\, Belvedere and Body Pond
DESCRIPTION:Please note that Electricity will be suppressed during this period.\nDate: Wednesday 2nd December 2020 \nExpected duration: 08:00 AM – 1:00 PM \nAffected areas: Bendals\, Belvedere and Body Pond \n
URL:https://www.apua.ag/outage/electricity-maintenance-schedule-bendals-belvedere-and-body-pond-2/
CATEGORIES:Maintenance
END:VEVENT
BEGIN:VEVENT
DTSTART;TZID=America/Antigua:20201202T080000
DTEND;TZID=America/Antigua:20201202T140000
DTSTAMP:20260424T191535
CREATED:20201127T193552Z
LAST-MODIFIED:20201127T193552Z
UID:1539-1606896000-1606917600@www.apua.ag
SUMMARY:Electricity Maintenance Schedule – Royal Gardens\, Hodges Bay\, New Winthropes\, Cedar Grove\, Mount Pleasant
DESCRIPTION:Please note that Electricity will be suppressed during this period.\nDate: Wednesday 2nd December 2020 \nExpected duration: 08:00 AM – 2:00 PM \nAffected areas: Royal Gardens\, Hodges Bay\, New Winthropes\, Cedar Grove\, Mount Pleasant \n
URL:https://www.apua.ag/outage/electricity-maintenance-schedule-royal-gardens-hodges-bay-new-winthropes-cedar-grove-mount-pleasant/
CATEGORIES:Maintenance
END:VEVENT
BEGIN:VEVENT
DTSTART;TZID=America/Antigua:20201202T080000
DTEND;TZID=America/Antigua:20201202T140000
DTSTAMP:20260424T191535
CREATED:20201127T193739Z
LAST-MODIFIED:20201127T193739Z
UID:1541-1606896000-1606917600@www.apua.ag
SUMMARY:Electricity Maintenance Schedule – Donkey Sanctuary\, Delaps Agriculture Farms
DESCRIPTION:Please note that Electricity will be suppressed during this period.\nDate: Wednesday 2nd December 2020 \nExpected duration: 08:00 AM – 2:00 PM \nAffected areas: Donkey Sanctuary\, Delaps Agriculture Farms \n
URL:https://www.apua.ag/outage/electricity-maintenance-schedule-donkey-sanctuary-delaps-agriculture-farms-3/
CATEGORIES:Maintenance
END:VEVENT
BEGIN:VEVENT
DTSTART;TZID=America/Antigua:20201202T083000
DTEND;TZID=America/Antigua:20201202T113000
DTSTAMP:20260424T191535
CREATED:20201127T194235Z
LAST-MODIFIED:20201127T194235Z
UID:1543-1606897800-1606908600@www.apua.ag
SUMMARY:Electricity Maintenance Schedule – Section of Cassada Gardens north of Robert's concrete plant
DESCRIPTION:Please note that Electricity will be suppressed during this period.\nDate: Wednesday 2nd  December 2020 \nExpected duration: 08:30 AM – 11:30 AM \nAffected areas: Section of Cassada Garden north of Robert\,s concrete plant \n
URL:https://www.apua.ag/outage/electricity-maintenance-schedule-section-of-cassada-gardens-north-of-roberts-concrete-plant/
CATEGORIES:Maintenance
END:VEVENT
BEGIN:VEVENT
DTSTART;TZID=America/Antigua:20201202T083000
DTEND;TZID=America/Antigua:20201202T110000
DTSTAMP:20260424T191535
CREATED:20201127T194540Z
LAST-MODIFIED:20201127T194540Z
UID:1545-1606897800-1606906800@www.apua.ag
SUMMARY:Electricity Maintenance Schedule – Small section south of Marina Bay
DESCRIPTION:Please note that Electricity will be suppressed during this period.\nDate: Wednesday 2nd  December 2020 \nExpected duration: 08:30 AM – 11:00 AM \nAffected areas: Small section south of Marina Bay \n
URL:https://www.apua.ag/outage/electricity-maintenance-schedule-small-section-south-of-marina-bay/
CATEGORIES:Maintenance
END:VEVENT
END:VCALENDAR