BEGIN:VCALENDAR
VERSION:2.0
PRODID:-//Antigua Public Utilities Authority (APUA) - ECPv5.1.2.1//NONSGML v1.0//EN
CALSCALE:GREGORIAN
METHOD:PUBLISH
X-WR-CALNAME:Antigua Public Utilities Authority (APUA)
X-ORIGINAL-URL:https://www.apua.ag
X-WR-CALDESC:Events for Antigua Public Utilities Authority (APUA)
BEGIN:VTIMEZONE
TZID:America/Antigua
BEGIN:STANDARD
TZOFFSETFROM:-0400
TZOFFSETTO:-0400
TZNAME:AST
DTSTART:20210101T000000
END:STANDARD
END:VTIMEZONE
BEGIN:VEVENT
DTSTART;TZID=America/Antigua:20210419T083000
DTEND;TZID=America/Antigua:20210419T100000
DTSTAMP:20260425T192541
CREATED:20210419T124712Z
LAST-MODIFIED:20210419T124712Z
UID:1768-1618821000-1618826400@www.apua.ag
SUMMARY:Electricity Maintenance Schedule – Section of Langfords east of the police station
DESCRIPTION:Please note that Electricity will be suppressed during this period.\nDate: Monday\, 19th April 2021 \nTime: 8:30AM – 10:00AM \nAffected areas: Section of Langfords east of the police station \n
URL:https://www.apua.ag/outage/electricity-maintenance-schedule-section-of-langfords-east-of-the-police-station/
CATEGORIES:Maintenance
END:VEVENT
BEGIN:VEVENT
DTSTART;TZID=America/Antigua:20210419T083000
DTEND;TZID=America/Antigua:20210419T130000
DTSTAMP:20260425T192541
CREATED:20210419T130525Z
LAST-MODIFIED:20210419T130525Z
UID:1774-1618821000-1618837200@www.apua.ag
SUMMARY:Electricity Maintenance Schedule – Urlings\, Johnsons Point & Crabb Hill
DESCRIPTION:Please note that Electricity will be suppressed during this period.\nDate: Monday\, 19th April 2021 \nTime: 8:30AM-1:00PM \nAffected areas: Urlings\, Johnsons Point & Crabb Hill \n
URL:https://www.apua.ag/outage/electricity-maintenance-schedule-urlings-johnsons-point-crabb-hill/
CATEGORIES:Maintenance
END:VEVENT
BEGIN:VEVENT
DTSTART;TZID=America/Antigua:20210419T084500
DTEND;TZID=America/Antigua:20210419T120000
DTSTAMP:20260425T192541
CREATED:20210419T130827Z
LAST-MODIFIED:20210419T130827Z
UID:1776-1618821900-1618833600@www.apua.ag
SUMMARY:Electricity Maintenance Schedule – Section of Freeman Village; Uncle Sammy Drive
DESCRIPTION:Please note that Electricity will be suppressed during this period.\nDate: Monday\, 19th April 2021 \nTime: 8:45AM – 12:00PM \nAffected areas: Section of Freeman Village; Uncle Sammy Drive \n
URL:https://www.apua.ag/outage/electricity-maintenance-schedule-section-of-freeman-village-uncle-sammy-drive/
CATEGORIES:Maintenance
END:VEVENT
BEGIN:VEVENT
DTSTART;TZID=America/Antigua:20210420T083000
DTEND;TZID=America/Antigua:20210420T120000
DTSTAMP:20260425T192541
CREATED:20210419T125235Z
LAST-MODIFIED:20210419T125235Z
UID:1770-1618907400-1618920000@www.apua.ag
SUMMARY:Electricity Maintenance Schedule – Section of Shell Beach near Run Away-10
DESCRIPTION:Please note that Electricity will be suppressed during this period.\nDate: Tuesday\, 20th April 2021 \nTime: 8:30AM – 12:00PM \nAffected areas: Section of Shell Beach near Run Away-10 \n
URL:https://www.apua.ag/outage/electricity-maintenance-schedule-section-of-shell-beach-near-run-away-10/
CATEGORIES:Maintenance
END:VEVENT
BEGIN:VEVENT
DTSTART;TZID=America/Antigua:20210420T084500
DTEND;TZID=America/Antigua:20210420T110000
DTSTAMP:20260425T192541
CREATED:20210419T131232Z
LAST-MODIFIED:20210419T131232Z
UID:1778-1618908300-1618916400@www.apua.ag
SUMMARY:Electricity Maintenance Schedule – Section of Shoul's Housing Project
DESCRIPTION:Please note that Electricity will be suppressed during this period.\nDate: Tuesday\, 20th April 2021 \nTime: 8:45AM – 11:00AM \nAffected areas: Section of Shoul’s Housing Project \n
URL:https://www.apua.ag/outage/electricity-maintenance-schedule-section-of-shouls-housing-project/
CATEGORIES:Maintenance
END:VEVENT
BEGIN:VEVENT
DTSTART;TZID=America/Antigua:20210420T090000
DTEND;TZID=America/Antigua:20210420T150000
DTSTAMP:20260425T192541
CREATED:20210419T132021Z
LAST-MODIFIED:20210419T132021Z
UID:1780-1618909200-1618930800@www.apua.ag
SUMMARY:Electricity Maintenance Schedule –Tyrells\, Liberta\, Falmouth & Cobbs Cross
DESCRIPTION:Please note that Electricity will be suppressed during this period.\nDate: Tuesday\, 20th April 2021 \nTime: 9:00AM – 3:00PM \nAffected areas: Tyrells\, Liberta\, Falmouth & Cobbs Cross \n
URL:https://www.apua.ag/outage/electricity-maintenance-schedule-tyrells-liberta-falmouth-cobbs-cross/
CATEGORIES:Maintenance
END:VEVENT
BEGIN:VEVENT
DTSTART;TZID=America/Antigua:20210421T083000
DTEND;TZID=America/Antigua:20210421T120000
DTSTAMP:20260425T192541
CREATED:20210419T132245Z
LAST-MODIFIED:20210419T132245Z
UID:1782-1618993800-1619006400@www.apua.ag
SUMMARY:Electricity Maintenance Schedule –Jolly Beach\, Jolly Harbour\, Sugar Ridge & Valley Church
DESCRIPTION:Please note that Electricity will be suppressed during this period.\nDate: Wednesday\, 21st April 2021 \nTime: 8:30AM – 12:00PM \nAffected areas: Jolly Beach\, Jolly Harbour\, Sugar Ridge & Valley Church \n
URL:https://www.apua.ag/outage/electricity-maintenance-schedule-jolly-beach-jolly-harbour-sugar-ridge-valley-church/
CATEGORIES:Maintenance
END:VEVENT
BEGIN:VEVENT
DTSTART;TZID=America/Antigua:20210422T080000
DTEND;TZID=America/Antigua:20210422T110000
DTSTAMP:20260425T192541
CREATED:20210419T125157Z
LAST-MODIFIED:20210419T125157Z
UID:1772-1619078400-1619089200@www.apua.ag
SUMMARY:Electricity Maintenance Schedule – Section of  Carlisle near the Coolidge Police Station
DESCRIPTION:Please note that Electricity will be suppressed during this period.\nDate: Thursday\, 22nd April 2021 \nTime: 8:00AM – 11:00AM \nAffected areas: Section of  Carlisle near the  Coolidge Police Station \n
URL:https://www.apua.ag/outage/electricity-maintenance-schedule-section-of-carlisle-near-the-coolidge-police-station/
CATEGORIES:Maintenance
END:VEVENT
BEGIN:VEVENT
DTSTART;TZID=America/Antigua:20210426T083000
DTEND;TZID=America/Antigua:20210426T130000
DTSTAMP:20260425T192541
CREATED:20210426T125838Z
LAST-MODIFIED:20210426T125838Z
UID:1784-1619425800-1619442000@www.apua.ag
SUMMARY:Electricity Maintenance Schedule – Cable & Wireless\, Wireless  Road and Clare Hall
DESCRIPTION:Please note that Electricity will be suppressed during this period.\nDate: Monday\, 26th April 2021 \nTime: 8:30AM-1:00PM \nAffected areas: Cable & Wireless\, Wireless  Road and Clare Hall \n
URL:https://www.apua.ag/outage/electricity-maintenance-schedule-cable-wireless-wireless-road-and-clare-hall/
CATEGORIES:Maintenance
END:VEVENT
BEGIN:VEVENT
DTSTART;TZID=America/Antigua:20210426T084500
DTEND;TZID=America/Antigua:20210426T113000
DTSTAMP:20260425T192541
CREATED:20210426T130229Z
LAST-MODIFIED:20210426T130229Z
UID:1786-1619426700-1619436600@www.apua.ag
SUMMARY:Electricity Maintenance Schedule – Section of Freetown south of the pond
DESCRIPTION:Please note that Electricity will be suppressed during this period.\nDate: Monday\, 26th April 2021 \nTime: 8:45AM – 11:30AM \nAffected areas: Section of Freetown south of the pond \n
URL:https://www.apua.ag/outage/electricity-maintenance-schedule-section-of-freetown-south-of-the-pond/
CATEGORIES:Maintenance
END:VEVENT
BEGIN:VEVENT
DTSTART;TZID=America/Antigua:20210427T084500
DTEND;TZID=America/Antigua:20210427T110000
DTSTAMP:20260425T192541
CREATED:20210426T131935Z
LAST-MODIFIED:20210428T132234Z
UID:1788-1619513100-1619521200@www.apua.ag
SUMMARY:Electricity Maintenance Schedule – Section of Vivian Richards Street  east of his monument
DESCRIPTION:Please note that Electricity will be suppressed during this period.\nDate: Tuesday\, 27th April 2021 \nTime: 8:45AM – 11:00AM \nAffected areas: Section of Vivian Richards Street  east of his monument \n
URL:https://www.apua.ag/outage/electricity-maintenance-schedule-section-of-vivian-richards-street-east-of-his-monument/
CATEGORIES:Maintenance
END:VEVENT
BEGIN:VEVENT
DTSTART;TZID=America/Antigua:20210427T134500
DTEND;TZID=America/Antigua:20210427T153000
DTSTAMP:20260425T192541
CREATED:20210426T132242Z
LAST-MODIFIED:20210428T133023Z
UID:1790-1619531100-1619537400@www.apua.ag
SUMMARY:Electricity Maintenance Schedule – Section of Clare Hall near Christo's Supermarket
DESCRIPTION:Please note that Electricity will be suppressed during this period.\nDate: Tuesday\, 27th April 2021 \nTime: 1:45PM – 3:30PM \nAffected areas: Section of Clare Hall near Christo’s Supermarket \n
URL:https://www.apua.ag/outage/electricity-maintenance-schedule-section-of-clare-hall-near-christos-supermarket/
CATEGORIES:Maintenance
END:VEVENT
BEGIN:VEVENT
DTSTART;TZID=America/Antigua:20210428T083000
DTEND;TZID=America/Antigua:20210428T130000
DTSTAMP:20260425T192541
CREATED:20210428T133328Z
LAST-MODIFIED:20210428T133328Z
UID:1793-1619598600-1619614800@www.apua.ag
SUMMARY:Electricity Maintenance Schedule – Jolly Harbor\, Hermitage Hotel and Gabriel Development
DESCRIPTION:Please note that Electricity will be suppressed during this period.\nDate: Wednesday\, April 28th 2021 \nTime: 8:30AM – 1:00PM \nAffected areas: Jolly Harbor\, Hermitage Hotel and Gabriel Development \n
URL:https://www.apua.ag/outage/electricity-maintenance-schedule-jolly-harbor-hermitage-hotel-and-gabriel-development/
CATEGORIES:Maintenance
END:VEVENT
BEGIN:VEVENT
DTSTART;TZID=America/Antigua:20210428T084500
DTEND;TZID=America/Antigua:20210428T120000
DTSTAMP:20260425T192541
CREATED:20210428T133621Z
LAST-MODIFIED:20210428T133621Z
UID:1795-1619599500-1619611200@www.apua.ag
SUMMARY:Electricity Maintenance Schedule – Freetown\, Browne's Bay\, Half Moon Bay and Mill Reef
DESCRIPTION:Please note that Electricity will be suppressed during this period.\nDate: Wednesday\, April 28th 2021 \nTime: 8:45AM – 12:00PM \nAffected areas: Freetown\, Browne’s Bay\, Half Moon Bay and Mill Reef \n
URL:https://www.apua.ag/outage/electricity-maintenance-schedule-freetown-brownes-bay-half-moon-bay-and-mill-reef/
CATEGORIES:Maintenance
END:VEVENT
BEGIN:VEVENT
DTSTART;TZID=America/Antigua:20210429T084500
DTEND;TZID=America/Antigua:20210429T110000
DTSTAMP:20260425T192541
CREATED:20210428T134127Z
LAST-MODIFIED:20210428T134127Z
UID:1797-1619685900-1619694000@www.apua.ag
SUMMARY:Electricity Maintenance Schedule – Affected areas: Section of Comacho Avenue west of Robinson gas station
DESCRIPTION:Please note that Electricity will be suppressed during this period.\nDate: Thursday\, April 29th 2021 \nTime: 8:45AM – 11:00AM \nAffected areas: Section of Comacho Avenue west of Robinson gas station \n
URL:https://www.apua.ag/outage/electricity-maintenance-schedule-affected-areas-section-of-comacho-avenue-west-of-robinson-gas-station/
CATEGORIES:Maintenance
END:VEVENT
BEGIN:VEVENT
DTSTART;TZID=America/Antigua:20210429T084500
DTEND;TZID=America/Antigua:20210429T113000
DTSTAMP:20260425T192541
CREATED:20210428T135547Z
LAST-MODIFIED:20210428T135547Z
UID:1799-1619685900-1619695800@www.apua.ag
SUMMARY:Electricity Maintenance Schedule – Section of Sea View Farm southeast of the football field
DESCRIPTION:Please note that Electricity will be suppressed during this period.\nDate: Thursday\, April 29th 2021 \nTime: 8:45AM – 11:30AM \nAffected areas: Section of Sea View Farm southeast of the football field \n
URL:https://www.apua.ag/outage/electricity-maintenance-schedule-section-of-sea-view-farm-southeast-of-the-football-field/
CATEGORIES:Maintenance
END:VEVENT
BEGIN:VEVENT
DTSTART;TZID=America/Antigua:20210430T084500
DTEND;TZID=America/Antigua:20210430T110000
DTSTAMP:20260425T192541
CREATED:20210428T135718Z
LAST-MODIFIED:20210428T135718Z
UID:1802-1619772300-1619780400@www.apua.ag
SUMMARY:Electricity Maintenance Schedule – Section of Cades Bay near Boggy Peak
DESCRIPTION:Please note that Electricity will be suppressed during this period.\nDate: Friday\, April 30th 2021 \nTime: 8:45AM – 11:00AM \nAffected areas: Section of Cades Bay near Boggy Peak \n
URL:https://www.apua.ag/outage/electricity-maintenance-schedule-section-of-cades-bay-near-boggy-peak/
CATEGORIES:Maintenance
END:VEVENT
END:VCALENDAR