BEGIN:VCALENDAR
VERSION:2.0
PRODID:-//Antigua Public Utilities Authority (APUA) - ECPv5.1.2.1//NONSGML v1.0//EN
CALSCALE:GREGORIAN
METHOD:PUBLISH
X-WR-CALNAME:Antigua Public Utilities Authority (APUA)
X-ORIGINAL-URL:https://www.apua.ag
X-WR-CALDESC:Events for Antigua Public Utilities Authority (APUA)
BEGIN:VTIMEZONE
TZID:America/Antigua
BEGIN:STANDARD
TZOFFSETFROM:-0400
TZOFFSETTO:-0400
TZNAME:AST
DTSTART:20210101T000000
END:STANDARD
END:VTIMEZONE
BEGIN:VEVENT
DTSTART;TZID=America/Antigua:20210426T083000
DTEND;TZID=America/Antigua:20210426T130000
DTSTAMP:20260424T224621
CREATED:20210426T125838Z
LAST-MODIFIED:20210426T125838Z
UID:1784-1619425800-1619442000@www.apua.ag
SUMMARY:Electricity Maintenance Schedule – Cable & Wireless\, Wireless  Road and Clare Hall
DESCRIPTION:Please note that Electricity will be suppressed during this period.\nDate: Monday\, 26th April 2021 \nTime: 8:30AM-1:00PM \nAffected areas: Cable & Wireless\, Wireless  Road and Clare Hall \n
URL:https://www.apua.ag/outage/electricity-maintenance-schedule-cable-wireless-wireless-road-and-clare-hall/
CATEGORIES:Maintenance
END:VEVENT
BEGIN:VEVENT
DTSTART;TZID=America/Antigua:20210426T084500
DTEND;TZID=America/Antigua:20210426T113000
DTSTAMP:20260424T224621
CREATED:20210426T130229Z
LAST-MODIFIED:20210426T130229Z
UID:1786-1619426700-1619436600@www.apua.ag
SUMMARY:Electricity Maintenance Schedule – Section of Freetown south of the pond
DESCRIPTION:Please note that Electricity will be suppressed during this period.\nDate: Monday\, 26th April 2021 \nTime: 8:45AM – 11:30AM \nAffected areas: Section of Freetown south of the pond \n
URL:https://www.apua.ag/outage/electricity-maintenance-schedule-section-of-freetown-south-of-the-pond/
CATEGORIES:Maintenance
END:VEVENT
BEGIN:VEVENT
DTSTART;TZID=America/Antigua:20210427T084500
DTEND;TZID=America/Antigua:20210427T110000
DTSTAMP:20260424T224621
CREATED:20210426T131935Z
LAST-MODIFIED:20210428T132234Z
UID:1788-1619513100-1619521200@www.apua.ag
SUMMARY:Electricity Maintenance Schedule – Section of Vivian Richards Street  east of his monument
DESCRIPTION:Please note that Electricity will be suppressed during this period.\nDate: Tuesday\, 27th April 2021 \nTime: 8:45AM – 11:00AM \nAffected areas: Section of Vivian Richards Street  east of his monument \n
URL:https://www.apua.ag/outage/electricity-maintenance-schedule-section-of-vivian-richards-street-east-of-his-monument/
CATEGORIES:Maintenance
END:VEVENT
BEGIN:VEVENT
DTSTART;TZID=America/Antigua:20210427T134500
DTEND;TZID=America/Antigua:20210427T153000
DTSTAMP:20260424T224621
CREATED:20210426T132242Z
LAST-MODIFIED:20210428T133023Z
UID:1790-1619531100-1619537400@www.apua.ag
SUMMARY:Electricity Maintenance Schedule – Section of Clare Hall near Christo's Supermarket
DESCRIPTION:Please note that Electricity will be suppressed during this period.\nDate: Tuesday\, 27th April 2021 \nTime: 1:45PM – 3:30PM \nAffected areas: Section of Clare Hall near Christo’s Supermarket \n
URL:https://www.apua.ag/outage/electricity-maintenance-schedule-section-of-clare-hall-near-christos-supermarket/
CATEGORIES:Maintenance
END:VEVENT
BEGIN:VEVENT
DTSTART;TZID=America/Antigua:20210428T083000
DTEND;TZID=America/Antigua:20210428T130000
DTSTAMP:20260424T224621
CREATED:20210428T133328Z
LAST-MODIFIED:20210428T133328Z
UID:1793-1619598600-1619614800@www.apua.ag
SUMMARY:Electricity Maintenance Schedule – Jolly Harbor\, Hermitage Hotel and Gabriel Development
DESCRIPTION:Please note that Electricity will be suppressed during this period.\nDate: Wednesday\, April 28th 2021 \nTime: 8:30AM – 1:00PM \nAffected areas: Jolly Harbor\, Hermitage Hotel and Gabriel Development \n
URL:https://www.apua.ag/outage/electricity-maintenance-schedule-jolly-harbor-hermitage-hotel-and-gabriel-development/
CATEGORIES:Maintenance
END:VEVENT
BEGIN:VEVENT
DTSTART;TZID=America/Antigua:20210428T084500
DTEND;TZID=America/Antigua:20210428T120000
DTSTAMP:20260424T224621
CREATED:20210428T133621Z
LAST-MODIFIED:20210428T133621Z
UID:1795-1619599500-1619611200@www.apua.ag
SUMMARY:Electricity Maintenance Schedule – Freetown\, Browne's Bay\, Half Moon Bay and Mill Reef
DESCRIPTION:Please note that Electricity will be suppressed during this period.\nDate: Wednesday\, April 28th 2021 \nTime: 8:45AM – 12:00PM \nAffected areas: Freetown\, Browne’s Bay\, Half Moon Bay and Mill Reef \n
URL:https://www.apua.ag/outage/electricity-maintenance-schedule-freetown-brownes-bay-half-moon-bay-and-mill-reef/
CATEGORIES:Maintenance
END:VEVENT
BEGIN:VEVENT
DTSTART;TZID=America/Antigua:20210429T084500
DTEND;TZID=America/Antigua:20210429T110000
DTSTAMP:20260424T224621
CREATED:20210428T134127Z
LAST-MODIFIED:20210428T134127Z
UID:1797-1619685900-1619694000@www.apua.ag
SUMMARY:Electricity Maintenance Schedule – Affected areas: Section of Comacho Avenue west of Robinson gas station
DESCRIPTION:Please note that Electricity will be suppressed during this period.\nDate: Thursday\, April 29th 2021 \nTime: 8:45AM – 11:00AM \nAffected areas: Section of Comacho Avenue west of Robinson gas station \n
URL:https://www.apua.ag/outage/electricity-maintenance-schedule-affected-areas-section-of-comacho-avenue-west-of-robinson-gas-station/
CATEGORIES:Maintenance
END:VEVENT
BEGIN:VEVENT
DTSTART;TZID=America/Antigua:20210429T084500
DTEND;TZID=America/Antigua:20210429T113000
DTSTAMP:20260424T224621
CREATED:20210428T135547Z
LAST-MODIFIED:20210428T135547Z
UID:1799-1619685900-1619695800@www.apua.ag
SUMMARY:Electricity Maintenance Schedule – Section of Sea View Farm southeast of the football field
DESCRIPTION:Please note that Electricity will be suppressed during this period.\nDate: Thursday\, April 29th 2021 \nTime: 8:45AM – 11:30AM \nAffected areas: Section of Sea View Farm southeast of the football field \n
URL:https://www.apua.ag/outage/electricity-maintenance-schedule-section-of-sea-view-farm-southeast-of-the-football-field/
CATEGORIES:Maintenance
END:VEVENT
BEGIN:VEVENT
DTSTART;TZID=America/Antigua:20210430T084500
DTEND;TZID=America/Antigua:20210430T110000
DTSTAMP:20260424T224621
CREATED:20210428T135718Z
LAST-MODIFIED:20210428T135718Z
UID:1802-1619772300-1619780400@www.apua.ag
SUMMARY:Electricity Maintenance Schedule – Section of Cades Bay near Boggy Peak
DESCRIPTION:Please note that Electricity will be suppressed during this period.\nDate: Friday\, April 30th 2021 \nTime: 8:45AM – 11:00AM \nAffected areas: Section of Cades Bay near Boggy Peak \n
URL:https://www.apua.ag/outage/electricity-maintenance-schedule-section-of-cades-bay-near-boggy-peak/
CATEGORIES:Maintenance
END:VEVENT
BEGIN:VEVENT
DTSTART;TZID=America/Antigua:20210504T083000
DTEND;TZID=America/Antigua:20210504T100000
DTSTAMP:20260424T224621
CREATED:20210504T124923Z
LAST-MODIFIED:20210504T124923Z
UID:1805-1620117000-1620122400@www.apua.ag
SUMMARY:Electricity Maintenance Schedule – Dickenson Bay Street\, St. Georges Street & Popeshead Street
DESCRIPTION:Please note that Electricity will be suppressed during this period.\nDate: Tuesday\, May 4th 2021 \nTime: 8:30AM – 10:00AM \nAffected areas: Dickenson Bay Street\, St. Georges Street & Popeshead Street \n
URL:https://www.apua.ag/outage/electricity-maintenance-schedule-dickenson-bay-street-st-georges-street-popeshead-street/
CATEGORIES:Maintenance
END:VEVENT
BEGIN:VEVENT
DTSTART;TZID=America/Antigua:20210504T084500
DTEND;TZID=America/Antigua:20210504T113000
DTSTAMP:20260424T224621
CREATED:20210504T124902Z
LAST-MODIFIED:20210504T124902Z
UID:1807-1620117900-1620127800@www.apua.ag
SUMMARY:Electricity Maintenance Schedule – Section of Langford east of the Chinese Embassy
DESCRIPTION:Please note that Electricity will be suppressed during this period.\nDate: Tuesday\, 4th May\, 2021 \nTime: 8:45AM – 11:30AM \nAffected areas: Section of Langford east of the Chinese Embassy \n
URL:https://www.apua.ag/outage/electricity-maintenance-schedule-section-of-langford-east-of-the-chinese-embassy/
CATEGORIES:Maintenance
END:VEVENT
BEGIN:VEVENT
DTSTART;TZID=America/Antigua:20210505T083000
DTEND;TZID=America/Antigua:20210505T130000
DTSTAMP:20260424T224621
CREATED:20210504T125224Z
LAST-MODIFIED:20210504T125224Z
UID:1809-1620203400-1620219600@www.apua.ag
SUMMARY:Electricity Maintenance Schedule – Jolly Harbour\, Hermitage Hotel & Gabriel Development
DESCRIPTION:Please note that Electricity will be suppressed during this period.\nDate: Wednesday\, 5th May\, 2021 \nTime: 8:30AM – 1:00PM \nAffected areas: Jolly Harbour\, Hermitage Hotel & Gabriel Development \n
URL:https://www.apua.ag/outage/electricity-maintenance-schedule-jolly-harbour-hermitage-hotel-gabriel-development/
CATEGORIES:Maintenance
END:VEVENT
BEGIN:VEVENT
DTSTART;TZID=America/Antigua:20210505T084500
DTEND;TZID=America/Antigua:20210505T113000
DTSTAMP:20260424T224621
CREATED:20210504T125441Z
LAST-MODIFIED:20210504T125441Z
UID:1811-1620204300-1620214200@www.apua.ag
SUMMARY:Electricity Maintenance Schedule – Section of Pares near the Baptiste Retreat Centre
DESCRIPTION:Please note that Electricity will be suppressed during this period.\nDate: Wednesday\, 5th May\, 2021 \nTime: 8:45AM – 11:30AM \nAffected areas: Section of Pares near the Baptiste Retreat Centre \n
URL:https://www.apua.ag/outage/electricity-maintenance-schedule-section-of-pares-near-the-baptiste-retreat-centre/
CATEGORIES:Maintenance
END:VEVENT
BEGIN:VEVENT
DTSTART;TZID=America/Antigua:20210505T084500
DTEND;TZID=America/Antigua:20210505T120000
DTSTAMP:20260424T224621
CREATED:20210504T125901Z
LAST-MODIFIED:20210504T125901Z
UID:1813-1620204300-1620216000@www.apua.ag
SUMMARY:Electricity Maintenance Schedule – Section of Hatton
DESCRIPTION:Please note that Electricity will be suppressed during this period.\nDate: Wednesday\, 5th May\, 2021 \nTime: 8:45AM – 12:00PM \nAffected areas: Section of Hatton \n
URL:https://www.apua.ag/outage/electricity-maintenance-schedule-section-of-hatton/
CATEGORIES:Maintenance
END:VEVENT
BEGIN:VEVENT
DTSTART;TZID=America/Antigua:20210506T084500
DTEND;TZID=America/Antigua:20210506T113000
DTSTAMP:20260424T224621
CREATED:20210504T132346Z
LAST-MODIFIED:20210504T132346Z
UID:1815-1620290700-1620300600@www.apua.ag
SUMMARY:Electricity Maintenance Schedule – Section of Gray Hill
DESCRIPTION:Please note that Electricity will be suppressed during this period.\nDate: Thursday\, 6th May\, 2021 \nTime: 8:45AM – 11:30AM \nAffected areas: Section of Gray Hill \n
URL:https://www.apua.ag/outage/electricity-maintenance-schedule-section-of-gray-hill/
CATEGORIES:Maintenance
END:VEVENT
BEGIN:VEVENT
DTSTART;TZID=America/Antigua:20210507T083000
DTEND;TZID=America/Antigua:20210507T120000
DTSTAMP:20260424T224621
CREATED:20210504T133900Z
LAST-MODIFIED:20210504T133900Z
UID:1821-1620376200-1620388800@www.apua.ag
SUMMARY:Electricity Maintenance Schedule – Adele School\, Gambles Buff & Cortsland Road
DESCRIPTION:Please note that Electricity will be suppressed during this period.\nDate: Friday\, 7th May\, 2021 \nTime: 8:30AM – 12:00AM \nAffected areas: Adele School\, Gambles Buff & Cortsland Road \n
URL:https://www.apua.ag/outage/electricity-maintenance-schedule-adele-school-gambles-buff-cortsland-road/
CATEGORIES:Maintenance
END:VEVENT
BEGIN:VEVENT
DTSTART;TZID=America/Antigua:20210507T084500
DTEND;TZID=America/Antigua:20210507T110000
DTSTAMP:20260424T224621
CREATED:20210504T132956Z
LAST-MODIFIED:20210504T132956Z
UID:1817-1620377100-1620385200@www.apua.ag
SUMMARY:Electricity Maintenance Schedule – Section of American Road & Radio Range
DESCRIPTION:Please note that Electricity will be suppressed during this period.\nDate: Friday\, 7th May\, 2021 \nTime: 8:45AM – 11:00AM \nAffected areas: Section of American Road & Radio Range \n
URL:https://www.apua.ag/outage/electricity-maintenance-schedule-section-of-american-road-radio-range/
CATEGORIES:Maintenance
END:VEVENT
BEGIN:VEVENT
DTSTART;TZID=America/Antigua:20210507T084500
DTEND;TZID=America/Antigua:20210507T113000
DTSTAMP:20260424T224621
CREATED:20210504T133149Z
LAST-MODIFIED:20210504T133149Z
UID:1819-1620377100-1620387000@www.apua.ag
SUMMARY:Electricity Maintenance Schedule – Section of Patterson south of the horse stable
DESCRIPTION:Please note that Electricity will be suppressed during this period.\nDate: Friday\, 7th May\, 2021 \nTime: 8:45AM – 11:30AM \nAffected areas: Section of Patterson south of the horse stable \n
URL:https://www.apua.ag/outage/electricity-maintenance-schedule-section-of-patterson-south-of-the-horse-stable/
CATEGORIES:Maintenance
END:VEVENT
BEGIN:VEVENT
DTSTART;TZID=America/Antigua:20210510T084500
DTEND;TZID=America/Antigua:20210510T113000
DTSTAMP:20260424T224621
CREATED:20210510T124032Z
LAST-MODIFIED:20210510T124032Z
UID:1824-1620636300-1620646200@www.apua.ag
SUMMARY:Electricity Maintenance Schedule – Section of Matthews Road near Tyrells Roman Catholic Church
DESCRIPTION:Please note that Electricity will be suppressed during this period.\nDate: Monday\, 10th May 2021 \nTime: 8:45AM-11:30AM \nAffected areas: Section of Matthews Road near Tyrell Roman Catholic Church \n
URL:https://www.apua.ag/outage/electricity-maintenance-schedule-section-of-matthews-road-near-tyrells-roman-catholic-church/
CATEGORIES:Maintenance
END:VEVENT
BEGIN:VEVENT
DTSTART;TZID=America/Antigua:20210511T084500
DTEND;TZID=America/Antigua:20210511T113000
DTSTAMP:20260424T224621
CREATED:20210510T124241Z
LAST-MODIFIED:20210510T124241Z
UID:1826-1620722700-1620732600@www.apua.ag
SUMMARY:Electricity Maintenance Schedule - Section of Potters north of the basketball court  
DESCRIPTION:Please note that Electricity will be suppressed during this period.\nDate: Tuesday\, 11th May 2021 \nTime: 8:45AM – 11:30AM \nAffected areas: Section of Potters north of the basketball court \n
URL:https://www.apua.ag/outage/electricity-maintenance-schedule-section-of-potters-north-of-the-basketball-court/
CATEGORIES:Maintenance
END:VEVENT
BEGIN:VEVENT
DTSTART;TZID=America/Antigua:20210512T084500
DTEND;TZID=America/Antigua:20210512T120000
DTSTAMP:20260424T224621
CREATED:20210510T125050Z
LAST-MODIFIED:20210510T125050Z
UID:1828-1620809100-1620820800@www.apua.ag
SUMMARY:Electricity Maintenance Schedule - Section of All Saints south of Smokey and Mount Trula
DESCRIPTION:Please note that Electricity will be suppressed during this period.\nDate: Wednesday\, 12th May 2021 \nTime: 8:45AM – 12:00PM \nAffected areas: Section of All Saints south of Smokey and Mount Trula \n
URL:https://www.apua.ag/outage/electricity-maintenance-schedule-section-of-all-saints-south-of-smokey-and-mount-trula/
CATEGORIES:Maintenance
END:VEVENT
BEGIN:VEVENT
DTSTART;TZID=America/Antigua:20210513T084500
DTEND;TZID=America/Antigua:20210513T113000
DTSTAMP:20260424T224621
CREATED:20210510T125530Z
LAST-MODIFIED:20210510T125530Z
UID:1830-1620895500-1620905400@www.apua.ag
SUMMARY:Electricity Maintenance Schedule - Section of Scotts Hill
DESCRIPTION:Please note that Electricity will be suppressed during this period.\nDate: Thursday\, 13th May 2021 \nTime: 8:45AM – 11:30AM \nAffected areas: Section of Scotts Hill \n
URL:https://www.apua.ag/outage/electricity-maintenance-schedule-section-of-scotts-hill/
CATEGORIES:Maintenance
END:VEVENT
BEGIN:VEVENT
DTSTART;TZID=America/Antigua:20210514T084500
DTEND;TZID=America/Antigua:20210514T113000
DTSTAMP:20260424T224621
CREATED:20210510T125831Z
LAST-MODIFIED:20210510T125831Z
UID:1832-1620981900-1620991800@www.apua.ag
SUMMARY:Electricity Maintenance Schedule – Section of Potters west of the Adventist Church
DESCRIPTION:Please note that Electricity will be suppressed during this period.\nDate: Friday\, 14th May 2021 \nTime: 8:45AM – 11:30AM \nAffected areas: Section of Potters west of the Adventist Church \n
URL:https://www.apua.ag/outage/electricity-maintenance-schedule-section-of-potters-west-of-the-adventist-church/
CATEGORIES:Maintenance
END:VEVENT
BEGIN:VEVENT
DTSTART;TZID=America/Antigua:20210517T083000
DTEND;TZID=America/Antigua:20210517T113000
DTSTAMP:20260424T224621
CREATED:20210516T142319Z
LAST-MODIFIED:20210517T142356Z
UID:1900-1621240200-1621251000@www.apua.ag
SUMMARY:Electricity Maintenance Schedule – Section of All Saint west of gas station & Clark's Hill
DESCRIPTION:Please note that Electricity will be suppressed during this period.\nDate: Monday\, 17th May 2021 \nTime: 8:30AM – 11:30AM \nAffected areas: Section of All Saint west of gas station & Clark’s Hill \n
URL:https://www.apua.ag/outage/electricity-maintenance-schedule-section-of-all-saint-west-of-gas-station-clarks-hill/
CATEGORIES:Maintenance
END:VEVENT
BEGIN:VEVENT
DTSTART;TZID=America/Antigua:20210518T083000
DTEND;TZID=America/Antigua:20210518T113000
DTSTAMP:20260424T224621
CREATED:20210517T142645Z
LAST-MODIFIED:20210517T142645Z
UID:1903-1621326600-1621337400@www.apua.ag
SUMMARY:Electricity Maintenance Schedule – Section of Radio Range near St. Lutheran Church
DESCRIPTION:Please note that Electricity will be suppressed during this period.\nDate: Tuesday\, 18th May 2021 \nTime: 8:30AM – 11:30AM \nAffected areas: Section of Radio Range near St. Lutheran Church \n
URL:https://www.apua.ag/outage/electricity-maintenance-schedule-section-of-radio-range-near-st-lutheran-church/
CATEGORIES:Maintenance
END:VEVENT
BEGIN:VEVENT
DTSTART;TZID=America/Antigua:20210519T083000
DTEND;TZID=America/Antigua:20210519T113000
DTSTAMP:20260424T224621
CREATED:20210517T143156Z
LAST-MODIFIED:20210517T143156Z
UID:1907-1621413000-1621423800@www.apua.ag
SUMMARY:Electricity Maintenance Schedule – Affected areas: Section of Pares near Baptiste Retreat Centre
DESCRIPTION:Please note that Electricity will be suppressed during this period.\nDate: Wednesday\, 19th May 2021 \nTime: 8:45AM – 11:30AM \nAffected areas: Section of Pares near Baptiste Retreat Centre \n  \n
URL:https://www.apua.ag/outage/electricity-maintenance-schedule-affected-areas-section-of-pares-near-baptiste-retreat-centre/
CATEGORIES:Maintenance
END:VEVENT
BEGIN:VEVENT
DTSTART;TZID=America/Antigua:20210519T083000
DTEND;TZID=America/Antigua:20210519T130000
DTSTAMP:20260424T224621
CREATED:20210517T143223Z
LAST-MODIFIED:20210517T143223Z
UID:1905-1621413000-1621429200@www.apua.ag
SUMMARY:Electricity Maintenance Schedule – Jolly Harbor\, Hermitage Hotel & Gabriel Development
DESCRIPTION:Please note that Electricity will be suppressed during this period.\nDate: Wednesday\, 19th May 2021 \nTime: 8:30AM – 1:00PM \nAffected areas: Jolly Harbor\, Hermitage Hotel & Gabriel Development \n
URL:https://www.apua.ag/outage/electricity-maintenance-schedule-jolly-harbor-hermitage-hotel-gabriel-development/
CATEGORIES:Maintenance
END:VEVENT
BEGIN:VEVENT
DTSTART;TZID=America/Antigua:20210520T083000
DTEND;TZID=America/Antigua:20210520T113000
DTSTAMP:20260424T224621
CREATED:20210517T143628Z
LAST-MODIFIED:20210517T143628Z
UID:1909-1621499400-1621510200@www.apua.ag
SUMMARY:Electricity Maintenance Schedule – Section of Factory Road near Potters and Johnson
DESCRIPTION:Please note that Electricity will be suppressed during this period.\nDate: Thursday\, 20th May 2021 \nTime: 8:30AM – 11:30AM \nAffected areas: Section of Factory Road near Potters and Johnson \n
URL:https://www.apua.ag/outage/electricity-maintenance-schedule-section-of-factory-road-near-potters-and-johnson/
CATEGORIES:Maintenance
END:VEVENT
BEGIN:VEVENT
DTSTART;TZID=America/Antigua:20210520T083000
DTEND;TZID=America/Antigua:20210520T113000
DTSTAMP:20260424T224621
CREATED:20210517T144100Z
LAST-MODIFIED:20210517T144100Z
UID:1912-1621499400-1621510200@www.apua.ag
SUMMARY:Electricity Maintenance Schedule – Section of Belle View Heights
DESCRIPTION:Please note that Electricity will be suppressed during this period.\nDate: Thursday\, 20th May 2021 \nTime: 8:30AM – 11:30AM \nAffected areas: Section of Belle View Heights \n
URL:https://www.apua.ag/outage/electricity-maintenance-schedule-section-of-belle-view-heights/
CATEGORIES:Maintenance
END:VEVENT
BEGIN:VEVENT
DTSTART;TZID=America/Antigua:20210521T083000
DTEND;TZID=America/Antigua:20210521T113000
DTSTAMP:20260424T224621
CREATED:20210517T150647Z
LAST-MODIFIED:20210517T150647Z
UID:1914-1621585800-1621596600@www.apua.ag
SUMMARY:Electricity Maintenance Schedule – Section of Buckleys Line
DESCRIPTION:Please note that Electricity will be suppressed during this period.\nDate: Friday\, 21st May 2021 \nTime: 8:30AM – 11:30AM \nAffected areas: Section of Buckleys Line \n
URL:https://www.apua.ag/outage/electricity-maintenance-schedule-section-of-buckleys-line/
CATEGORIES:Maintenance
END:VEVENT
BEGIN:VEVENT
DTSTART;TZID=America/Antigua:20210525T083000
DTEND;TZID=America/Antigua:20210525T113000
DTSTAMP:20260424T224621
CREATED:20210525T133759Z
LAST-MODIFIED:20210525T133759Z
UID:1916-1621931400-1621942200@www.apua.ag
SUMMARY:Electricity Maintenance Schedule – Section of Armstrong Road
DESCRIPTION:Please note that Electricity will be suppressed during this period.\nDate: Tuesday\, 25th May 2021 \nTime: 8:30AM – 11:30AM \nAffected areas: Section of Armstrong Road \n
URL:https://www.apua.ag/outage/electricity-maintenance-schedule-section-of-armstrong-road/
CATEGORIES:Maintenance
END:VEVENT
BEGIN:VEVENT
DTSTART;TZID=America/Antigua:20210526T083000
DTEND;TZID=America/Antigua:20210526T110000
DTSTAMP:20260424T224621
CREATED:20210525T140209Z
LAST-MODIFIED:20210525T140209Z
UID:1918-1622017800-1622026800@www.apua.ag
SUMMARY:Electricity Maintenance Schedule – Section of Nut Grove\, Golden Grove and Antigua State College
DESCRIPTION:Please note that Electricity will be suppressed during this period.\nDate: Wednesday\, 26th May 2021 \nTime: 8:30AM – 11:00AM \nAffected areas: Section of Nut Grove\, Golden Grove and Antigua State College. \n
URL:https://www.apua.ag/outage/electricity-maintenance-schedule-section-of-nut-grove-golden-grove-and-antigua-state-college/
CATEGORIES:Maintenance
END:VEVENT
BEGIN:VEVENT
DTSTART;TZID=America/Antigua:20210527T083000
DTEND;TZID=America/Antigua:20210527T113000
DTSTAMP:20260424T224621
CREATED:20210525T135549Z
LAST-MODIFIED:20210525T135549Z
UID:1920-1622104200-1622115000@www.apua.ag
SUMMARY:Electricity Maintenance Schedule – Section of Hatton on the main road
DESCRIPTION:Please note that Electricity will be suppressed during this period.\nDate: Thursday\, 27th May 2021 \nTime: 8:30AM – 11:30AM \nAffected areas: Section of Hatton on the main road \n
URL:https://www.apua.ag/outage/electricity-maintenance-schedule-section-of-hatton-on-the-main-road/
CATEGORIES:Maintenance
END:VEVENT
BEGIN:VEVENT
DTSTART;TZID=America/Antigua:20210528T083000
DTEND;TZID=America/Antigua:20210528T113000
DTSTAMP:20260424T224621
CREATED:20210525T135830Z
LAST-MODIFIED:20210525T135830Z
UID:1922-1622190600-1622201400@www.apua.ag
SUMMARY:Electricity Maintenance Schedule – Section of Hatton on the main road
DESCRIPTION:Please note that Electricity will be suppressed during this period.\nDate: Friday\, 28th May 2021 \nTime: 8:30AM – 11:30AM \nAffected areas: Section of Hatton on the main road \n
URL:https://www.apua.ag/outage/electricity-maintenance-schedule-section-of-hatton-on-the-main-road-2/
CATEGORIES:Maintenance
END:VEVENT
BEGIN:VEVENT
DTSTART;TZID=America/Antigua:20210531T083000
DTEND;TZID=America/Antigua:20210531T113000
DTSTAMP:20260424T224621
CREATED:20210531T131107Z
LAST-MODIFIED:20210531T131107Z
UID:1931-1622449800-1622460600@www.apua.ag
SUMMARY:Electricity Maintenance Schedule – Section of Friars Hill Road
DESCRIPTION:Please note that Electricity will be suppressed during this period.\nDate: Monday\, 31st May 2021 \nTime: 8:30AM – 11:30AM \nAffected areas: Section of Friars Hill Road \n
URL:https://www.apua.ag/outage/electricity-maintenance-schedule-section-of-friars-hill-road/
CATEGORIES:Maintenance
END:VEVENT
BEGIN:VEVENT
DTSTART;TZID=America/Antigua:20210531T083000
DTEND;TZID=America/Antigua:20210531T113000
DTSTAMP:20260424T224621
CREATED:20210531T132413Z
LAST-MODIFIED:20210531T132413Z
UID:1933-1622449800-1622460600@www.apua.ag
SUMMARY:Electricity Maintenance Schedule –Section of Pares near the Baptiste Retreat Center
DESCRIPTION:Please note that Electricity will be suppressed during this period.\nDate: Monday\, 31st May 2021 \nTime: 8:30AM – 11:30AM \nAffected areas: Section of Pares near the Baptiste Retreat Center \n
URL:https://www.apua.ag/outage/electricity-maintenance-schedule-section-of-pares-near-the-baptiste-retreat-center/
CATEGORIES:Maintenance
END:VEVENT
BEGIN:VEVENT
DTSTART;TZID=America/Antigua:20210601T083000
DTEND;TZID=America/Antigua:20210601T113000
DTSTAMP:20260424T224621
CREATED:20210531T132613Z
LAST-MODIFIED:20210531T132613Z
UID:1936-1622536200-1622547000@www.apua.ag
SUMMARY:Electricity Maintenance Schedule – Glanvilles\, Seatons\, Carty's Hill\, Willikies\, Emeralds Cove & Long Bay
DESCRIPTION:Please note that Electricity will be suppressed during this period.\nDate: Tuesday\, 1st June 2021 \nTime: 8:30AM – 11:30AM \nAffected areas: Glanville\, Seatons\, Carty’s Hill\, Willikies\, Emeralds Cove & Long Bay \n  \n  \n
URL:https://www.apua.ag/outage/electricity-maintenance-schedule-glanvilles-seatons-cartys-hill-willikies-emeralds-cove-long-bay/
CATEGORIES:Maintenance
END:VEVENT
BEGIN:VEVENT
DTSTART;TZID=America/Antigua:20210602T133000
DTEND;TZID=America/Antigua:20210602T150000
DTSTAMP:20260424T224621
CREATED:20210531T132908Z
LAST-MODIFIED:20210531T132908Z
UID:1938-1622640600-1622646000@www.apua.ag
SUMMARY:Electricity Maintenance Schedule – Section of Denfields Housing Project 
DESCRIPTION:Please note that Electricity will be suppressed during this period.\nDate: Wednesday\, 2nd June  2021 \nTime: 1:30PM – 3:00PM \nAffected areas: Section of Denfields Housing Project \n
URL:https://www.apua.ag/outage/electricity-maintenance-schedule-section-of-denfields-housing-project/
CATEGORIES:Maintenance
END:VEVENT
BEGIN:VEVENT
DTSTART;TZID=America/Antigua:20210603T083000
DTEND;TZID=America/Antigua:20210603T120000
DTSTAMP:20260424T224621
CREATED:20210531T133039Z
LAST-MODIFIED:20210531T133039Z
UID:1940-1622709000-1622721600@www.apua.ag
SUMMARY:Electricity Maintenance Schedule – Section of Herberts\, All Saints Road and Law Pasture
DESCRIPTION:Please note that Electricity will be suppressed during this period.\nDate: Thursday\, 3rd June 2021 \nTime: 8:30AM – 12:00PM \nAffected areas: Section of Herberts\, All Saints Road and Law Pasture \n
URL:https://www.apua.ag/outage/electricity-maintenance-schedule-section-of-herberts-all-saints-road-and-law-pasture/
CATEGORIES:Maintenance
END:VEVENT
END:VCALENDAR