BEGIN:VCALENDAR
VERSION:2.0
PRODID:-//Antigua Public Utilities Authority (APUA) - ECPv5.1.2.1//NONSGML v1.0//EN
CALSCALE:GREGORIAN
METHOD:PUBLISH
X-WR-CALNAME:Antigua Public Utilities Authority (APUA)
X-ORIGINAL-URL:https://www.apua.ag
X-WR-CALDESC:Events for Antigua Public Utilities Authority (APUA)
BEGIN:VTIMEZONE
TZID:America/Antigua
BEGIN:STANDARD
TZOFFSETFROM:-0400
TZOFFSETTO:-0400
TZNAME:AST
DTSTART:20210101T000000
END:STANDARD
END:VTIMEZONE
BEGIN:VEVENT
DTSTART;TZID=America/Antigua:20210719T135500
DTEND;TZID=America/Antigua:20210719T150000
DTSTAMP:20260421T224109
CREATED:20210719T142136Z
LAST-MODIFIED:20210719T142136Z
UID:1956-1626702900-1626706800@www.apua.ag
SUMMARY:Electricity Maintenance Schedule – Section of Martin’s Village
DESCRIPTION:Please note that Electricity will be suppressed during this period.\nDate: Monday\, 19th July 2021 \nTime: 1:55 PM  –  3:00 PM \nAffected areas: Section of Martin’s Village \n
URL:https://www.apua.ag/outage/electricity-maintenance-schedule-section-of-martins-village/
CATEGORIES:Maintenance,Scheduled Outages
END:VEVENT
BEGIN:VEVENT
DTSTART;TZID=America/Antigua:20210720T082000
DTEND;TZID=America/Antigua:20210720T113000
DTSTAMP:20260421T224109
CREATED:20210719T142407Z
LAST-MODIFIED:20210719T142407Z
UID:1959-1626769200-1626780600@www.apua.ag
SUMMARY:Electricity Maintenance Schedule – Section of Briggins near the pond
DESCRIPTION:Please note that Electricity will be suppressed during this period.\nDate: Tuesday\, 20th July 2021 \nTime: 8:20 AM  –  11:30 AM \nAffected areas: Section of Briggins near the pond \n  \n  \n
URL:https://www.apua.ag/outage/electricity-maintenance-schedule-section-of-briggins-near-the-pond/
CATEGORIES:Maintenance,Scheduled Outages
END:VEVENT
BEGIN:VEVENT
DTSTART;TZID=America/Antigua:20210720T083000
DTEND;TZID=America/Antigua:20210720T110000
DTSTAMP:20260421T224109
CREATED:20210719T142638Z
LAST-MODIFIED:20210719T142638Z
UID:1961-1626769800-1626778800@www.apua.ag
SUMMARY:Electricity Maintenance Schedule – Section of Whenner Road
DESCRIPTION:Please note that Electricity will be suppressed during this period.\nDate: Tuesday\, 20th July 2021 \nTime: 8:30 AM  –  11:00 AM \nAffected areas: Section of Whenner Road \n  \n
URL:https://www.apua.ag/outage/electricity-maintenance-schedule-section-of-whenner-road/
CATEGORIES:Maintenance,Scheduled Outages
END:VEVENT
BEGIN:VEVENT
DTSTART;TZID=America/Antigua:20210721T082000
DTEND;TZID=America/Antigua:20210721T113000
DTSTAMP:20260421T224109
CREATED:20210719T143636Z
LAST-MODIFIED:20210719T143636Z
UID:1963-1626855600-1626867000@www.apua.ag
SUMMARY:Electricity Maintenance Schedule – Section of Gray’s Farm near the basketball court
DESCRIPTION:Please note that Electricity will be suppressed during this period.\nDate: Wednesday\, 21st  July  2021 \nTime: 8:20 AM  –  11:30 AM \nAffected areas: Section of Gray’s Farm near the basketball court \n
URL:https://www.apua.ag/outage/electricity-maintenance-schedule-section-of-grays-farm-near-the-basketball-court/
CATEGORIES:Maintenance,Scheduled Outages
END:VEVENT
BEGIN:VEVENT
DTSTART;TZID=America/Antigua:20210721T083000
DTEND;TZID=America/Antigua:20210721T113000
DTSTAMP:20260421T224109
CREATED:20210719T144025Z
LAST-MODIFIED:20210719T144025Z
UID:1965-1626856200-1626867000@www.apua.ag
SUMMARY:Electricity Maintenance Schedule – Fort James
DESCRIPTION:Please note that Electricity will be suppressed during this period.\nDate: Wednesday\, 21st  July  2021 \nTime: 8:30 AM  –  11:30 AM \nAffected areas: Fort James \n
URL:https://www.apua.ag/outage/electricity-maintenance-schedule-fort-james/
CATEGORIES:Maintenance,Scheduled Outages
END:VEVENT
BEGIN:VEVENT
DTSTART;TZID=America/Antigua:20210722T083000
DTEND;TZID=America/Antigua:20210722T113000
DTSTAMP:20260421T224109
CREATED:20210719T144601Z
LAST-MODIFIED:20210719T144601Z
UID:1967-1626942600-1626953400@www.apua.ag
SUMMARY:Electricity Maintenance Schedule – Section of Old Parham Road near M&M gas station
DESCRIPTION:Please note that Electricity will be suppressed during this period.\nDate: Thursday\, 22nd July 2021 \nTime: 8:30 AM  –  11:30 AM \nAffected areas: Section of Old Parham Road near M&M gas station \n  \n  \n
URL:https://www.apua.ag/outage/electricity-maintenance-schedule-section-of-old-parham-road-near-mm-gas-station/
CATEGORIES:Maintenance,Scheduled Outages
END:VEVENT
BEGIN:VEVENT
DTSTART;TZID=America/Antigua:20210722T083000
DTEND;TZID=America/Antigua:20210722T113000
DTSTAMP:20260421T224109
CREATED:20210719T144810Z
LAST-MODIFIED:20210719T144810Z
UID:1969-1626942600-1626953400@www.apua.ag
SUMMARY:Electricity Maintenance Schedule – Section of Golden Grove near Brother’s Farrell’s church
DESCRIPTION:Please note that Electricity will be suppressed during this period.\nDate: Thursday\, 22nd July 2021 \nTime: 8:30 AM  –  11:30 AM \nAffected areas: Section of Golden Grove near Brother’s Farrell’s church \n  \n
URL:https://www.apua.ag/outage/electricity-maintenance-schedule-section-of-golden-grove-near-brothers-farrells-church/
CATEGORIES:Maintenance,Scheduled Outages
END:VEVENT
BEGIN:VEVENT
DTSTART;TZID=America/Antigua:20210723T082000
DTEND;TZID=America/Antigua:20210723T113000
DTSTAMP:20260421T224109
CREATED:20210719T145112Z
LAST-MODIFIED:20210719T145112Z
UID:1971-1627028400-1627039800@www.apua.ag
SUMMARY:Electricity Maintenance Schedule – Section of Golden Grove near the gas station
DESCRIPTION:Please note that Electricity will be suppressed during this period.\nDate: Friday\, 23rd July 2021 \nTime: 8:20 AM  –  11:30 AM \nAffected areas: Section of Golden Grove near the gas station \n  \n
URL:https://www.apua.ag/outage/electricity-maintenance-schedule-section-of-golden-grove-near-the-gas-station/
CATEGORIES:Maintenance,Scheduled Outages
END:VEVENT
BEGIN:VEVENT
DTSTART;TZID=America/Antigua:20210723T082000
DTEND;TZID=America/Antigua:20210723T113000
DTSTAMP:20260421T224109
CREATED:20210719T145239Z
LAST-MODIFIED:20210719T145239Z
UID:1973-1627028400-1627039800@www.apua.ag
SUMMARY:Electricity Maintenance Schedule – Section of Swetes
DESCRIPTION:Please note that Electricity will be suppressed during this period.\nDate: Friday\, 23rd July 2021 \nTime: 8:20 AM  –  11:30 AM \nAffected areas: Section of Swetes \n  \n
URL:https://www.apua.ag/outage/electricity-maintenance-schedule-section-of-swetes/
CATEGORIES:Maintenance,Scheduled Outages
END:VEVENT
BEGIN:VEVENT
DTSTART;TZID=America/Antigua:20210726T083000
DTEND;TZID=America/Antigua:20210726T113000
DTSTAMP:20260421T224109
CREATED:20210723T185644Z
LAST-MODIFIED:20210723T193712Z
UID:1981-1627288200-1627299000@www.apua.ag
SUMMARY:Electricity Maintenance Schedule – Section of Fitches Creek south west of the Anglican Church
DESCRIPTION:Please note that Electricity will be suppressed during this period.\nDate: Monday\, 26th July 2021 \nTime: 8:30 AM  –  11:30 AM \nAffected areas:  Section of Fitches Creek south west of the Anglican Church \n
URL:https://www.apua.ag/outage/electricity-maintenance-schedule-section-of-fitches-creek-south-west-of-the-anglican-church/
CATEGORIES:Maintenance
END:VEVENT
BEGIN:VEVENT
DTSTART;TZID=America/Antigua:20210727T083000
DTEND;TZID=America/Antigua:20210727T113000
DTSTAMP:20260421T224109
CREATED:20210723T190131Z
LAST-MODIFIED:20210723T190131Z
UID:1983-1627374600-1627385400@www.apua.ag
SUMMARY:Electricity Maintenance Schedule – Section of All Saint Road west of A&R PlumbElectric Ltd
DESCRIPTION:Please note that Electricity will be suppressed during this period.\nDate: Tuesday\, 27th July 2021 \nTime: 8:30 AM  –  11:30 AM \nAffected areas: Section of All Saint Road west of A&R PlumbElectric Ltd \n
URL:https://www.apua.ag/outage/section-of-all-saint-road-west-of-ar-plumbelectric-ltd/
CATEGORIES:Maintenance
END:VEVENT
BEGIN:VEVENT
DTSTART;TZID=America/Antigua:20210728T083000
DTEND;TZID=America/Antigua:20210728T113000
DTSTAMP:20260421T224109
CREATED:20210723T190611Z
LAST-MODIFIED:20210723T190611Z
UID:1988-1627461000-1627471800@www.apua.ag
SUMMARY:Electricity Maintenance Schedule – Section of Bolans south of the primary school
DESCRIPTION:Please note that Electricity will be suppressed during this period.\nDate: Wednesday\, 28th July 2021 \nTime: 8:30 AM  –  11:30 AM \nAffected areas: Section of Bolans south of the primary school \n  \n  \n
URL:https://www.apua.ag/outage/electricity-maintenance-schedule-section-of-bolans-south-of-the-primary-school/
CATEGORIES:Maintenance
END:VEVENT
BEGIN:VEVENT
DTSTART;TZID=America/Antigua:20210729T083000
DTEND;TZID=America/Antigua:20210729T113000
DTSTAMP:20260421T224109
CREATED:20210728T201020Z
LAST-MODIFIED:20210728T201020Z
UID:2000-1627547400-1627558200@www.apua.ag
SUMMARY:Electricity Maintenance Schedule – Sections of Ffryes Beach\, south and west of the RO Plant
DESCRIPTION:Please note that Electricity will be suppressed during this period.\nDate: Thursday\, 29th July 2021 \nTime: 8:30 AM  –  11:30 AM \nAffected areas: Sections of Ffryes Beach\, south and west of the RO Plant \n
URL:https://www.apua.ag/outage/electricity-maintenance-schedule-sections-of-ffryes-beach-south-and-west-of-the-ro-plant/
CATEGORIES:Maintenance,Scheduled Outages
END:VEVENT
BEGIN:VEVENT
DTSTART;TZID=America/Antigua:20210730T083000
DTEND;TZID=America/Antigua:20210730T113000
DTSTAMP:20260421T224109
CREATED:20210723T191037Z
LAST-MODIFIED:20210723T193531Z
UID:1990-1627633800-1627644600@www.apua.ag
SUMMARY:Electricity Maintenance Schedule – Sections of Golden Grove north & east of the Dominican Republic embassy
DESCRIPTION:Please note that Electricity will be suppressed during this period.\nDate: Friday\, 30th July 2021 \nTime: 8:30 AM  –  11:30 AM \nAffected areas: Sections of Golden Grove north & east of the Dominican Republic embassy \n
URL:https://www.apua.ag/outage/electricity-maintenance-schedule-section-of-golden-grove-north-east-of-the-dominican-embassy/
CATEGORIES:Maintenance
END:VEVENT
BEGIN:VEVENT
DTSTART;TZID=America/Antigua:20210730T083000
DTEND;TZID=America/Antigua:20210730T113000
DTSTAMP:20260421T224109
CREATED:20210723T191305Z
LAST-MODIFIED:20210723T191305Z
UID:1992-1627633800-1627644600@www.apua.ag
SUMMARY:Electricity Maintenance Schedule – Section of Old Road near the burial ground
DESCRIPTION:Please note that Electricity will be suppressed during this period.\nDate: Friday\, 30th July 2021 \nTime: 8:30 AM  –  11:30 AM \nAffected areas: Section of Old Road near the burial ground \n
URL:https://www.apua.ag/outage/electricity-maintenance-schedule-section-of-old-road-near-the-burial-ground/
CATEGORIES:Maintenance
END:VEVENT
BEGIN:VEVENT
DTSTART;TZID=America/Antigua:20210730T083000
DTEND;TZID=America/Antigua:20210730T113000
DTSTAMP:20260421T224109
CREATED:20210728T201448Z
LAST-MODIFIED:20210728T201448Z
UID:2002-1627633800-1627644600@www.apua.ag
SUMMARY:Electricity Maintenance Schedule – Section of Golden Grove north of the Adventist Church
DESCRIPTION:Please note that Electricity will be suppressed during this period.\nDate: Friday\, 30th July 2021 \nTime: 8:30 AM  –  11:30 AM \nAffected areas: Section of Golden Grove north of the Adventist Church \n
URL:https://www.apua.ag/outage/electricity-maintenance-schedule-section-of-golden-grove-north-of-the-adventist-church-2/
CATEGORIES:Maintenance,Scheduled Outages
END:VEVENT
END:VCALENDAR