BEGIN:VCALENDAR
VERSION:2.0
PRODID:-//Antigua Public Utilities Authority (APUA) - ECPv5.1.2.1//NONSGML v1.0//EN
CALSCALE:GREGORIAN
METHOD:PUBLISH
X-WR-CALNAME:Antigua Public Utilities Authority (APUA)
X-ORIGINAL-URL:https://www.apua.ag
X-WR-CALDESC:Events for Antigua Public Utilities Authority (APUA)
BEGIN:VTIMEZONE
TZID:America/Antigua
BEGIN:STANDARD
TZOFFSETFROM:-0400
TZOFFSETTO:-0400
TZNAME:AST
DTSTART:20210101T000000
END:STANDARD
END:VTIMEZONE
BEGIN:VEVENT
DTSTART;TZID=America/Antigua:20210831T083000
DTEND;TZID=America/Antigua:20210831T120000
DTSTAMP:20260421T222345
CREATED:20210827T171759Z
LAST-MODIFIED:20210827T171759Z
UID:2098-1630398600-1630411200@www.apua.ag
SUMMARY:Electricity Maintenance Schedule – Section of Vernons Estate near Parham corner
DESCRIPTION:Please note that Electricity will be suppressed during this period.\nDate: Tuesday\, 31st August 2021 \nTime: 8:30 AM  –  12:00 PM \nAffected areas: Section of Vernons Estate near Parham corner \n
URL:https://www.apua.ag/outage/electricity-maintenance-schedule-section-of-vernons-estate-near-parham-corner/
CATEGORIES:Maintenance,Scheduled Outages
END:VEVENT
BEGIN:VEVENT
DTSTART;TZID=America/Antigua:20210901T083000
DTEND;TZID=America/Antigua:20210901T110000
DTSTAMP:20260421T222345
CREATED:20210827T172901Z
LAST-MODIFIED:20210827T172901Z
UID:2100-1630485000-1630494000@www.apua.ag
SUMMARY:Electricity Maintenance Schedule – Section of Bendals in the vicinity of Masonry Products
DESCRIPTION:Please note that Electricity will be suppressed during this period.\nDate: Wednesday\, 1st September 2021 \nTime: 8:30 AM  –  11:00 AM \nAffected areas: Section of Bendals in the vicinity of Masonry Products \n
URL:https://www.apua.ag/outage/electricity-maintenance-schedule-section-of-bendals-in-the-vicinity-of-masonry-products/
CATEGORIES:Maintenance,Scheduled Outages
END:VEVENT
BEGIN:VEVENT
DTSTART;TZID=America/Antigua:20210901T083000
DTEND;TZID=America/Antigua:20210901T113000
DTSTAMP:20260421T222345
CREATED:20210827T174011Z
LAST-MODIFIED:20210827T174011Z
UID:2102-1630485000-1630495800@www.apua.ag
SUMMARY:Electricity Maintenance Schedule – Bendals Water Treatment Plant
DESCRIPTION:Please note that Electricity will be suppressed during this period.\nDate: Wednesday\, 1st September 2021 \nTime: 8:30 AM  –  11:30 AM \nAffected areas: Bendals Water Treatment Plant \n
URL:https://www.apua.ag/outage/electricity-maintenance-schedule-bendals-water-treatment-plant/
CATEGORIES:Maintenance,Scheduled Outages
END:VEVENT
BEGIN:VEVENT
DTSTART;TZID=America/Antigua:20210902T083000
DTEND;TZID=America/Antigua:20210902T113000
DTSTAMP:20260421T222345
CREATED:20210827T174153Z
LAST-MODIFIED:20210827T174153Z
UID:2104-1630571400-1630582200@www.apua.ag
SUMMARY:Electricity Maintenance Schedule – Section of All Saints near the reservoir and Monchulla
DESCRIPTION:Please note that Electricity will be suppressed during this period.\nDate: Thursday\, 2nd September 2021 \nTime: 8:30 AM  –  11:30 AM \nAffected areas: Section of All Saints near the reservoir and Monchulla \n
URL:https://www.apua.ag/outage/electricity-maintenance-schedule-section-of-all-saints-near-the-reservoir-and-monchulla/
CATEGORIES:Maintenance,Scheduled Outages
END:VEVENT
BEGIN:VEVENT
DTSTART;TZID=America/Antigua:20210903T083000
DTEND;TZID=America/Antigua:20210903T110000
DTSTAMP:20260421T222345
CREATED:20210827T174546Z
LAST-MODIFIED:20210827T174546Z
UID:2106-1630657800-1630666800@www.apua.ag
SUMMARY:Electricity Maintenance Schedule – Whenner Road
DESCRIPTION:Please note that Electricity will be suppressed during this period.\nDate: Friday\, 3rd September  2021 \nTime: 8:30 AM  –  11:00 AM \nAffected areas: Whenner Road \n
URL:https://www.apua.ag/outage/electricity-maintenance-schedule-whenner-road/
CATEGORIES:Maintenance,Scheduled Outages
END:VEVENT
BEGIN:VEVENT
DTSTART;TZID=America/Antigua:20210906T080000
DTEND;TZID=America/Antigua:20210906T130000
DTSTAMP:20260421T222345
CREATED:20210903T180914Z
LAST-MODIFIED:20210903T180914Z
UID:2148-1630915200-1630933200@www.apua.ag
SUMMARY:Electricity Maintenance Schedule – Section of Old Parham Road near VJ’s Bakery
DESCRIPTION:Please note that Electricity will be suppressed during this period.\nDate: Monday\, 6st September 2021 \nTime: 8:00 AM – 1:00 PM \nAffected areas: Section of Old Parham Road near VJ’s Bakery \n
URL:https://www.apua.ag/outage/electricity-maintenance-schedule-section-of-old-parham-road-near-vjs-bakery/
CATEGORIES:Maintenance,Scheduled Outages
END:VEVENT
BEGIN:VEVENT
DTSTART;TZID=America/Antigua:20210906T083000
DTEND;TZID=America/Antigua:20210906T113000
DTSTAMP:20260421T222345
CREATED:20210903T181245Z
LAST-MODIFIED:20210906T132632Z
UID:2150-1630917000-1630927800@www.apua.ag
SUMMARY:Electricity Maintenance Schedule – Section of Clare Hall near JSC
DESCRIPTION:Please note that Electricity will be suppressed during this period.\nDate: Monday\, 6th September 2021 \nTime: 8:30 AM – 11:30 AM \nAffected areas: Section of Clare Hall near the basketball court \n
URL:https://www.apua.ag/outage/electricity-maintenance-schedule-section-of-clare-hall-near-jsc/
CATEGORIES:Maintenance,Scheduled Outages
END:VEVENT
BEGIN:VEVENT
DTSTART;TZID=America/Antigua:20210906T083000
DTEND;TZID=America/Antigua:20210906T113000
DTSTAMP:20260421T222345
CREATED:20210903T181728Z
LAST-MODIFIED:20210906T132425Z
UID:2152-1630917000-1630927800@www.apua.ag
SUMMARY:Electricity Maintenance Schedule – Section of Buckley Line west of the Roundabout
DESCRIPTION:Please note that Electricity will be suppressed during this period.\nDate: Monday\, 6th September 2021 \nTime: 8:30 AM – 11:30 AM \nAffected areas: Section of Buckley Line west of the Roundabout \n
URL:https://www.apua.ag/outage/electricity-maintenance-schedule-section-of-buckley-line-west-of-the-roundabout/
CATEGORIES:Maintenance,Scheduled Outages
END:VEVENT
BEGIN:VEVENT
DTSTART;TZID=America/Antigua:20210907T083000
DTEND;TZID=America/Antigua:20210907T113000
DTSTAMP:20260421T222345
CREATED:20210903T182119Z
LAST-MODIFIED:20210906T132248Z
UID:2155-1631003400-1631014200@www.apua.ag
SUMMARY:Electricity Maintenance Schedule – Section of Bendals east of the Primary School
DESCRIPTION:Please note that Electricity will be suppressed during this period.\nDate: Tuesday\, 7th September 2021 \nTime: 8:30 AM – 11:30 AM \nAffected areas: Section of Bendals east of the Primary School \n
URL:https://www.apua.ag/outage/electricity-maintenance-schedule-section-of-bendals-east-of-the-primary-school/
CATEGORIES:Maintenance,Scheduled Outages
END:VEVENT
BEGIN:VEVENT
DTSTART;TZID=America/Antigua:20210907T092000
DTEND;TZID=America/Antigua:20210907T103000
DTSTAMP:20260421T222345
CREATED:20210903T182559Z
LAST-MODIFIED:20210903T182559Z
UID:2157-1631006400-1631010600@www.apua.ag
SUMMARY:Electricity Maintenance Schedule – New Winthropes and Cedar Valley
DESCRIPTION:Please note that Electricity will be suppressed during this period.\nDate: Tuesday\, 7th September 2021 \nTime: 9:20 AM – 10:30 AM \nAffected areas: New Winthropes and Cedar Valley \n
URL:https://www.apua.ag/outage/electricity-maintenance-schedule-new-winthropes-and-cedar-valley/
CATEGORIES:Maintenance,Scheduled Outages
END:VEVENT
BEGIN:VEVENT
DTSTART;TZID=America/Antigua:20210908T083000
DTEND;TZID=America/Antigua:20210908T113000
DTSTAMP:20260421T222345
CREATED:20210903T182936Z
LAST-MODIFIED:20210903T182936Z
UID:2159-1631089800-1631100600@www.apua.ag
SUMMARY:Electricity Maintenance Schedule – Section of Wallings including Zip Line and a small section of Old Road
DESCRIPTION:Please note that Electricity will be suppressed during this period.\nDate: Wednesday\, 8th September 2021 \nTime: 8:30 AM – 11:30 AM \nAffected areas: Section of Wallings including Zip Line and a small section of Old Road \n
URL:https://www.apua.ag/outage/electricity-maintenance-schedule-section-of-wallings-including-zip-line-and-a-small-section-of-old-road/
CATEGORIES:Maintenance,Scheduled Outages
END:VEVENT
BEGIN:VEVENT
DTSTART;TZID=America/Antigua:20210908T083000
DTEND;TZID=America/Antigua:20210908T113000
DTSTAMP:20260421T222345
CREATED:20210903T183400Z
LAST-MODIFIED:20210903T183400Z
UID:2161-1631089800-1631100600@www.apua.ag
SUMMARY:Electricity Maintenance Schedule – Section of Herberts east of Brownies
DESCRIPTION:Please note that Electricity will be suppressed during this period.\nDate: Wednesday\, 8th September 2021 \nTime: 8:30 AM – 11:30 AM \nAffected areas: Section of Herberts east of Brownies \n
URL:https://www.apua.ag/outage/electricity-maintenance-schedule-section-of-herberts-east-of-brownies/
CATEGORIES:Maintenance,Scheduled Outages
END:VEVENT
BEGIN:VEVENT
DTSTART;TZID=America/Antigua:20210909T083000
DTEND;TZID=America/Antigua:20210909T113000
DTSTAMP:20260421T222345
CREATED:20210903T183735Z
LAST-MODIFIED:20210906T132024Z
UID:2163-1631176200-1631187000@www.apua.ag
SUMMARY:Electricity Maintenance Schedule – Piggotts\, Fitches Creek\, Paynters and Sir Vivian Richards Stadium
DESCRIPTION:Please note that Electricity will be suppressed during this period.\nDate: Thursday\, 9th September 2021 \nTime: 8:30 AM – 11:30 AM \nAffected areas: Piggotts\, Fitches Creek\, Paynters and Sir Vivian Richards Stadium \n
URL:https://www.apua.ag/outage/electricity-maintenance-schedule-piggotts-fitches-creek-paynters-and-stadium/
CATEGORIES:Maintenance,Scheduled Outages
END:VEVENT
BEGIN:VEVENT
DTSTART;TZID=America/Antigua:20210909T083000
DTEND;TZID=America/Antigua:20210909T094500
DTSTAMP:20260421T222345
CREATED:20210903T184103Z
LAST-MODIFIED:20210906T131728Z
UID:2165-1631176200-1631180700@www.apua.ag
SUMMARY:Electricity Maintenance Schedule – Burma Road and Sir Vivian Richards Stadium
DESCRIPTION:Please note that Electricity will be suppressed during this period.\nDate: Thursday\, 9th September 2021 \nTime: 8:30 AM – 9:45 AM \nAffected areas: Burma Road and Sir Vivian Richards Stadium \n
URL:https://www.apua.ag/outage/electricity-maintenance-schedule-burma-road-and-stadium/
CATEGORIES:Maintenance,Scheduled Outages
END:VEVENT
BEGIN:VEVENT
DTSTART;TZID=America/Antigua:20210910T080000
DTEND;TZID=America/Antigua:20210910T130000
DTSTAMP:20260421T222345
CREATED:20210903T184255Z
LAST-MODIFIED:20210903T184255Z
UID:2167-1631260800-1631278800@www.apua.ag
SUMMARY:Electricity Maintenance Schedule – Section of Falmouth near Edwards Road
DESCRIPTION:Please note that Electricity will be suppressed during this period.\nDate: Friday\, 10th September 2021 \nTime: 8:00 AM – 1:00 PM \nAffected areas: Section of Falmouth near Edwards Road \n
URL:https://www.apua.ag/outage/electricity-maintenance-schedule-section-of-falmouth-near-edwards-road/
CATEGORIES:Maintenance,Scheduled Outages
END:VEVENT
BEGIN:VEVENT
DTSTART;TZID=America/Antigua:20210910T083000
DTEND;TZID=America/Antigua:20210910T110000
DTSTAMP:20260421T222345
CREATED:20210903T184746Z
LAST-MODIFIED:20210903T184746Z
UID:2169-1631262600-1631271600@www.apua.ag
SUMMARY:Electricity Maintenance Schedule – Urlings\, Johnsons Point and Crab Hill
DESCRIPTION:Please note that Electricity will be suppressed during this period.\nDate: Friday\, 10th September 2021 \nTime: 8:30 AM – 11:00 AM \nAffected areas: Urlings\, Johnsons Point and Crab Hill \n
URL:https://www.apua.ag/outage/electricity-maintenance-schedule-urlings-johnsons-point-and-crab-hill/
CATEGORIES:Maintenance,Scheduled Outages
END:VEVENT
BEGIN:VEVENT
DTSTART;TZID=America/Antigua:20210910T083000
DTEND;TZID=America/Antigua:20210910T113000
DTSTAMP:20260421T222345
CREATED:20210903T185131Z
LAST-MODIFIED:20210906T131805Z
UID:2171-1631262600-1631273400@www.apua.ag
SUMMARY:Electricity Maintenance Schedule – Section of Fort Road\, Penny Lane east of the Ice House
DESCRIPTION:Please note that Electricity will be suppressed during this period.\nDate: Friday\, 10th September 2021 \nTime: 8:30 AM – 11:30 AM \nAffected areas: Section of Fort Road\, Penny Lane east of the Ice House \n
URL:https://www.apua.ag/outage/electricity-maintenance-schedule-section-of-fort-road-penny-lane-east-of-the-ice-house/
CATEGORIES:Maintenance,Scheduled Outages
END:VEVENT
END:VCALENDAR