BEGIN:VCALENDAR
VERSION:2.0
PRODID:-//Antigua Public Utilities Authority (APUA) - ECPv5.1.2.1//NONSGML v1.0//EN
CALSCALE:GREGORIAN
METHOD:PUBLISH
X-WR-CALNAME:Antigua Public Utilities Authority (APUA)
X-ORIGINAL-URL:https://www.apua.ag
X-WR-CALDESC:Events for Antigua Public Utilities Authority (APUA)
BEGIN:VTIMEZONE
TZID:America/Antigua
BEGIN:STANDARD
TZOFFSETFROM:-0400
TZOFFSETTO:-0400
TZNAME:AST
DTSTART:20210101T000000
END:STANDARD
END:VTIMEZONE
BEGIN:VEVENT
DTSTART;TZID=America/Antigua:20211004T082500
DTEND;TZID=America/Antigua:20211004T113000
DTSTAMP:20260421T184452
CREATED:20211004T130542Z
LAST-MODIFIED:20211004T130542Z
UID:2189-1633335900-1633347000@www.apua.ag
SUMMARY:Electricity Maintenance Schedule – Section of Jennings near the old Library and west of the Hardware Store
DESCRIPTION:Please note that Electricity will be suppressed during this period.\nDate: Monday\, 4th October 2021 \nTime: 8:25 AM  –  11:30 AM \nAffected areas: Section of Jennings near the old Library and west of the Hardware Store \n
URL:https://www.apua.ag/outage/electricity-maintenance-schedule-section-of-jennings-near-the-old-library-and-west-of-the-hardware-store/
CATEGORIES:Maintenance,Scheduled Outages
END:VEVENT
BEGIN:VEVENT
DTSTART;TZID=America/Antigua:20211004T082500
DTEND;TZID=America/Antigua:20211004T113000
DTSTAMP:20260421T184452
CREATED:20211004T130757Z
LAST-MODIFIED:20211004T130757Z
UID:2191-1633335900-1633347000@www.apua.ag
SUMMARY:Electricity Maintenance Schedule – Section of Bolans south of the Supermarket opposite the School
DESCRIPTION:Please note that Electricity will be suppressed during this period.\nDate: Monday\, 4th October 2021 \nTime: 8:25 AM – 11:30 AM \nAffected areas: Section of Bolans south of the Supermarket opposite the School \n
URL:https://www.apua.ag/outage/electricity-maintenance-schedule-section-of-bolans-south-of-the-supermarket-opposite-the-school/
CATEGORIES:Maintenance,Scheduled Outages
END:VEVENT
BEGIN:VEVENT
DTSTART;TZID=America/Antigua:20211004T133000
DTEND;TZID=America/Antigua:20211004T150000
DTSTAMP:20260421T184452
CREATED:20211004T153648Z
LAST-MODIFIED:20211004T153648Z
UID:2193-1633354200-1633359600@www.apua.ag
SUMMARY:Electricity Maintenance Schedule – Section of New Winthropes; Date Hill
DESCRIPTION:Please note that Electricity will be suppressed during this period.\nDate: Monday\, 4th October 2021 \nTime: 1:30 PM – 3:00 PM \nAffected areas: Section of New Winthropes; Date Hill \n
URL:https://www.apua.ag/outage/electricity-maintenance-schedule-section-of-new-winthropes-date-hill/
CATEGORIES:Maintenance,Scheduled Outages
END:VEVENT
BEGIN:VEVENT
DTSTART;TZID=America/Antigua:20211005T082500
DTEND;TZID=America/Antigua:20211005T113000
DTSTAMP:20260421T184452
CREATED:20211004T154528Z
LAST-MODIFIED:20211004T154528Z
UID:2195-1633422300-1633433400@www.apua.ag
SUMMARY:Electricity Maintenance Schedule – Glanvilles\, Seatons\, Willikies and Long Bay
DESCRIPTION:Please note that Electricity will be suppressed during this period.\nDate: Tuesday\, 5th October 2021 \nTime: 8:25 AM – 11:30 AM \nAffected areas: Glanvilles\, Seatons\, Willikies and Long Bay \n
URL:https://www.apua.ag/outage/electricity-maintenance-schedule-glanvilles-seatons-willikies-and-long-bay/
CATEGORIES:Maintenance,Scheduled Outages
END:VEVENT
BEGIN:VEVENT
DTSTART;TZID=America/Antigua:20211005T082500
DTEND;TZID=America/Antigua:20211005T113000
DTSTAMP:20260421T184452
CREATED:20211004T154949Z
LAST-MODIFIED:20211004T154949Z
UID:2199-1633422300-1633433400@www.apua.ag
SUMMARY:Electricity Maintenance Schedule – Section of Buckley Line
DESCRIPTION:Please note that Electricity will be suppressed during this period.\nDate: Tuesday\, 5th October 2021 \nTime: 8:25 AM – 11:30 AM \nAffected areas: Section of Buckley Line \n
URL:https://www.apua.ag/outage/electricity-maintenance-schedule-section-of-buckley-line/
CATEGORIES:Maintenance,Scheduled Outages
END:VEVENT
BEGIN:VEVENT
DTSTART;TZID=America/Antigua:20211005T132500
DTEND;TZID=America/Antigua:20211005T150000
DTSTAMP:20260421T184452
CREATED:20211004T154817Z
LAST-MODIFIED:20211004T154817Z
UID:2197-1633440300-1633446000@www.apua.ag
SUMMARY:Electricity Maintenance Schedule – Bendals
DESCRIPTION:Please note that Electricity will be suppressed during this period.\nDate: Tuesday\, 5th October 2021 \nTime: 1:25 PM – 3:00 PM \nAffected areas: Bendals \n
URL:https://www.apua.ag/outage/electricity-maintenance-schedule-bendals/
CATEGORIES:Maintenance,Scheduled Outages
END:VEVENT
BEGIN:VEVENT
DTSTART;TZID=America/Antigua:20211006T013000
DTEND;TZID=America/Antigua:20211006T150000
DTSTAMP:20260421T184452
CREATED:20211004T155358Z
LAST-MODIFIED:20211004T155358Z
UID:2201-1633483800-1633532400@www.apua.ag
SUMMARY:Electricity Maintenance Schedule – Section of Nut Grove south of Santana's Building
DESCRIPTION:Please note that Electricity will be suppressed during this period.\nDate: Wednesday\, 6th October 2021 \nTime: 1:30 PM – 3:00 PM \nAffected areas: Section of Nut Grove south of Santana’s Building \n
URL:https://www.apua.ag/outage/electricity-maintenance-schedule-section-of-nut-grove-south-of-santanas-building/
CATEGORIES:Maintenance,Scheduled Outages
END:VEVENT
BEGIN:VEVENT
DTSTART;TZID=America/Antigua:20211007T082500
DTEND;TZID=America/Antigua:20211007T113000
DTSTAMP:20260421T184452
CREATED:20211004T155843Z
LAST-MODIFIED:20211004T155843Z
UID:2203-1633595100-1633606200@www.apua.ag
SUMMARY:Electricity Maintenance Schedule - Section of Fitches Creek; Ocean Lane
DESCRIPTION:Please note that Electricity will be suppressed during this period.\nDate: Thursday\, 7th October 2021 \nTime: 8:25 AM – 11:30 AM \nAffected areas: Section of Fitches Creek; Ocean Lane \n
URL:https://www.apua.ag/outage/electricity-maintenance-schedule-section-of-fitches-creek-ocean-lane/
CATEGORIES:Maintenance,Scheduled Outages
END:VEVENT
BEGIN:VEVENT
DTSTART;TZID=America/Antigua:20211007T082500
DTEND;TZID=America/Antigua:20211007T113000
DTSTAMP:20260421T184452
CREATED:20211004T160034Z
LAST-MODIFIED:20211004T160034Z
UID:2205-1633595100-1633606200@www.apua.ag
SUMMARY:Electricity Maintenance Schedule - Section of Old Road east of South Coast Horizon
DESCRIPTION:Please note that Electricity will be suppressed during this period.\nDate: Thursday\, 7th October 2021 \nTime: 8:25 AM – 11:30 AM \nAffected areas: Section of Old Road east of South Coast Horizon \n
URL:https://www.apua.ag/outage/electricity-maintenance-schedule-section-of-old-road-east-of-south-coast-horizon/
CATEGORIES:Maintenance,Scheduled Outages
END:VEVENT
BEGIN:VEVENT
DTSTART;TZID=America/Antigua:20211008T082500
DTEND;TZID=America/Antigua:20211008T130000
DTSTAMP:20260421T184452
CREATED:20211004T160527Z
LAST-MODIFIED:20211004T160527Z
UID:2207-1633681500-1633698000@www.apua.ag
SUMMARY:Electricity Maintenance Schedule - Coco's Hotel and the surrounding area
DESCRIPTION:Please note that Electricity will be suppressed during this period.\nDate: Friday\, 8th October 2021 \nTime: 8:25 AM – 1:00 AM \nAffected areas: Coco’s Hotel and the surrounding area \n
URL:https://www.apua.ag/outage/electricity-maintenance-schedule-cocos-hotel-and-the-surrounding-area/
CATEGORIES:Maintenance,Scheduled Outages
END:VEVENT
BEGIN:VEVENT
DTSTART;TZID=America/Antigua:20211019T083000
DTEND;TZID=America/Antigua:20211019T110000
DTSTAMP:20260421T184452
CREATED:20211019T151104Z
LAST-MODIFIED:20211019T151104Z
UID:2215-1634632200-1634641200@www.apua.ag
SUMMARY:Electricity Maintenance Schedule - Section of Liberta and Horsford Hill
DESCRIPTION:Please note that Electricity will be suppressed during this period.\nDate: Tuesday\, 19th October 2021 \nTime: 8:30 AM  –  11:00 AM \nAffected areas: Section of Liberta and Horsford Hill \n
URL:https://www.apua.ag/outage/electricity-maintenance-schedule-section-of-liberta-and-horsford-hill/
CATEGORIES:Maintenance,Scheduled Outages
END:VEVENT
BEGIN:VEVENT
DTSTART;TZID=America/Antigua:20211019T083000
DTEND;TZID=America/Antigua:20211019T113000
DTSTAMP:20260421T184452
CREATED:20211019T151444Z
LAST-MODIFIED:20211019T151444Z
UID:2217-1634632200-1634643000@www.apua.ag
SUMMARY:Electricity Maintenance Schedule - Section of Yeptons north of Royalton
DESCRIPTION:Please note that Electricity will be suppressed during this period.\nDate: Tuesday\, 19th October 2021 \nTime: 8:30 AM – 11:30 AM \nAffected areas: Section of Yeptons north of Royalton \n
URL:https://www.apua.ag/outage/electricity-maintenance-schedule-section-of-yeptons-north-of-royalton/
CATEGORIES:Maintenance,Scheduled Outages
END:VEVENT
BEGIN:VEVENT
DTSTART;TZID=America/Antigua:20211020T083000
DTEND;TZID=America/Antigua:20211020T113000
DTSTAMP:20260421T184452
CREATED:20211019T151708Z
LAST-MODIFIED:20211019T151708Z
UID:2219-1634718600-1634729400@www.apua.ag
SUMMARY:Electricity Maintenance Schedule - Section of Bolans north of the Primary School
DESCRIPTION:Please note that Electricity will be suppressed during this period.\nDate: Wednesday\, 20th October 2021 \nTime: 8:30 AM  –  11:30 AM \nAffected areas: Section of Bolans north of the Primary School \n
URL:https://www.apua.ag/outage/electricity-maintenance-schedule-section-of-bolans-north-of-the-primary-school/
CATEGORIES:Maintenance,Scheduled Outages
END:VEVENT
BEGIN:VEVENT
DTSTART;TZID=America/Antigua:20211020T083000
DTEND;TZID=America/Antigua:20211020T130000
DTSTAMP:20260421T184452
CREATED:20211019T152408Z
LAST-MODIFIED:20211019T152408Z
UID:2221-1634718600-1634734800@www.apua.ag
SUMMARY:Electricity Maintenance Schedule - Section of Folleys and John Hughes
DESCRIPTION:Please note that Electricity will be suppressed during this period.\nDate: Wednesday\, 20th October 2021 \nTime: 8:30 AM – 1:00 PM \nAffected areas: Section of Folleys and John Hughes \n
URL:https://www.apua.ag/outage/electricity-maintenance-schedule-section-of-folleys-and-john-hughes/
CATEGORIES:Maintenance,Scheduled Outages
END:VEVENT
BEGIN:VEVENT
DTSTART;TZID=America/Antigua:20211021T083000
DTEND;TZID=America/Antigua:20211021T113000
DTSTAMP:20260421T184452
CREATED:20211019T154018Z
LAST-MODIFIED:20211019T154054Z
UID:2223-1634805000-1634815800@www.apua.ag
SUMMARY:Electricity Maintenance Schedule - Glanvilles\, Seatons\, Carty's Hill\, Willikies\, Emerald Cove and Long Bay
DESCRIPTION:Please note that Electricity will be suppressed during this period.\nDate: Thursday\, 21st October 2021 \nTime: 8:30 AM – 11:30 AM \nAffected areas: Glanvilles\, Seatons\, Carty’s Hill\, Willikies\, Emerald Cove and Long Bay \n
URL:https://www.apua.ag/outage/electricity-maintenance-schedule-glanvilles-seatons-cartys-hill-willikies-emerald-cove-and-long-bay/
CATEGORIES:Maintenance,Scheduled Outages
END:VEVENT
BEGIN:VEVENT
DTSTART;TZID=America/Antigua:20211022T083000
DTEND;TZID=America/Antigua:20211022T113000
DTSTAMP:20260421T184452
CREATED:20211019T154234Z
LAST-MODIFIED:20211019T154234Z
UID:2226-1634891400-1634902200@www.apua.ag
SUMMARY:Electricity Maintenance Schedule - Luna Park near Richard's Property
DESCRIPTION:Please note that Electricity will be suppressed during this period.\nDate: Friday\, 22nd October 2021 \nTime: 8:30 AM – 11:30 AM \nAffected areas: Luna Park near Richard’s Property \n
URL:https://www.apua.ag/outage/electricity-maintenance-schedule-luna-park-near-richards-property/
CATEGORIES:Maintenance,Scheduled Outages
END:VEVENT
BEGIN:VEVENT
DTSTART;TZID=America/Antigua:20211022T083000
DTEND;TZID=America/Antigua:20211022T113000
DTSTAMP:20260421T184452
CREATED:20211019T155104Z
LAST-MODIFIED:20211019T155104Z
UID:2228-1634891400-1634902200@www.apua.ag
SUMMARY:Electricity Maintenance Schedule - Section of Herberts near Cell Site
DESCRIPTION:Please note that Electricity will be suppressed during this period.\nDate: Friday\, 22nd October 2021 \nTime: 8:30 AM – 11:30 AM \nAffected areas: Section of Herberts near Cell Site \n
URL:https://www.apua.ag/outage/electricity-maintenance-schedule-section-of-herberts-near-cell-site/
CATEGORIES:Maintenance,Scheduled Outages
END:VEVENT
BEGIN:VEVENT
DTSTART;TZID=America/Antigua:20211025T083000
DTEND;TZID=America/Antigua:20211025T113000
DTSTAMP:20260421T184452
CREATED:20211022T151610Z
LAST-MODIFIED:20211022T151754Z
UID:2235-1635150600-1635161400@www.apua.ag
SUMMARY:Electricity Maintenance Schedule - Section of  Marble Hill near new Chinese Embassy
DESCRIPTION:Please note that Electricity will be suppressed during this period.\nDate: Monday\, 25th October 2021 \nTime: 8:30 AM  –  11:30 AM \nAffected areas: Section of  Marble Hill near new Chinese Embassy \n
URL:https://www.apua.ag/outage/electricity-maintenance-schedule-section-of-marble-hill-near-new-chinese-embassy/
CATEGORIES:Maintenance,Scheduled Outages
END:VEVENT
BEGIN:VEVENT
DTSTART;TZID=America/Antigua:20211025T133000
DTEND;TZID=America/Antigua:20211025T150000
DTSTAMP:20260421T184452
CREATED:20211022T152058Z
LAST-MODIFIED:20211022T152058Z
UID:2237-1635168600-1635174000@www.apua.ag
SUMMARY:Electricity Maintenance Schedule - Urlings\, Johnson's Point\, Crabb Hill\, Darkwood and Ffryes
DESCRIPTION:Please note that Electricity will be suppressed during this period.\nDate: Monday\, 25th October 2021 \nTime: 1:30 PM  –  3:00 PM \nAffected areas: Urlings\, Johnson’s Point\, Crabb Hill\, Darkwood and Ffryes \n
URL:https://www.apua.ag/outage/electricity-maintenance-schedule-urlings-johnsons-point-crabb-hill-darkwood-and-ffryes/
CATEGORIES:Maintenance,Scheduled Outages
END:VEVENT
BEGIN:VEVENT
DTSTART;TZID=America/Antigua:20211026T081500
DTEND;TZID=America/Antigua:20211026T113000
DTSTAMP:20260421T184452
CREATED:20211022T152232Z
LAST-MODIFIED:20211022T152232Z
UID:2239-1635236100-1635247800@www.apua.ag
SUMMARY:Electricity Maintenance Schedule - Section of Buckleys Main Road west of Island Academy
DESCRIPTION:Please note that Electricity will be suppressed during this period.\nDate: Tuesday\, 26th October 2021 \nTime: 8:15 AM – 11:30 AM \nAffected areas: Section of Buckleys Main Road west of Island Academy \n
URL:https://www.apua.ag/outage/electricity-maintenance-schedule-section-of-buckleys-main-road-west-of-island-academy/
CATEGORIES:Maintenance,Scheduled Outages
END:VEVENT
BEGIN:VEVENT
DTSTART;TZID=America/Antigua:20211026T083000
DTEND;TZID=America/Antigua:20211026T103000
DTSTAMP:20260421T184452
CREATED:20211022T152430Z
LAST-MODIFIED:20211022T152430Z
UID:2241-1635237000-1635244200@www.apua.ag
SUMMARY:Electricity Maintenance Schedule - Section of Hodges Bay\, Cedar Grove and Mount Pleasant
DESCRIPTION:Please note that Electricity will be suppressed during this period.\nDate: Tuesday\, 26th October 2021 \nTime: 8:30 AM – 10:30 AM \nAffected areas: Section of Hodges Bay\, Cedar Grove and Mount Pleasant \n
URL:https://www.apua.ag/outage/electricity-maintenance-schedule-section-of-hodges-bay-cedar-grove-and-mount-pleasant/
CATEGORIES:Maintenance,Scheduled Outages
END:VEVENT
BEGIN:VEVENT
DTSTART;TZID=America/Antigua:20211027T083000
DTEND;TZID=America/Antigua:20211027T113000
DTSTAMP:20260421T184452
CREATED:20211022T152627Z
LAST-MODIFIED:20211022T152627Z
UID:2243-1635323400-1635334200@www.apua.ag
SUMMARY:Electricity Maintenance Schedule - Section of Jennings near the Moravian Church
DESCRIPTION:Please note that Electricity will be suppressed during this period.\nDate: Wednesday\, 27th October 2021 \nTime: 8:30 AM  –  11:30 AM \nAffected areas: Section of Jennings near the Moravian Church \n
URL:https://www.apua.ag/outage/electricity-maintenance-schedule-section-of-jennings-near-the-moravian-church/
CATEGORIES:Maintenance,Scheduled Outages
END:VEVENT
BEGIN:VEVENT
DTSTART;TZID=America/Antigua:20211027T083000
DTEND;TZID=America/Antigua:20211027T113000
DTSTAMP:20260421T184452
CREATED:20211022T153556Z
LAST-MODIFIED:20211022T153556Z
UID:2245-1635323400-1635334200@www.apua.ag
SUMMARY:Electricity Maintenance Schedule - Section of Freetown near the Police Station
DESCRIPTION:Please note that Electricity will be suppressed during this period.\nDate: Wednesday\, 27th October 2021 \nTime: 8:30 AM – 11:30 AM \nAffected areas: Section of Freetown near the Police Station \n
URL:https://www.apua.ag/outage/electricity-maintenance-schedule-section-of-freetown-near-the-police-station/
CATEGORIES:Maintenance,Scheduled Outages
END:VEVENT
BEGIN:VEVENT
DTSTART;TZID=America/Antigua:20211028T083000
DTEND;TZID=America/Antigua:20211028T130000
DTSTAMP:20260421T184452
CREATED:20211022T153723Z
LAST-MODIFIED:20211022T153723Z
UID:2247-1635409800-1635426000@www.apua.ag
SUMMARY:Electricity Maintenance Schedule - Buckleys and Buckleys Ext.
DESCRIPTION:Please note that Electricity will be suppressed during this period.\nDate: Thursday\, 28th October 2021 \nTime: 8:30 AM – 1:00 PM \nAffected areas: Buckleys and Buckleys Ext. \n
URL:https://www.apua.ag/outage/electricity-maintenance-schedule-buckleys-and-buckleys-ext/
CATEGORIES:Maintenance,Scheduled Outages
END:VEVENT
BEGIN:VEVENT
DTSTART;TZID=America/Antigua:20211029T083000
DTEND;TZID=America/Antigua:20211029T113000
DTSTAMP:20260421T184452
CREATED:20211022T153849Z
LAST-MODIFIED:20211022T153849Z
UID:2249-1635496200-1635507000@www.apua.ag
SUMMARY:Electricity Maintenance Schedule - Section of Villa near the Primary School
DESCRIPTION:Please note that Electricity will be suppressed during this period.\nDate: Friday\, 29th October 2021 \nTime: 8:30 AM – 11:30 AM \nAffected areas: Section of Villa near the Primary School \n
URL:https://www.apua.ag/outage/electricity-maintenance-schedule-section-of-villa-near-the-primary-school/
CATEGORIES:Maintenance,Scheduled Outages
END:VEVENT
BEGIN:VEVENT
DTSTART;TZID=America/Antigua:20211102T080000
DTEND;TZID=America/Antigua:20211102T130000
DTSTAMP:20260421T184453
CREATED:20211102T124956Z
LAST-MODIFIED:20211102T124956Z
UID:2251-1635840000-1635858000@www.apua.ag
SUMMARY:Electricity Maintenance Schedule - Section of Hodges Bay near Johnson's property
DESCRIPTION:Please note that Electricity will be suppressed during this period.\nDate: Tuesday\, 2nd November 2021 \nTime: 8:00 AM  – 1:00 PM \nAffected areas: Section of Hodges Bay near Johnson’s property \n  \n  \n
URL:https://www.apua.ag/outage/electricity-maintenance-schedule-section-of-hodges-bay-near-johnsons-property/
CATEGORIES:Maintenance,Scheduled Outages
END:VEVENT
BEGIN:VEVENT
DTSTART;TZID=America/Antigua:20211102T083000
DTEND;TZID=America/Antigua:20211102T113000
DTSTAMP:20260421T184453
CREATED:20211102T125120Z
LAST-MODIFIED:20211102T125120Z
UID:2253-1635841800-1635852600@www.apua.ag
SUMMARY:Electricity Maintenance Schedule - Section of Bendals east of the Clinic
DESCRIPTION:Please note that Electricity will be suppressed during this period.\nDate: Tuesday\, 2nd November 2021 \nTime: 8:30 AM – 11:30 AM \nAffected areas: Section of Bendals east of the Clinic \n
URL:https://www.apua.ag/outage/electricity-maintenance-schedule-section-of-bendals-east-of-the-clinic/
CATEGORIES:Maintenance,Scheduled Outages
END:VEVENT
BEGIN:VEVENT
DTSTART;TZID=America/Antigua:20211104T083000
DTEND;TZID=America/Antigua:20211104T113000
DTSTAMP:20260421T184453
CREATED:20211102T125248Z
LAST-MODIFIED:20211104T123850Z
UID:2255-1636014600-1636025400@www.apua.ag
SUMMARY:Electricity Maintenance Schedule - Section of Old Road east of South Coast Horizon
DESCRIPTION:Please note that Electricity will be suppressed during this period.\nDate: Thursday\, 4th November 2021 \nTime: 8:30 AM  –  11:30 AM \nAffected areas: Section of Old Road east of South Coast Horizon \n
URL:https://www.apua.ag/outage/electricity-maintenance-schedule-section-of-old-road-east-of-south-coast-horizon-2/
CATEGORIES:Maintenance,Scheduled Outages
END:VEVENT
END:VCALENDAR