BEGIN:VCALENDAR
VERSION:2.0
PRODID:-//Antigua Public Utilities Authority (APUA) - ECPv5.1.2.1//NONSGML v1.0//EN
CALSCALE:GREGORIAN
METHOD:PUBLISH
X-WR-CALNAME:Antigua Public Utilities Authority (APUA)
X-ORIGINAL-URL:https://www.apua.ag
X-WR-CALDESC:Events for Antigua Public Utilities Authority (APUA)
BEGIN:VTIMEZONE
TZID:America/Antigua
BEGIN:STANDARD
TZOFFSETFROM:-0400
TZOFFSETTO:-0400
TZNAME:AST
DTSTART:20220101T000000
END:STANDARD
END:VTIMEZONE
BEGIN:VEVENT
DTSTART;TZID=America/Antigua:20220131T083000
DTEND;TZID=America/Antigua:20220131T093000
DTSTAMP:20260421T130950
CREATED:20220131T035210Z
LAST-MODIFIED:20220131T035210Z
UID:2445-1643617800-1643621400@www.apua.ag
SUMMARY:Electricity Maintenance Schedule - Section of Golden Grove near the Mill Tower
DESCRIPTION:Please note that Electricity will be suppressed during this period.\nDate: Monday\, 31st  January 2022 \nTime: 8:30 AM  – 9:30 AM \nAffected areas: Section of Golden Grove near the Mill Tower \n
URL:https://www.apua.ag/outage/electricity-maintenance-schedule-section-of-golden-grove-near-the-mill-tower/
CATEGORIES:Maintenance,Scheduled Outages
END:VEVENT
BEGIN:VEVENT
DTSTART;TZID=America/Antigua:20220201T083000
DTEND;TZID=America/Antigua:20220201T120000
DTSTAMP:20260421T130950
CREATED:20220131T035454Z
LAST-MODIFIED:20220131T035454Z
UID:2447-1643704200-1643716800@www.apua.ag
SUMMARY:Electricity Maintenance Schedule - Fort James and  Dry Hill
DESCRIPTION:Please note that Electricity will be suppressed during this period.\nDate: Tuesday\, 1st  February 2022 \nTime: 8:30 AM – 12:00 PM \nAffected areas: Fort James and  Dry Hill \n
URL:https://www.apua.ag/outage/electricity-maintenance-schedule-fort-james-and-dry-hill/
CATEGORIES:Maintenance,Scheduled Outages
END:VEVENT
BEGIN:VEVENT
DTSTART;TZID=America/Antigua:20220202T083000
DTEND;TZID=America/Antigua:20220202T110000
DTSTAMP:20260421T130950
CREATED:20220131T035833Z
LAST-MODIFIED:20220131T035833Z
UID:2449-1643790600-1643799600@www.apua.ag
SUMMARY:Electricity Maintenance Schedule - Section of Gray Hill near Tanny Rose
DESCRIPTION:Please note that Electricity will be suppressed during this period.\nDate: Wednesday\, 2nd  February 2022 \nTime: 8:30 AM – 11:00 AM \nAffected areas: Section of Gray Hill near Tanny Rose \n
URL:https://www.apua.ag/outage/electricity-maintenance-schedule-section-of-gray-hill-near-tanny-rose/
CATEGORIES:Maintenance,Scheduled Outages
END:VEVENT
BEGIN:VEVENT
DTSTART;TZID=America/Antigua:20220203T083000
DTEND;TZID=America/Antigua:20220203T113000
DTSTAMP:20260421T130950
CREATED:20220131T040958Z
LAST-MODIFIED:20220131T040958Z
UID:2451-1643877000-1643887800@www.apua.ag
SUMMARY:Electricity Maintenance Schedule - Section of Crabbs near the Cement Factory\, Bottling Plant and ABDF
DESCRIPTION:Please note that Electricity will be suppressed during this period.\nDate: Thursday\, 3rd February 2022 \nTime: 8:30 AM – 11:30 AM \nAffected areas: Section of Crabbs near the Cement Factory\, Bottling Plant and ABDF \n
URL:https://www.apua.ag/outage/electricity-maintenance-schedule-section-of-crabbs-near-the-cement-factory-bottling-plant-and-abdf/
CATEGORIES:Maintenance,Scheduled Outages
END:VEVENT
BEGIN:VEVENT
DTSTART;TZID=America/Antigua:20220204T083000
DTEND;TZID=America/Antigua:20220204T110000
DTSTAMP:20260421T130950
CREATED:20220131T041317Z
LAST-MODIFIED:20220131T041317Z
UID:2453-1643963400-1643972400@www.apua.ag
SUMMARY:Electricity Maintenance Schedule - Sections of McKinnons south of Antigua Seaview
DESCRIPTION:Date: Friday\, 4th  February  2022 \nTime: 8:30 AM – 11:00 AM \nAffected areas: Sections of McKinnons south of Antigua Seaview \n
URL:https://www.apua.ag/outage/electricity-maintenance-schedule-sections-of-mckinnons-south-of-antigua-seaview/
CATEGORIES:Maintenance,Scheduled Outages
END:VEVENT
BEGIN:VEVENT
DTSTART;TZID=America/Antigua:20220207T083000
DTEND;TZID=America/Antigua:20220207T113000
DTSTAMP:20260421T130950
CREATED:20220207T075528Z
LAST-MODIFIED:20220207T075528Z
UID:2462-1644222600-1644233400@www.apua.ag
SUMMARY:Electricity Maintenance Schedule - Section of Patterson near the Horse Stable
DESCRIPTION:Please note that Electricity will be suppressed during this period.\nDate: Monday\, 7th February 2022 \nTime: 8:30 AM  – 11:30 AM \nAffected areas: Section of Patterson near the Horse Stable \n
URL:https://www.apua.ag/outage/electricity-maintenance-schedule-section-of-patterson-near-the-horse-stable/
CATEGORIES:Maintenance,Scheduled Outages
END:VEVENT
BEGIN:VEVENT
DTSTART;TZID=America/Antigua:20220208T083000
DTEND;TZID=America/Antigua:20220208T120000
DTSTAMP:20260421T130950
CREATED:20220207T075748Z
LAST-MODIFIED:20220207T075748Z
UID:2464-1644309000-1644321600@www.apua.ag
SUMMARY:Electricity Maintenance Schedule - Fort James and  Dry Hill
DESCRIPTION:Please note that Electricity will be suppressed during this period.\nDate: Tuesday\, 8th February 2022 \nTime: 8:30 AM – 12:00 PM \nAffected areas: Fort James and  Dry Hill \n
URL:https://www.apua.ag/outage/electricity-maintenance-schedule-fort-james-and-dry-hill-2/
CATEGORIES:Maintenance,Scheduled Outages
END:VEVENT
BEGIN:VEVENT
DTSTART;TZID=America/Antigua:20220209T083000
DTEND;TZID=America/Antigua:20220209T120000
DTSTAMP:20260421T130950
CREATED:20220207T075909Z
LAST-MODIFIED:20220207T075909Z
UID:2466-1644395400-1644408000@www.apua.ag
SUMMARY:Electricity Maintenance Schedule - CUB Bank
DESCRIPTION:Please note that Electricity will be suppressed during this period.\nDate: Wednesday\, 9th February 2022 \nTime: 8:30 AM – 12:00 PM \nAffected areas: CUB Bank \n
URL:https://www.apua.ag/outage/electricity-maintenance-schedule-cub-bank/
CATEGORIES:Maintenance,Scheduled Outages
END:VEVENT
BEGIN:VEVENT
DTSTART;TZID=America/Antigua:20220210T083000
DTEND;TZID=America/Antigua:20220210T113000
DTSTAMP:20260421T130950
CREATED:20220207T080035Z
LAST-MODIFIED:20220207T080035Z
UID:2468-1644481800-1644492600@www.apua.ag
SUMMARY:Electricity Maintenance Schedule - Upper Fort Road west of the Woods Mall Center
DESCRIPTION:Please note that Electricity will be suppressed during this period.\nDate: Thursday\, 10th February 2022 \nTime: 8:30 AM – 11:30 AM \nAffected areas: Upper Fort Road west of the Woods Mall Center \n
URL:https://www.apua.ag/outage/electricity-maintenance-schedule-upper-fort-road-west-of-the-woods-mall-center/
CATEGORIES:Maintenance,Scheduled Outages
END:VEVENT
BEGIN:VEVENT
DTSTART;TZID=America/Antigua:20220211T083000
DTEND;TZID=America/Antigua:20220211T113000
DTSTAMP:20260421T130950
CREATED:20220207T080200Z
LAST-MODIFIED:20220207T080200Z
UID:2470-1644568200-1644579000@www.apua.ag
SUMMARY:Electricity Maintenance Schedule - Galleon Bay Hotel
DESCRIPTION:Please note that Electricity will be suppressed during this period.\nDate: Friday\, 11th  February  2022 \nTime: 8:30 AM – 11:30 AM \nAffected areas: Galleon Bay Hotel \n
URL:https://www.apua.ag/outage/electricity-maintenance-schedule-galleon-bay-hotel/
CATEGORIES:Maintenance,Scheduled Outages
END:VEVENT
BEGIN:VEVENT
DTSTART;TZID=America/Antigua:20220214T083000
DTEND;TZID=America/Antigua:20220214T113000
DTSTAMP:20260421T130950
CREATED:20220214T043008Z
LAST-MODIFIED:20220214T133928Z
UID:2473-1644827400-1644838200@www.apua.ag
SUMMARY:Electricity Maintenance Schedule - Section of Coolidge near Henderson\, Barnes Service Station and ECAB
DESCRIPTION:Please note that Electricity will be suppressed during this period.\nDate: Monday\,14th  February  2022 \nTime: 8:30 AM  – 11:30 AM \nAffected areas: Section of Coolidge near Henderson\, Barnes Service Station and ECAB \n
URL:https://www.apua.ag/outage/electricity-maintenance-schedule-section-of-coolidge-near-henderson-barnes-service-station-and-ecab/
CATEGORIES:Maintenance,Scheduled Outages
END:VEVENT
BEGIN:VEVENT
DTSTART;TZID=America/Antigua:20220214T083000
DTEND;TZID=America/Antigua:20220214T113000
DTSTAMP:20260421T130950
CREATED:20220214T043754Z
LAST-MODIFIED:20220830T134444Z
UID:2475-1644827400-1644838200@www.apua.ag
SUMMARY:Electricity Maintenance Schedule - Section of Urlings\, Johnson Point and Crabb Hill
DESCRIPTION:Please note that Electricity will be suppressed during this period.\nDate: Monday\,14th  February  2022 \nTime: 8:30 AM  – 11:30 AM \nAffected areas: Section of Urlings\, Johnson Point and Crabb Hill \n
URL:https://www.apua.ag/outage/electricity-maintenance-schedule-section-of-urlings-johnson-point-and-crabb-hill/
CATEGORIES:Maintenance,Scheduled Outages
END:VEVENT
BEGIN:VEVENT
DTSTART;TZID=America/Antigua:20220215T083000
DTEND;TZID=America/Antigua:20220215T120000
DTSTAMP:20260421T130950
CREATED:20220214T134115Z
LAST-MODIFIED:20220214T134115Z
UID:2477-1644913800-1644926400@www.apua.ag
SUMMARY:Electricity Maintenance Schedule - Fort James
DESCRIPTION:Please note that Electricity will be suppressed during this period\nDate: Tuesday\,15th February 2022 \nTime: 8:30 AM – 12:00 PM \nAffected areas: Fort James \n  \n
URL:https://www.apua.ag/outage/electricity-maintenance-schedule-fort-james-2/
CATEGORIES:Maintenance,Scheduled Outages
END:VEVENT
BEGIN:VEVENT
DTSTART;TZID=America/Antigua:20220216T083000
DTEND;TZID=America/Antigua:20220216T113000
DTSTAMP:20260421T130950
CREATED:20220214T141534Z
LAST-MODIFIED:20220214T141534Z
UID:2481-1645000200-1645011000@www.apua.ag
SUMMARY:Electricity Maintenance Schedule - Section of Red Hill
DESCRIPTION:Please note that Electricity will be suppressed during this perio\nDate: Wednesday\,16th  February 2022 \nTime: 8:30 AM – 11:30 AM \nAffected areas: Section of Red Hill \n  \n
URL:https://www.apua.ag/outage/electricity-maintenance-schedule-section-of-red-hill/
CATEGORIES:Maintenance,Scheduled Outages
END:VEVENT
BEGIN:VEVENT
DTSTART;TZID=America/Antigua:20220217T083000
DTEND;TZID=America/Antigua:20220217T113000
DTSTAMP:20260421T130950
CREATED:20220214T141922Z
LAST-MODIFIED:20220214T141922Z
UID:2483-1645086600-1645097400@www.apua.ag
SUMMARY:Electricity Maintenance Schedule - Upper Gambles east of Abbott's Plumbing and Cortland Hotel
DESCRIPTION:Please note that Electricity will be suppressed during this period\nDate: Thursday\, 17th February 2022 \nTime: 8:30 AM – 11:30 AM \nAffected areas: Upper Gambles east of Abbott’s Plumbing and Cortland Hotel \n  \n
URL:https://www.apua.ag/outage/electricity-maintenance-schedule-upper-gambles-east-of-abbotts-plumbing-and-cortland-hotel/
CATEGORIES:Maintenance,Scheduled Outages
END:VEVENT
BEGIN:VEVENT
DTSTART;TZID=America/Antigua:20220218T083000
DTEND;TZID=America/Antigua:20220218T113000
DTSTAMP:20260421T130950
CREATED:20220214T142344Z
LAST-MODIFIED:20220214T142344Z
UID:2485-1645173000-1645183800@www.apua.ag
SUMMARY:Electricity Maintenance Schedule - Section of Cedar Valley near the Supermarket
DESCRIPTION:Please note that Electricity will be suppressed during this period\nDate: Friday\, 18th  February  2022 \nTime: 8:30 AM – 11:30 AM \nAffected areas: Section of Cedar Valley near the Supermarket \n
URL:https://www.apua.ag/outage/electricity-maintenance-schedule-section-of-cedar-valley-near-the-supermarket/
CATEGORIES:Maintenance,Scheduled Outages
END:VEVENT
BEGIN:VEVENT
DTSTART;TZID=America/Antigua:20220218T083000
DTEND;TZID=America/Antigua:20220218T113000
DTSTAMP:20260421T130950
CREATED:20220214T151552Z
LAST-MODIFIED:20220221T124354Z
UID:2487-1645173000-1645183800@www.apua.ag
SUMMARY:Electricity Maintenance Schedule - Section of Cedar Valley near Ambrose Property
DESCRIPTION:Please note that Electricity will be suppressed during this period\nDate: Friday\, 18th  February  2022 \nTime: 8:30 AM – 11:30 AM \nAffected areas: Section of Cedar Valley near Ambrose Property \n  \n
URL:https://www.apua.ag/outage/electricity-maintenance-schedule-section-of-cedar-valley-near-ambrose-property/
CATEGORIES:Maintenance,Scheduled Outages
END:VEVENT
BEGIN:VEVENT
DTSTART;TZID=America/Antigua:20220221T083000
DTEND;TZID=America/Antigua:20220221T113000
DTSTAMP:20260421T130950
CREATED:20220221T124610Z
LAST-MODIFIED:20220221T124610Z
UID:2491-1645432200-1645443000@www.apua.ag
SUMMARY:Electricity Maintenance Schedule - Section of Patterson near the Horse Stable
DESCRIPTION:Please note that Electricity will be suppressed during this period\nDate: Monday\, 21st  February  2022 \nTime: 8:30 AM  – 11:30 AM \nAffected areas: Section of Patterson near the Horse Stable \n
URL:https://www.apua.ag/outage/electricity-maintenance-schedule-section-of-patterson-near-the-horse-stable-2/
CATEGORIES:Maintenance,Scheduled Outages
END:VEVENT
BEGIN:VEVENT
DTSTART;TZID=America/Antigua:20220221T133000
DTEND;TZID=America/Antigua:20220221T150000
DTSTAMP:20260421T130950
CREATED:20220221T130838Z
LAST-MODIFIED:20220221T130838Z
UID:2502-1645450200-1645455600@www.apua.ag
SUMMARY:Electricity Maintenance Schedule - Section of Coolidge near Henderson\, Barnes Service Station and ECAB Bank
DESCRIPTION:Please note that Electricity will be suppressed during this period\nDate: Monday\, 21st  February  2022 \nTime: 1:30 PM – 3:00 PM \nAffected areas: Section of Cedar Valley near Ambrose Property \n
URL:https://www.apua.ag/outage/electricity-maintenance-schedule-section-of-coolidge-near-henderson-barnes-service-station-and-ecab-bank/
CATEGORIES:Maintenance,Scheduled Outages
END:VEVENT
BEGIN:VEVENT
DTSTART;TZID=America/Antigua:20220222T083000
DTEND;TZID=America/Antigua:20220222T113000
DTSTAMP:20260421T130950
CREATED:20220221T124823Z
LAST-MODIFIED:20220221T124823Z
UID:2494-1645518600-1645529400@www.apua.ag
SUMMARY:Electricity Maintenance Schedule - Section of Urlings west of the Primary School
DESCRIPTION:Please note that Electricity will be suppressed during this perio\nDate: Tuesday\, 22nd February 2022 \nTime 8:30 AM  – 11:30 AM \nAffected areas: Section of Urlings west of the Primary School \n  \n
URL:https://www.apua.ag/outage/electricity-maintenance-schedule-section-of-urlings-west-of-the-primary-school/
CATEGORIES:Maintenance,Scheduled Outages
END:VEVENT
BEGIN:VEVENT
DTSTART;TZID=America/Antigua:20220223T083000
DTEND;TZID=America/Antigua:20220223T120000
DTSTAMP:20260421T130950
CREATED:20220221T125000Z
LAST-MODIFIED:20220221T125000Z
UID:2496-1645605000-1645617600@www.apua.ag
SUMMARY:Electricity Maintenance Schedule - Section of All Saints east of the Anglican Church
DESCRIPTION:Please note that Electricity will be suppressed during this perio\nDate: Wednesday\, 23rd  February 2022 \nTime: 8:30 AM – 12:00 PM \nAffected areas: Section of All Saints east of the Anglican Church \n  \n
URL:https://www.apua.ag/outage/electricity-maintenance-schedule-section-of-all-saints-east-of-the-anglican-church/
CATEGORIES:Maintenance,Scheduled Outages
END:VEVENT
BEGIN:VEVENT
DTSTART;TZID=America/Antigua:20220224T083000
DTEND;TZID=America/Antigua:20220224T130000
DTSTAMP:20260421T130950
CREATED:20220221T130057Z
LAST-MODIFIED:20220221T130057Z
UID:2498-1645691400-1645707600@www.apua.ag
SUMMARY:Electricity Maintenance Schedule - Section of Villa west of the Clinic\, Bay Street\, Fort James and Dry Hill
DESCRIPTION:Please note that Electricity will be suppressed during this perio\nDate: Thursday\, 24th February 2022 \nTime: 8:30 AM – 1:00 PM \nAffected areas: Section of Villa west of the Clinic\, Bay Street\, Fort James and Dry Hill \n  \n
URL:https://www.apua.ag/outage/electricity-maintenance-schedule-section-of-villa-west-of-the-clinic-bay-street-fort-james-and-dry-hill/
CATEGORIES:Maintenance,Scheduled Outages
END:VEVENT
BEGIN:VEVENT
DTSTART;TZID=America/Antigua:20220225T083000
DTEND;TZID=America/Antigua:20220225T113000
DTSTAMP:20260421T130950
CREATED:20220221T130249Z
LAST-MODIFIED:20220221T130249Z
UID:2500-1645777800-1645788600@www.apua.ag
SUMMARY:Electricity Maintenance Schedule - Section of Jennings\, Yorks Jennings\, Jolly Harbour and Hermitage
DESCRIPTION:Please note that Electricity will be suppressed during this perio\nDate: Friday\, 25th  February  2022 \nTime: 8:30 AM – 11:30 AM \nAffected areas: Section of Jennings\, Yorks Jennings\, Jolly Harbour and Hermitage \n  \n
URL:https://www.apua.ag/outage/electricity-maintenance-schedule-section-of-jennings-yorks-jennings-jolly-harbour-and-hermitage/
CATEGORIES:Maintenance,Scheduled Outages
END:VEVENT
END:VCALENDAR