BEGIN:VCALENDAR
VERSION:2.0
PRODID:-//Antigua Public Utilities Authority (APUA) - ECPv5.1.2.1//NONSGML v1.0//EN
CALSCALE:GREGORIAN
METHOD:PUBLISH
X-WR-CALNAME:Antigua Public Utilities Authority (APUA)
X-ORIGINAL-URL:https://www.apua.ag
X-WR-CALDESC:Events for Antigua Public Utilities Authority (APUA)
BEGIN:VTIMEZONE
TZID:America/Antigua
BEGIN:STANDARD
TZOFFSETFROM:-0400
TZOFFSETTO:-0400
TZNAME:AST
DTSTART:20220101T000000
END:STANDARD
END:VTIMEZONE
BEGIN:VEVENT
DTSTART;TZID=America/Antigua:20220530T083000
DTEND;TZID=America/Antigua:20220530T113000
DTSTAMP:20260419T191957
CREATED:20220530T124233Z
LAST-MODIFIED:20220530T124233Z
UID:2661-1653899400-1653910200@www.apua.ag
SUMMARY:Electricity Maintenance Schedule - Liat and Cargo shed
DESCRIPTION:Please note that Electricity will be suppressed during this period\nDate: Monday\, 30th May 2022 \nTime: 8:30 AM – 11:30 AM \nAffected areas:  Liat and Cargo shed \n
URL:https://www.apua.ag/outage/electricity-maintenance-schedule-liat-and-cargo-shed-2/
CATEGORIES:Maintenance,Scheduled Outages
END:VEVENT
BEGIN:VEVENT
DTSTART;TZID=America/Antigua:20220531T083000
DTEND;TZID=America/Antigua:20220531T113000
DTSTAMP:20260419T191957
CREATED:20220530T125312Z
LAST-MODIFIED:20220530T125312Z
UID:2663-1653985800-1653996600@www.apua.ag
SUMMARY:Electricity Maintenance Schedule - The western section of Old Road\, Cades Bay\, Urlings\, Johnson Point & Crabb Hill
DESCRIPTION:Please note that Electricity will be suppressed during this period\nDate: Tuesday\, 31st May 2022 \nTime: 8:30 AM – 11:30 AM \nAffected areas: The western section of Old Road\, Cades Bay\, Urlings\, Johnson Point & Crabb Hill \n
URL:https://www.apua.ag/outage/electricity-maintenance-schedule-the-western-section-of-old-road-cades-bay-urlings-johnson-point-crabb-hill/
CATEGORIES:Maintenance,Scheduled Outages
END:VEVENT
BEGIN:VEVENT
DTSTART;TZID=America/Antigua:20220601T083000
DTEND;TZID=America/Antigua:20220601T113000
DTSTAMP:20260419T191957
CREATED:20220530T130121Z
LAST-MODIFIED:20220530T130121Z
UID:2665-1654072200-1654083000@www.apua.ag
SUMMARY:Electricity Maintenance Schedule - Sections of Fort Road near old Cockle Shell Inn
DESCRIPTION:Please note that Electricity will be suppressed during this period\nDate: Wednesday\, 1st June 2022 \nTime: 8:30 AM – 11:30 AM \nAffected areas: Sections of Fort Road near old Cockle Shell Inn \n  \n
URL:https://www.apua.ag/outage/electricity-maintenance-schedule-sections-of-fort-road-near-old-cockle-shell-inn-2/
CATEGORIES:Maintenance,Scheduled Outages
END:VEVENT
BEGIN:VEVENT
DTSTART;TZID=America/Antigua:20220602T083000
DTEND;TZID=America/Antigua:20220602T113000
DTSTAMP:20260419T191957
CREATED:20220530T130400Z
LAST-MODIFIED:20220530T130400Z
UID:2667-1654158600-1654169400@www.apua.ag
SUMMARY:Electricity Maintenance Schedule - Lonely Hill\, Half Moon Bay\, and Mill Reef
DESCRIPTION:Please note that Electricity will be suppressed during this period\nDate: Thursday\, 2nd June 2022 \nTime: 8:30 AM – 11:30 AM \nAffected areas: Lonely Hill\, Half Moon Bay\, and Mill Reef \n
URL:https://www.apua.ag/outage/electricity-maintenance-schedule-lonely-hill-half-moon-bay-and-mill-reef/
CATEGORIES:Maintenance,Scheduled Outages
END:VEVENT
BEGIN:VEVENT
DTSTART;TZID=America/Antigua:20220603T083000
DTEND;TZID=America/Antigua:20220603T113000
DTSTAMP:20260419T191957
CREATED:20220530T130605Z
LAST-MODIFIED:20220530T130605Z
UID:2669-1654245000-1654255800@www.apua.ag
SUMMARY:Electricity Maintenance Schedule - Section of Buckley Line near the Roundabout
DESCRIPTION:Please note that Electricity will be suppressed during this period\nDate: Friday\, 3rd June 2022 \nTime: 8:30 AM – 11:30 AM \nAffected areas: Section of Buckley Line near the Roundabout \n
URL:https://www.apua.ag/outage/electricity-maintenance-schedule-section-of-buckley-line-near-the-roundabout/
CATEGORIES:Maintenance,Scheduled Outages
END:VEVENT
BEGIN:VEVENT
DTSTART;TZID=America/Antigua:20220613T080000
DTEND;TZID=America/Antigua:20220613T120000
DTSTAMP:20260419T191957
CREATED:20220612T145046Z
LAST-MODIFIED:20220614T145213Z
UID:2698-1655107200-1655121600@www.apua.ag
SUMMARY:Electricity Maintenance Schedule - Section of Hodges Bay near Stella Maris
DESCRIPTION:Please note that Electricity will be suppressed during this period\nDate: Monday\, 13th June 2022 \nTime: 8:00 AM – 12:00 PM \nAffected areas: Section of Hodges Bay near Stella Maris \n
URL:https://www.apua.ag/outage/electricity-maintenance-schedule-section-of-hodges-bay-near-stella-maris/
CATEGORIES:Maintenance,Scheduled Outages
END:VEVENT
BEGIN:VEVENT
DTSTART;TZID=America/Antigua:20220614T083000
DTEND;TZID=America/Antigua:20220614T113000
DTSTAMP:20260419T191957
CREATED:20220613T145222Z
LAST-MODIFIED:20220614T145640Z
UID:2700-1655195400-1655206200@www.apua.ag
SUMMARY:Electricity Maintenance Schedule - Section of Jennings near the Secondary School
DESCRIPTION:Please note that Electricity will be suppressed during this period\nDate: Tuesday\, 14th  June 2022 \nTime: 8:30 AM – 11:30 AM \nAffected areas: Section of Jennings near the Secondary School \n
URL:https://www.apua.ag/outage/electricity-maintenance-schedule-section-of-jennings-near-the-secondary-school/
CATEGORIES:Maintenance,Scheduled Outages
END:VEVENT
BEGIN:VEVENT
DTSTART;TZID=America/Antigua:20220614T083000
DTEND;TZID=America/Antigua:20220614T113000
DTSTAMP:20260419T191957
CREATED:20220613T145759Z
LAST-MODIFIED:20220614T150118Z
UID:2702-1655195400-1655206200@www.apua.ag
SUMMARY:Electricity Maintenance Schedule - Section of Scotts Hill south of  the Potters Cemetery
DESCRIPTION:Please note that Electricity will be suppressed during this period\nDate: Tuesday\, 14th  June 2022 \nTime: 8:30 AM – 11:30 AM \nAffected areas: Section of Scotts Hill south of  the Potters Cemetery \n
URL:https://www.apua.ag/outage/electricity-maintenance-schedule-section-of-scotts-hill-south-of-the-potters-cemetery-3/
CATEGORIES:Maintenance,Scheduled Outages
END:VEVENT
BEGIN:VEVENT
DTSTART;TZID=America/Antigua:20220615T083000
DTEND;TZID=America/Antigua:20220615T113000
DTSTAMP:20260419T191957
CREATED:20220614T150450Z
LAST-MODIFIED:20220614T150450Z
UID:2704-1655281800-1655292600@www.apua.ag
SUMMARY:Electricity Maintenance Schedule - Section of Buckley Line near the Roundabout
DESCRIPTION:Please note that Electricity will be suppressed during this period\nDate: Wednesday\, 15th June 2022 \nTime: 8:30 AM – 11:30 AM \nAffected areas: Section of Buckley Line near the Roundabout \n
URL:https://www.apua.ag/outage/electricity-maintenance-schedule-section-of-buckley-line-near-the-roundabout-2/
CATEGORIES:Maintenance,Scheduled Outages
END:VEVENT
BEGIN:VEVENT
DTSTART;TZID=America/Antigua:20220616T083000
DTEND;TZID=America/Antigua:20220616T113000
DTSTAMP:20260419T191957
CREATED:20220614T150932Z
LAST-MODIFIED:20220614T151229Z
UID:2706-1655368200-1655379000@www.apua.ag
SUMMARY:Electricity Maintenance Schedule - Jolly Hill to Bolans
DESCRIPTION:Please note that Electricity will be suppressed during this period\nDate: Thursday\, 16th June 2022 \nTime: 8:30 AM – 11:30 AM \nAffected areas: Jolly Hill to Bolans \n
URL:https://www.apua.ag/outage/electricity-maintenance-schedule-jolly-hill-to-bolans/
CATEGORIES:Maintenance,Scheduled Outages
END:VEVENT
BEGIN:VEVENT
DTSTART;TZID=America/Antigua:20220617T083000
DTEND;TZID=America/Antigua:20220617T113000
DTSTAMP:20260419T191957
CREATED:20220614T151610Z
LAST-MODIFIED:20220614T151610Z
UID:2708-1655454600-1655465400@www.apua.ag
SUMMARY:Electricity Maintenance Schedule - Section of Golden Grove & Whenner Road
DESCRIPTION:  \nDate: Friday\, 17th  June 2022 \nTime: 8:30 AM – 11:30 AM \nAffected areas: Section of Golden Grove & Whenner Road \n
URL:https://www.apua.ag/outage/electricity-maintenance-schedule-section-of-golden-grove-whenner-road/
CATEGORIES:Maintenance,Scheduled Outages
END:VEVENT
BEGIN:VEVENT
DTSTART;TZID=America/Antigua:20220620T083000
DTEND;TZID=America/Antigua:20220620T113000
DTSTAMP:20260419T191957
CREATED:20220620T070717Z
LAST-MODIFIED:20220620T132524Z
UID:2714-1655713800-1655724600@www.apua.ag
SUMMARY:Electricity Maintenance Schedule - Section of Bolans north of the Primary School
DESCRIPTION:Please note that Electricity will be suppressed during this period\nDate: Monday\, 20th June 2022 \nTime: 8:30 AM – 11:30 AM \nAffected areas: Section of Bolans north of the Primary School \n  \n
URL:https://www.apua.ag/outage/electricity-maintenance-schedule-section-of-bolans-north-of-the-primary-school-2/
CATEGORIES:Maintenance,Scheduled Outages
END:VEVENT
BEGIN:VEVENT
DTSTART;TZID=America/Antigua:20220621T083000
DTEND;TZID=America/Antigua:20220621T113000
DTSTAMP:20260419T191957
CREATED:20220620T132637Z
LAST-MODIFIED:20220620T132637Z
UID:2716-1655800200-1655811000@www.apua.ag
SUMMARY:Electricity Maintenance Schedule - Section of Renfrews near Dickey Hill
DESCRIPTION:Please note that Electricity will be suppressed during this period\nDate: Tuesday\, 21st June 2022 \nTime: 8:30 AM – 11:30 AM \nAffected areas: Section of Renfrews near Dickey Hill \n
URL:https://www.apua.ag/outage/electricity-maintenance-schedule-section-of-renfrews-near-dickey-hill/
CATEGORIES:Maintenance,Scheduled Outages
END:VEVENT
BEGIN:VEVENT
DTSTART;TZID=America/Antigua:20220621T083000
DTEND;TZID=America/Antigua:20220621T120000
DTSTAMP:20260419T191957
CREATED:20220620T132807Z
LAST-MODIFIED:20220620T132807Z
UID:2718-1655800200-1655812800@www.apua.ag
SUMMARY:Electricity Maintenance Schedule - Section of Upper Gambles north of the Christ the King School
DESCRIPTION:Please note that Electricity will be suppressed during this period\nDate: Tuesday\, 21st June 2022 \nTime: 8:30 AM – 12:00 PM \nAffected areas: Section of Upper Gambles north of the Christ the King School \n
URL:https://www.apua.ag/outage/electricity-maintenance-schedule-section-of-upper-gambles-north-of-the-christ-the-king-school/
CATEGORIES:Maintenance,Scheduled Outages
END:VEVENT
BEGIN:VEVENT
DTSTART;TZID=America/Antigua:20220621T133000
DTEND;TZID=America/Antigua:20220621T150000
DTSTAMP:20260419T191957
CREATED:20220620T202709Z
LAST-MODIFIED:20220621T202913Z
UID:2727-1655818200-1655823600@www.apua.ag
SUMMARY:Electricity Maintenance Schedule - Antigua Port Authority
DESCRIPTION:Please note that Electricity will be suppressed during this period\nDate: Tuesday\, 21st June 2022 \nTime: 1:30 PM – 3:00 PM \nAffected areas: Antigua Port Authority \n
URL:https://www.apua.ag/outage/electricity-maintenance-schedule-antigua-port-authority/
CATEGORIES:Maintenance,Scheduled Outages
END:VEVENT
BEGIN:VEVENT
DTSTART;TZID=America/Antigua:20220622T083000
DTEND;TZID=America/Antigua:20220622T120000
DTSTAMP:20260419T191958
CREATED:20220621T203017Z
LAST-MODIFIED:20220621T203017Z
UID:2730-1655886600-1655899200@www.apua.ag
SUMMARY:Electricity Maintenance Schedule - Section of Bellevue Heights and Buckley Line Roundabout
DESCRIPTION:Please note that Electricity will be suppressed during this period\nDate: Wednesday\, 22nd June 2022 \nTime: 8:30 AM – 12:00 PM \nAffected areas: Section of Bellevue Heights and Buckley Line Roundabout \n
URL:https://www.apua.ag/outage/electricity-maintenance-schedule-section-of-bellevue-heights-and-buckley-line-roundabout/
CATEGORIES:Maintenance,Scheduled Outages
END:VEVENT
BEGIN:VEVENT
DTSTART;TZID=America/Antigua:20220623T083000
DTEND;TZID=America/Antigua:20220623T110000
DTSTAMP:20260419T191958
CREATED:20220621T203126Z
LAST-MODIFIED:20220621T203126Z
UID:2732-1655973000-1655982000@www.apua.ag
SUMMARY:Electricity Maintenance Schedule - Section of Bolans north of the Primary School
DESCRIPTION:Please note that Electricity will be suppressed during this period\nDate: Thursday\, 23rd June 2022 \nTime: 8:30 AM – 11:30 AM \nAffected areas: Section of Bolans north of the Primary School \n
URL:https://www.apua.ag/outage/electricity-maintenance-schedule-section-of-bolans-north-of-the-primary-school-3/
CATEGORIES:Maintenance,Scheduled Outages
END:VEVENT
END:VCALENDAR