BEGIN:VCALENDAR
VERSION:2.0
PRODID:-//Antigua Public Utilities Authority (APUA) - ECPv5.1.2.1//NONSGML v1.0//EN
CALSCALE:GREGORIAN
METHOD:PUBLISH
X-WR-CALNAME:Antigua Public Utilities Authority (APUA)
X-ORIGINAL-URL:https://www.apua.ag
X-WR-CALDESC:Events for Antigua Public Utilities Authority (APUA)
BEGIN:VTIMEZONE
TZID:America/Antigua
BEGIN:STANDARD
TZOFFSETFROM:-0400
TZOFFSETTO:-0400
TZNAME:AST
DTSTART:20220101T000000
END:STANDARD
END:VTIMEZONE
BEGIN:VEVENT
DTSTART;TZID=America/Antigua:20220803T083000
DTEND;TZID=America/Antigua:20220803T113000
DTSTAMP:20260419T163106
CREATED:20220803T125701Z
LAST-MODIFIED:20220803T125815Z
UID:2814-1659515400-1659526200@www.apua.ag
SUMMARY:Electricity Maintenance Schedule - Section of Bendals near the Kennel
DESCRIPTION:Please note that Electricity will be suppressed during this period\nDate: Wednesday\, 3rd August 2022 \nTime: 8:30 AM – 11:30 AM \nAffected areas: Section of Bendals near the Kennel \n  \n
URL:https://www.apua.ag/outage/electricity-maintenance-schedule-section-of-bendals-new-the-kennel/
CATEGORIES:Maintenance,Scheduled Outages
END:VEVENT
BEGIN:VEVENT
DTSTART;TZID=America/Antigua:20220803T083000
DTEND;TZID=America/Antigua:20220803T113000
DTSTAMP:20260419T163106
CREATED:20220803T130429Z
LAST-MODIFIED:20220803T130429Z
UID:2821-1659515400-1659526200@www.apua.ag
SUMMARY:Electricity Maintenance Schedule - Section of Belle Vue Heights east of Purcell's Property
DESCRIPTION:Please note that Electricity will be suppressed during this period.\nDate: Thursday\, 4th August 2022 \nTime: 8:30 AM – 11:30 AM \nAffected areas: Section of Belle Vue Heights east of Purcell’s Property \n
URL:https://www.apua.ag/outage/electricity-maintenance-schedule-section-of-belle-vue-heights-east-of-purcells-property/
CATEGORIES:Maintenance,Scheduled Outages
END:VEVENT
BEGIN:VEVENT
DTSTART;TZID=America/Antigua:20220804T083000
DTEND;TZID=America/Antigua:20220804T113000
DTSTAMP:20260419T163106
CREATED:20220803T130228Z
LAST-MODIFIED:20220803T130228Z
UID:2817-1659601800-1659612600@www.apua.ag
SUMMARY:Electricity Maintenance Schedule - Section of Golden Grove near Jim Daddy's Church
DESCRIPTION:Please note that Electricity will be suppressed during this period.\nDate: Thursday\, 4th August 2022 \nTime: 8:30 AM – 11:30 AM \nAffected areas: Section of Golden Grove near Jim Daddy’s Church \n  \n
URL:https://www.apua.ag/outage/electricity-maintenance-schedule-section-of-golden-grove-near-jim-daddys-church/
CATEGORIES:Maintenance,Scheduled Outages
END:VEVENT
BEGIN:VEVENT
DTSTART;TZID=America/Antigua:20220805T083000
DTEND;TZID=America/Antigua:20220805T113000
DTSTAMP:20260419T163106
CREATED:20220803T131132Z
LAST-MODIFIED:20220803T131132Z
UID:2823-1659688200-1659699000@www.apua.ag
SUMMARY:Electricity Maintenance Schedule - Section of Jennings near the Secondary School
DESCRIPTION:Please note that Electricity will be suppressed during this period.\nDate: Friday\, 5th August 2022 \nTime: 8:30 AM – 11:30 AM \nAffected areas: Section of Jennings near the Secondary School \n
URL:https://www.apua.ag/outage/electricity-maintenance-schedule-section-of-jennings-near-the-secondary-school-4/
CATEGORIES:Maintenance,Scheduled Outages
END:VEVENT
BEGIN:VEVENT
DTSTART;TZID=America/Antigua:20220805T083000
DTEND;TZID=America/Antigua:20220805T113000
DTSTAMP:20260419T163106
CREATED:20220803T131512Z
LAST-MODIFIED:20220803T131512Z
UID:2825-1659688200-1659699000@www.apua.ag
SUMMARY:Electricity Maintenance Schedule - Section of Crosbies near Boons's Haven
DESCRIPTION:Please note that Electricity will be suppressed during this period.\nDate: Friday\, 5th August 2022 \nTime: 8:30 AM – 11:30 AM \nAffected areas: Section of Crosbies near Boons’s Haven \n
URL:https://www.apua.ag/outage/electricity-maintenance-schedule-section-of-crosbies-near-boonss-haven/
CATEGORIES:Maintenance,Scheduled Outages
END:VEVENT
BEGIN:VEVENT
DTSTART;TZID=America/Antigua:20220815T083000
DTEND;TZID=America/Antigua:20220815T113000
DTSTAMP:20260419T163106
CREATED:20220815T140822Z
LAST-MODIFIED:20220815T140822Z
UID:2882-1660552200-1660563000@www.apua.ag
SUMMARY:Electricity Maintenance Schedule - Section of Langfords
DESCRIPTION:Please note that Electricity will be suppressed during this period.\nDate: Monday\, 15th August 2022 \nTime: 8:30 AM – 11:30 AM \nAffected areas: Section of Langfords \n
URL:https://www.apua.ag/outage/electricity-maintenance-schedule-section-of-langfords/
CATEGORIES:Maintenance,Scheduled Outages
END:VEVENT
BEGIN:VEVENT
DTSTART;TZID=America/Antigua:20220815T083000
DTEND;TZID=America/Antigua:20220815T113000
DTSTAMP:20260419T163106
CREATED:20220815T140932Z
LAST-MODIFIED:20220815T141557Z
UID:2884-1660552200-1660563000@www.apua.ag
SUMMARY:Electricity Maintenance Schedule - Sea View Farm and Lightfoot
DESCRIPTION:Please note that Electricity will be suppressed during this period.\nDate: Monday\, 15th August 2022 \nTime: 8:30 AM – 11:30 AM \nAffected areas: Sea View Farm and Lightfoot \n
URL:https://www.apua.ag/outage/electricity-maintenance-schedule-sea-view-farm-and-lightfoot/
CATEGORIES:Maintenance,Scheduled Outages
END:VEVENT
BEGIN:VEVENT
DTSTART;TZID=America/Antigua:20220816T083000
DTEND;TZID=America/Antigua:20220816T113000
DTSTAMP:20260419T163106
CREATED:20220815T141703Z
LAST-MODIFIED:20220815T141703Z
UID:2886-1660638600-1660649400@www.apua.ag
SUMMARY:Electricity Maintenance Schedule - Section of Crosbies near Boon's Haven
DESCRIPTION:Please note that Electricity will be suppressed during this period.\nDate: Tuesday\, 16th August 2022 \nTime: 8:30 AM – 11:30 AM \nAffected areas: Section of Crosbies near Boon’s Haven \n
URL:https://www.apua.ag/outage/electricity-maintenance-schedule-section-of-crosbies-near-boons-haven-2/
CATEGORIES:Maintenance,Scheduled Outages
END:VEVENT
BEGIN:VEVENT
DTSTART;TZID=America/Antigua:20220818T083000
DTEND;TZID=America/Antigua:20220818T110000
DTSTAMP:20260419T163106
CREATED:20220815T141815Z
LAST-MODIFIED:20220818T131700Z
UID:2888-1660811400-1660820400@www.apua.ag
SUMMARY:Electricity Maintenance Schedule - Section of All Saints Road\, Scotts Hill\, Sir Lester Bird Mount St. John's Medical Centre
DESCRIPTION:Please note that Electricity will be suppressed during this period.\nDate: Thursday\, 18th August 2022 \nTime: 8:30 AM – 11:00 AM \nAffected areas: Section of All Saint Road\, Scotts Hill\, Sir Lester Bird Mount St. John’s Medical Centre \n
URL:https://www.apua.ag/outage/electricity-maintenance-schedule-section-of-all-saint-road-scotts-hill-sir-lester-bird-mount-st-johns-medical-centre/
CATEGORIES:Maintenance,Scheduled Outages
END:VEVENT
BEGIN:VEVENT
DTSTART;TZID=America/Antigua:20220823T083000
DTEND;TZID=America/Antigua:20220823T113000
DTSTAMP:20260419T163106
CREATED:20220822T133435Z
LAST-MODIFIED:20220824T135508Z
UID:2914-1661243400-1661254200@www.apua.ag
SUMMARY:Electricity Maintenance Schedule - Section of New Winthorpes near the football field and Cedar Valley area
DESCRIPTION:Please note that Electricity will be suppressed during this period.\nDate: Tuesday 23 August 2022 \nTime: 8:30 AM – 11:30 AM \nAffected areas: Section of New Winthorpes near the football field and Cedar Valley area \n
URL:https://www.apua.ag/outage/electricity-maintenance-schedule-section-of-new-winthorpes-near-the-football-field-and-cedar-valley-area/
CATEGORIES:Maintenance,Scheduled Outages
END:VEVENT
BEGIN:VEVENT
DTSTART;TZID=America/Antigua:20220824T083000
DTEND;TZID=America/Antigua:20220824T133000
DTSTAMP:20260419T163106
CREATED:20220824T133214Z
LAST-MODIFIED:20220824T133214Z
UID:2910-1661329800-1661347800@www.apua.ag
SUMMARY:Electricity Maintenance Schedule - Sections of Matthews; Western side of All Saints Secondary School\, and the vicinity of the Substation
DESCRIPTION:Please note that Electricity will be suppressed during this period\nDate: Wednesday 24 August 2022 \nTime: 8:30 AM – 1:30 PM \nAffected areas: Section of Matthews\, western side of All Saints Secondary School and Section of Matthews in the vicinity of the Substation \n  \n
URL:https://www.apua.ag/outage/electricity-maintenance-schedule-sections-of-matthews-western-side-of-all-saints-secondary-school-and-the-vicinity-of-the-substation/
CATEGORIES:Maintenance,Scheduled Outages
END:VEVENT
BEGIN:VEVENT
DTSTART;TZID=America/Antigua:20220826T083000
DTEND;TZID=America/Antigua:20220826T113000
DTSTAMP:20260419T163106
CREATED:20220824T133432Z
LAST-MODIFIED:20220824T133432Z
UID:2912-1661502600-1661513400@www.apua.ag
SUMMARY:Electricity Maintenance Schedule - Section of Jolly Hill
DESCRIPTION:Please note that Electricity will be suppressed during this period.\nDate: Friday 26 August 2022 \nTime: 8:30 AM – 11:30 AM \nAffected areas: Section of Jolly Hill \n  \n
URL:https://www.apua.ag/outage/electricity-maintenance-schedule-section-of-jolly-hill/
CATEGORIES:Maintenance,Scheduled Outages
END:VEVENT
BEGIN:VEVENT
DTSTART;TZID=America/Antigua:20220830T083000
DTEND;TZID=America/Antigua:20220830T113000
DTSTAMP:20260419T163106
CREATED:20220829T185853Z
LAST-MODIFIED:20220829T185853Z
UID:2925-1661848200-1661859000@www.apua.ag
SUMMARY:Electricity Maintenance Schedule - Section of Liberta near Table Hill
DESCRIPTION:Please note that Electricity will be suppressed during this period.\nDate: Tuesday\, 30th August 2022 \nTime: 8:30 AM – 11:30 AM \nAffected areas: Section of Liberta near Table Hill \n  \n  \n  \n
URL:https://www.apua.ag/outage/electricity-maintenance-schedule-section-of-liberta-near-table-hill/
CATEGORIES:Maintenance,Scheduled Outages
END:VEVENT
BEGIN:VEVENT
DTSTART;TZID=America/Antigua:20220901T083000
DTEND;TZID=America/Antigua:20220901T113000
DTSTAMP:20260419T163106
CREATED:20220829T190357Z
LAST-MODIFIED:20220829T190357Z
UID:2927-1662021000-1662031800@www.apua.ag
SUMMARY:Electricity Maintenance Schedule - Section of Bendals east of AMP Ltd
DESCRIPTION:Please note that Electricity will be suppressed during this period.\nDate: Thursday\, 1st September 2022 \nTime: 8:30 AM – 11:30 AM \nAffected areas: Section of Bendals east of AMP Ltd \n
URL:https://www.apua.ag/outage/electricity-maintenance-schedule-section-of-bendals-east-of-amp-ltd/
CATEGORIES:Maintenance,Scheduled Outages
END:VEVENT
BEGIN:VEVENT
DTSTART;TZID=America/Antigua:20220902T083000
DTEND;TZID=America/Antigua:20220902T113000
DTSTAMP:20260419T163106
CREATED:20220829T191221Z
LAST-MODIFIED:20220829T191221Z
UID:2929-1662107400-1662118200@www.apua.ag
SUMMARY:Electricity Maintenance Schedule - Section of Cassada Garden near Clare Hall Secondary School
DESCRIPTION:Please note that Electricity will be suppressed during this period.\nDate: Friday\, 2nd September 2022 \nTime: 8:30 AM – 11:30 AM \nAffected areas: Section of Cassada Garden near Clare Hall Secondary School \n
URL:https://www.apua.ag/outage/electricity-maintenance-schedule-section-of-cassada-garden-near-clare-hall-secondary-school/
CATEGORIES:Maintenance,Scheduled Outages
END:VEVENT
END:VCALENDAR