BEGIN:VCALENDAR
VERSION:2.0
PRODID:-//Antigua Public Utilities Authority (APUA) - ECPv5.1.2.1//NONSGML v1.0//EN
CALSCALE:GREGORIAN
METHOD:PUBLISH
X-WR-CALNAME:Antigua Public Utilities Authority (APUA)
X-ORIGINAL-URL:https://www.apua.ag
X-WR-CALDESC:Events for Antigua Public Utilities Authority (APUA)
BEGIN:VTIMEZONE
TZID:America/Antigua
BEGIN:STANDARD
TZOFFSETFROM:-0400
TZOFFSETTO:-0400
TZNAME:AST
DTSTART:20220101T000000
END:STANDARD
END:VTIMEZONE
BEGIN:VEVENT
DTSTART;TZID=America/Antigua:20220830T083000
DTEND;TZID=America/Antigua:20220830T113000
DTSTAMP:20260419T140110
CREATED:20220829T185853Z
LAST-MODIFIED:20220829T185853Z
UID:2925-1661848200-1661859000@www.apua.ag
SUMMARY:Electricity Maintenance Schedule - Section of Liberta near Table Hill
DESCRIPTION:Please note that Electricity will be suppressed during this period.\nDate: Tuesday\, 30th August 2022 \nTime: 8:30 AM – 11:30 AM \nAffected areas: Section of Liberta near Table Hill \n  \n  \n  \n
URL:https://www.apua.ag/outage/electricity-maintenance-schedule-section-of-liberta-near-table-hill/
CATEGORIES:Maintenance,Scheduled Outages
END:VEVENT
BEGIN:VEVENT
DTSTART;TZID=America/Antigua:20220901T083000
DTEND;TZID=America/Antigua:20220901T113000
DTSTAMP:20260419T140110
CREATED:20220829T190357Z
LAST-MODIFIED:20220829T190357Z
UID:2927-1662021000-1662031800@www.apua.ag
SUMMARY:Electricity Maintenance Schedule - Section of Bendals east of AMP Ltd
DESCRIPTION:Please note that Electricity will be suppressed during this period.\nDate: Thursday\, 1st September 2022 \nTime: 8:30 AM – 11:30 AM \nAffected areas: Section of Bendals east of AMP Ltd \n
URL:https://www.apua.ag/outage/electricity-maintenance-schedule-section-of-bendals-east-of-amp-ltd/
CATEGORIES:Maintenance,Scheduled Outages
END:VEVENT
BEGIN:VEVENT
DTSTART;TZID=America/Antigua:20220902T083000
DTEND;TZID=America/Antigua:20220902T113000
DTSTAMP:20260419T140110
CREATED:20220829T191221Z
LAST-MODIFIED:20220829T191221Z
UID:2929-1662107400-1662118200@www.apua.ag
SUMMARY:Electricity Maintenance Schedule - Section of Cassada Garden near Clare Hall Secondary School
DESCRIPTION:Please note that Electricity will be suppressed during this period.\nDate: Friday\, 2nd September 2022 \nTime: 8:30 AM – 11:30 AM \nAffected areas: Section of Cassada Garden near Clare Hall Secondary School \n
URL:https://www.apua.ag/outage/electricity-maintenance-schedule-section-of-cassada-garden-near-clare-hall-secondary-school/
CATEGORIES:Maintenance,Scheduled Outages
END:VEVENT
BEGIN:VEVENT
DTSTART;TZID=America/Antigua:20220905T080000
DTEND;TZID=America/Antigua:20220905T120000
DTSTAMP:20260419T140110
CREATED:20220902T185959Z
LAST-MODIFIED:20220902T185959Z
UID:2940-1662364800-1662379200@www.apua.ag
SUMMARY:Electricity Maintenance Schedule - Section of Friars Hill Road north of the APUA Substation and WIOC
DESCRIPTION:Please note that Electricity will be suppressed during this period.\nDate: Monday\, 5th September 2022 \nTime: 8:00 AM – 12:00 PM \nAffected areas: Section of Friars Hill Road north of the APUA Substation and WIOC \n
URL:https://www.apua.ag/outage/electricity-maintenance-schedule-section-of-friars-hill-road-north-of-the-apua-substation-and-wioc/
CATEGORIES:Maintenance,Scheduled Outages
END:VEVENT
BEGIN:VEVENT
DTSTART;TZID=America/Antigua:20220905T083000
DTEND;TZID=America/Antigua:20220905T113000
DTSTAMP:20260419T140110
CREATED:20220902T190106Z
LAST-MODIFIED:20220902T190106Z
UID:2942-1662366600-1662377400@www.apua.ag
SUMMARY:Electricity Maintenance Schedule - Section of Coolidge near LIAT Hanger and Hadeed Building
DESCRIPTION:Please note that Electricity will be suppressed during this period.\nDate: Monday\, 5th September 2022 \nTime: 8:30 AM – 11:30 AM \nAffected areas: Section of Coolidge near LIAT Hanger and Hadeed Building \n
URL:https://www.apua.ag/outage/electricity-maintenance-schedule-section-of-coolidge-near-liat-hanger-and-hadeed-building/
CATEGORIES:Maintenance,Scheduled Outages
END:VEVENT
BEGIN:VEVENT
DTSTART;TZID=America/Antigua:20220905T083000
DTEND;TZID=America/Antigua:20220905T113000
DTSTAMP:20260419T140110
CREATED:20220902T190252Z
LAST-MODIFIED:20220902T190252Z
UID:2944-1662366600-1662377400@www.apua.ag
SUMMARY:Electricity Maintenance Schedule - Section of Green Bay south and east of the Primary School
DESCRIPTION:Please note that Electricity will be suppressed during this period.\nDate: Monday\, 5th September 2022 \nTime: 8:30 AM – 11:30 AM \nAffected areas: Section of Green Bay south and east of the Primary School \n
URL:https://www.apua.ag/outage/electricity-maintenance-schedule-section-of-green-bay-south-and-east-of-the-primary-school/
CATEGORIES:Maintenance,Scheduled Outages
END:VEVENT
BEGIN:VEVENT
DTSTART;TZID=America/Antigua:20220906T083000
DTEND;TZID=America/Antigua:20220906T113000
DTSTAMP:20260419T140110
CREATED:20220902T190518Z
LAST-MODIFIED:20220902T190518Z
UID:2946-1662453000-1662463800@www.apua.ag
SUMMARY:Electricity Maintenance Schedule - Section of Fitches Creek around Vista Drive
DESCRIPTION:Please note that Electricity will be suppressed during this period.\nDate: Tuesday\, 6th September 2022 \nTime: 8:30 AM – 11:30 AM \nAffected areas: Section of Fitches Creek around Vista Drive \n
URL:https://www.apua.ag/outage/electricity-maintenance-schedule-section-of-fitches-creek-around-vista-drive/
CATEGORIES:Maintenance,Scheduled Outages
END:VEVENT
BEGIN:VEVENT
DTSTART;TZID=America/Antigua:20220907T083000
DTEND;TZID=America/Antigua:20220907T113000
DTSTAMP:20260419T140110
CREATED:20220902T190839Z
LAST-MODIFIED:20220904T233754Z
UID:2948-1662539400-1662550200@www.apua.ag
SUMMARY:Electricity Maintenance Schedule - Section of Swetes near the Irene B. Williams Secondary School and east of Buckleys
DESCRIPTION:Please note that Electricity will be suppressed during this period.\nDate: Wednesday\, 7th September 2022 \nTime: 8:30 AM – 11:30 AM \nAffected areas: Section of Swetes near the Irene B. Williams Secondary School and east of Buckleys \n
URL:https://www.apua.ag/outage/electricity-maintenance-schedule-section-of-swetes-near-the-irene-b-williams-secondary-school-and-east-of-buckleys/
CATEGORIES:Maintenance,Scheduled Outages
END:VEVENT
BEGIN:VEVENT
DTSTART;TZID=America/Antigua:20220907T083000
DTEND;TZID=America/Antigua:20220907T113000
DTSTAMP:20260419T140110
CREATED:20220904T234235Z
LAST-MODIFIED:20220905T000017Z
UID:2950-1662539400-1662550200@www.apua.ag
SUMMARY:Electricity Maintenance Schedule - Section of Hodges Bay near the Cedar Grove Playing Field
DESCRIPTION:Please note that Electricity will be suppressed during this period.\nDate: Wednesday\, 7th September 2022 \nTime: 8:30 AM – 11:30 AM \nAffected areas: Section of Hodges Bay near the Cedar Grove Playing Field \n
URL:https://www.apua.ag/outage/electricity-maintenance-schedule-section-of-hodges-bay-near-cedar-grove-the-playing-field/
CATEGORIES:Maintenance,Scheduled Outages
END:VEVENT
BEGIN:VEVENT
DTSTART;TZID=America/Antigua:20220908T083000
DTEND;TZID=America/Antigua:20220908T113000
DTSTAMP:20260419T140110
CREATED:20220905T000243Z
LAST-MODIFIED:20220905T000243Z
UID:2954-1662625800-1662636600@www.apua.ag
SUMMARY:Electricity Maintenance Schedule - Section of Folleys
DESCRIPTION:Please note that Electricity will be suppressed during this period.\nDate: Thursday\, 8th September 2022 \nTime: 8:30 AM – 11:30 AM \nAffected areas: Section of Folleys \n
URL:https://www.apua.ag/outage/electricity-maintenance-schedule-section-of-folleys/
CATEGORIES:Maintenance,Scheduled Outages
END:VEVENT
BEGIN:VEVENT
DTSTART;TZID=America/Antigua:20220909T083000
DTEND;TZID=America/Antigua:20220909T113000
DTSTAMP:20260419T140110
CREATED:20220905T000609Z
LAST-MODIFIED:20220905T000642Z
UID:2956-1662712200-1662723000@www.apua.ag
SUMMARY:Electricity Maintenance Schedule - Vernons\, Luna Park\, and east of the Sir Vivian Richards Stadium
DESCRIPTION:Please note that Electricity will be suppressed during this period.\nDate: Friday\, 9th September 2022 \nTime: 8:30 AM – 11:30 AM \nAffected areas: Vernons\, Luna Park\, and east of the Sir Vivian Richards Stadium \n
URL:https://www.apua.ag/outage/electricity-maintenance-schedule-vernons-luna-park-and-east-of-the-sir-vivian-richards-stadium/
CATEGORIES:Maintenance,Scheduled Outages
END:VEVENT
BEGIN:VEVENT
DTSTART;TZID=America/Antigua:20220912T083000
DTEND;TZID=America/Antigua:20220912T113000
DTSTAMP:20260419T140110
CREATED:20220909T185944Z
LAST-MODIFIED:20220909T185944Z
UID:2970-1662971400-1662982200@www.apua.ag
SUMMARY:Electricity Maintenance Schedule - Section of Factory Road south of Transport Board near T's Tire and ECO Trucking
DESCRIPTION:Please note that Electricity will be suppressed during this period.\nDate: Monday\, 12th September 2022 \nTime: 8:30 AM – 11:30 AM \nAffected areas: Section of Factory Road south of Transport Board near T’s Tire and ECO Trucking \n
URL:https://www.apua.ag/outage/electricity-maintenance-schedule-section-of-factory-road-south-of-transport-board-near-ts-tire-and-eco-trucking/
CATEGORIES:Maintenance,Scheduled Outages
END:VEVENT
BEGIN:VEVENT
DTSTART;TZID=America/Antigua:20220912T083000
DTEND;TZID=America/Antigua:20220912T113000
DTSTAMP:20260419T140110
CREATED:20220909T190203Z
LAST-MODIFIED:20220909T190203Z
UID:2972-1662971400-1662982200@www.apua.ag
SUMMARY:Electricity Maintenance Schedule - Section of Cedar Grove south of the Playing Field
DESCRIPTION:Please note that Electricity will be suppressed during this period.\nDate: Monday\, 12th September 2022 \nTime: 8:30 AM – 11:30 AM \nAffected areas: Section of Cedar Grove south of the Playing Field \n
URL:https://www.apua.ag/outage/electricity-maintenance-schedule-section-of-cedar-grove-south-of-the-playing-field/
CATEGORIES:Maintenance,Scheduled Outages
END:VEVENT
BEGIN:VEVENT
DTSTART;TZID=America/Antigua:20220912T083000
DTEND;TZID=America/Antigua:20220912T113000
DTSTAMP:20260419T140110
CREATED:20220912T180831Z
LAST-MODIFIED:20220912T180831Z
UID:2983-1662971400-1662982200@www.apua.ag
SUMMARY:Electricity Maintenance Schedule - Section of Factory Road south of Transport Board near T's Tire and ECO Trucking
DESCRIPTION:Please note that Electricity will be suppressed during this period.\nDate: Monday\, 12th September 2022 \nTime: 8:30 AM – 11:30 AM \nAffected areas: Section of Factory Road south of Transport Board near T’s Tire and ECO Trucking \n
URL:https://www.apua.ag/outage/electricity-maintenance-schedule-section-of-factory-road-south-of-transport-board-near-ts-tire-and-eco-trucking-2/
CATEGORIES:Maintenance,Scheduled Outages
END:VEVENT
BEGIN:VEVENT
DTSTART;TZID=America/Antigua:20220912T083000
DTEND;TZID=America/Antigua:20220912T113000
DTSTAMP:20260419T140110
CREATED:20220912T182956Z
LAST-MODIFIED:20220912T182956Z
UID:2985-1662971400-1662982200@www.apua.ag
SUMMARY:Electricity Maintenance Schedule - Section of Cedar Grove south of the Playing Field
DESCRIPTION:Please note that Electricity will be suppressed during this period.\nDate: Monday\, 12th September 2022 \nTime: 8:30 AM – 11:30 AM \nAffected areas: Section of Cedar Grove south of the Playing Field \n  \n
URL:https://www.apua.ag/outage/electricity-maintenance-schedule-section-of-cedar-grove-south-of-the-playing-field-2/
CATEGORIES:Maintenance,Scheduled Outages
END:VEVENT
BEGIN:VEVENT
DTSTART;TZID=America/Antigua:20220913T083000
DTEND;TZID=America/Antigua:20220913T113000
DTSTAMP:20260419T140110
CREATED:20220909T190424Z
LAST-MODIFIED:20220909T190424Z
UID:2974-1663057800-1663068600@www.apua.ag
SUMMARY:Electricity Maintenance Schedule - Section of Golden Grove southwest of Laro Resident
DESCRIPTION:Please note that Electricity will be suppressed during this period.\nDate: Tuesday\, 13th September 2022 \nTime: 8:30 AM – 11:30 AM \nAffected areas: Section of Golden Grove southwest of Laro Resident \n
URL:https://www.apua.ag/outage/electricity-maintenance-schedule-section-of-golden-grove-southwest-of-laro-resident/
CATEGORIES:Maintenance,Scheduled Outages
END:VEVENT
BEGIN:VEVENT
DTSTART;TZID=America/Antigua:20220913T083000
DTEND;TZID=America/Antigua:20220913T113000
DTSTAMP:20260419T140110
CREATED:20220909T190722Z
LAST-MODIFIED:20220909T190722Z
UID:2976-1663057800-1663068600@www.apua.ag
SUMMARY:Electricity Maintenance Schedule - Section of All Saints south of the Playing Field
DESCRIPTION:Please note that Electricity will be suppressed during this period.\nDate: Tuesday\, 13th September 2022 \nTime: 8:30 AM – 11:30 AM \nAffected areas: Section of All Saints south of the Playing Field \n
URL:https://www.apua.ag/outage/electricity-maintenance-schedule-section-of-all-saints-south-of-the-playing-field/
CATEGORIES:Maintenance,Scheduled Outages
END:VEVENT
BEGIN:VEVENT
DTSTART;TZID=America/Antigua:20220913T083000
DTEND;TZID=America/Antigua:20220913T113000
DTSTAMP:20260419T140110
CREATED:20220912T183904Z
LAST-MODIFIED:20220912T183904Z
UID:2987-1663057800-1663068600@www.apua.ag
SUMMARY:Electricity Maintenance Schedule - Section of Golden Grove Extension
DESCRIPTION:Please note that Electricity will be suppressed during this period.\nDate: Tuesday\, 13th September 2022 \nTime: 8:30 AM – 11:30 AM \nAffected areas: Section of Golden Grove Extension \n  \n
URL:https://www.apua.ag/outage/electricity-maintenance-schedule-section-of-golden-grove-extension/
CATEGORIES:Maintenance,Scheduled Outages
END:VEVENT
BEGIN:VEVENT
DTSTART;TZID=America/Antigua:20220913T083000
DTEND;TZID=America/Antigua:20220913T113000
DTSTAMP:20260419T140110
CREATED:20220912T184508Z
LAST-MODIFIED:20220912T184508Z
UID:2989-1663057800-1663068600@www.apua.ag
SUMMARY:Electricity Maintenance Schedule - Section of All Saints south of the Playing Field
DESCRIPTION:Please note that Electricity will be suppressed during this period\nDate: Tuesday\, 13th September 2022 \nTime: 8:30 AM – 11:30 AM \nAffected areas: Section of All Saints south of the Playing Field \n  \n
URL:https://www.apua.ag/outage/electricity-maintenance-schedule-section-of-all-saints-south-of-the-playing-field-2/
CATEGORIES:Maintenance,Scheduled Outages
END:VEVENT
BEGIN:VEVENT
DTSTART;TZID=America/Antigua:20220913T083000
DTEND;TZID=America/Antigua:20220913T113000
DTSTAMP:20260419T140110
CREATED:20220912T185128Z
LAST-MODIFIED:20220912T185128Z
UID:2991-1663057800-1663068600@www.apua.ag
SUMMARY:Electricity Maintenance Schedule - Section of All Saints south of the Playing Field
DESCRIPTION:Please note that Electricity will be suppressed during this period\nDate: Tuesday\, 13th September 2022 \nTime: 8:30 AM – 11:30 AM \nAffected areas: Section of All Saints south of the Playing Field \n  \n
URL:https://www.apua.ag/outage/electricity-maintenance-schedule-section-of-all-saints-south-of-the-playing-field-3/
CATEGORIES:Maintenance,Scheduled Outages
END:VEVENT
BEGIN:VEVENT
DTSTART;TZID=America/Antigua:20220914T083000
DTEND;TZID=America/Antigua:20220914T113000
DTSTAMP:20260419T140110
CREATED:20220909T190914Z
LAST-MODIFIED:20220909T190914Z
UID:2978-1663144200-1663155000@www.apua.ag
SUMMARY:Electricity Maintenance Schedule - Section of Herbert; going towards the junction of Potters and Factory Road
DESCRIPTION:Please note that Electricity will be suppressed during this period.\nDate: Wednesday\, 14th September 2022 \nTime: 8:30 AM – 11:30 AM \nAffected areas: Section of Herbert; going towards the junction of Potters and Factory Road \n
URL:https://www.apua.ag/outage/electricity-maintenance-schedule-section-of-herbert-going-towards-the-junction-of-potters-and-factory-road/
CATEGORIES:Maintenance,Scheduled Outages
END:VEVENT
BEGIN:VEVENT
DTSTART;TZID=America/Antigua:20220914T083000
DTEND;TZID=America/Antigua:20220914T113000
DTSTAMP:20260419T140110
CREATED:20220912T185959Z
LAST-MODIFIED:20220912T185959Z
UID:2993-1663144200-1663155000@www.apua.ag
SUMMARY:Electricity Maintenance Schedule - Section of Herbert; going towards the junction of Potters and Factory Road
DESCRIPTION:Please note that Electricity will be suppressed during this period\nDate: Wednesday\, 14th September 2022 \nTime: 8:30 AM – 11:30 AM \nAffected areas: Section of Herbert; going towards the junction of Potters and Factory Road \n  \n
URL:https://www.apua.ag/outage/electricity-maintenance-schedule-section-of-herbert-going-towards-the-junction-of-potters-and-factory-road-2/
CATEGORIES:Maintenance,Scheduled Outages
END:VEVENT
BEGIN:VEVENT
DTSTART;TZID=America/Antigua:20220923T083000
DTEND;TZID=America/Antigua:20220923T113000
DTSTAMP:20260419T140110
CREATED:20220922T193446Z
LAST-MODIFIED:20220922T193446Z
UID:3040-1663921800-1663932600@www.apua.ag
SUMMARY:Electricity Maintenance Schedule - Grays Green Community Center
DESCRIPTION:Please note that Electricity will be suppressed during this period.\nDate: Friday 23rd  September 2022 \nTime: 8:30 AM – 11:30 AM \nAffected areas: Grays Green Community Center \n
URL:https://www.apua.ag/outage/electricity-maintenance-schedule-grays-green-community-center/
CATEGORIES:Maintenance,Scheduled Outages
END:VEVENT
BEGIN:VEVENT
DTSTART;TZID=America/Antigua:20220923T083000
DTEND;TZID=America/Antigua:20220923T113000
DTSTAMP:20260419T140110
CREATED:20220922T193559Z
LAST-MODIFIED:20220922T193559Z
UID:3042-1663921800-1663932600@www.apua.ag
SUMMARY:Electricity Maintenance Schedule - Belmont Clinic and a small area east of the clinic
DESCRIPTION:Please note that Electricity will be suppressed during this period.\nDate: Friday 23rd September 2022 \nTime: 8:30 AM – 11:30 AM \nAffected areas: Belmont Clinic and a small area east of the clinic \n  \n
URL:https://www.apua.ag/outage/electricity-maintenance-schedule-belmont-clinic-and-a-small-area-east-of-the-clinic/
CATEGORIES:Maintenance,Scheduled Outages
END:VEVENT
BEGIN:VEVENT
DTSTART;TZID=America/Antigua:20220926T083000
DTEND;TZID=America/Antigua:20220926T120000
DTSTAMP:20260419T140110
CREATED:20220926T130750Z
LAST-MODIFIED:20220926T130750Z
UID:3048-1664181000-1664193600@www.apua.ag
SUMMARY:Electricity Maintenance Schedule - Villa (in the vicinity of the Poly Clinic)
DESCRIPTION:Please note that Electricity will be suppressed during this period.\nDate: Monday 26th September 2022 \nTime: 8:30 AM – 12:00 PM \nAffected areas: Villa (in the vicinity of the Poly Clinic) \n
URL:https://www.apua.ag/outage/electricity-maintenance-schedule-villa-in-the-vicinity-of-the-poly-clinic/
CATEGORIES:Maintenance,Scheduled Outages
END:VEVENT
BEGIN:VEVENT
DTSTART;TZID=America/Antigua:20220926T133000
DTEND;TZID=America/Antigua:20220926T160000
DTSTAMP:20260419T140110
CREATED:20220926T131853Z
LAST-MODIFIED:20220926T131853Z
UID:3050-1664199000-1664208000@www.apua.ag
SUMMARY:Electricity Maintenance Schedule - Section of  Sir Sydney Walling Highway (areas opposite the Transport Board near T's Tire Shop)
DESCRIPTION:Please note that Electricity will be suppressed during this period.\nDate: Monday 26th September 2022 \nTime: 1:30 PM – 4:00 PM \nAffected areas: Section of  Sir Sydney Walling Highway (areas opposite the Transport Board near T’s Tire Shop) \n
URL:https://www.apua.ag/outage/electricity-maintenance-schedule-section-of-sir-sydney-walling-highway-areas-opposite-the-transport-board-near-ts-tire-shop/
CATEGORIES:Maintenance,Scheduled Outages
END:VEVENT
BEGIN:VEVENT
DTSTART;TZID=America/Antigua:20220928T083000
DTEND;TZID=America/Antigua:20220928T160000
DTSTAMP:20260419T140110
CREATED:20220926T132358Z
LAST-MODIFIED:20220926T132358Z
UID:3052-1664353800-1664380800@www.apua.ag
SUMMARY:Electricity Maintenance Schedule - All Saints (from gas station to Tender Heart Daycare)
DESCRIPTION:Please note that Electricity will be suppressed during this period.\nDate: Wednesday 28th September 2022 \nTime: 8:30 AM – 4:00 PM \nAffected areas: All Saints (from gas station to Tender Heart Daycare) \n
URL:https://www.apua.ag/outage/electricity-maintenance-schedule-all-saints-from-gas-station-to-tender-heart-daycare/
CATEGORIES:Maintenance,Scheduled Outages
END:VEVENT
BEGIN:VEVENT
DTSTART;TZID=America/Antigua:20220929T083000
DTEND;TZID=America/Antigua:20220929T113000
DTSTAMP:20260419T140110
CREATED:20220926T132725Z
LAST-MODIFIED:20220926T132746Z
UID:3054-1664440200-1664451000@www.apua.ag
SUMMARY:Electricity Maintenance Schedule - Golden Grove Extension (in the vicinity of Mr. Fish & Shrimp Supermarket)
DESCRIPTION:Please note that Electricity will be suppressed during this period.\nDate: Thursday 29th September 2022 \nTime: 8:30 AM – 11:30 AM \nAffected areas: Golden Grove Extension (in the vicinity of Mr. Fish & Shrimp Supermarket) \n
URL:https://www.apua.ag/outage/electricity-maintenance-schedule-golden-grove-extension-in-the-vicinity-of-mr-fish-shrimp-supermarket/
CATEGORIES:Maintenance,Scheduled Outages
END:VEVENT
BEGIN:VEVENT
DTSTART;TZID=America/Antigua:20220930T083000
DTEND;TZID=America/Antigua:20220930T113000
DTSTAMP:20260419T140110
CREATED:20220926T132928Z
LAST-MODIFIED:20220926T132928Z
UID:3057-1664526600-1664537400@www.apua.ag
SUMMARY:Electricity Maintenance Schedule - Herberts Highway (from La Petite Daycare & Preschool to corner leading to Scott's Hill)
DESCRIPTION:Please note that Electricity will be suppressed during this period.\nDate: Friday 30th September 2022 \nTime: 8:30 AM – 11:30 AM \nAffected areas: Herberts Highway (from La Petite Daycare & Preschool to the corner leading to Scott’s Hill \n
URL:https://www.apua.ag/outage/electricity-maintenance-schedule-herberts-highway-from-la-petite-daycare-preschool-to-corner-leading-to-scotts-hill/
CATEGORIES:Maintenance,Scheduled Outages
END:VEVENT
BEGIN:VEVENT
DTSTART;TZID=America/Antigua:20220930T083000
DTEND;TZID=America/Antigua:20220930T120000
DTSTAMP:20260419T140110
CREATED:20220926T133054Z
LAST-MODIFIED:20220926T133054Z
UID:3059-1664526600-1664539200@www.apua.ag
SUMMARY:Electricity Maintenance Schedule - Hodges Bay (small area in the vicinity of old golf course road)
DESCRIPTION:Please note that Electricity will be suppressed during this period.\nDate: Friday 30th September 2022 \nTime: 8:30 AM – 12:00 PM \nAffected areas: Hodges Bay (a small area in the vicinity of the old golf course road) \n
URL:https://www.apua.ag/outage/electricity-maintenance-schedule-hodges-bay-small-area-in-the-vicinity-of-old-golf-course-road/
CATEGORIES:Maintenance,Scheduled Outages
END:VEVENT
END:VCALENDAR