BEGIN:VCALENDAR
VERSION:2.0
PRODID:-//Antigua Public Utilities Authority (APUA) - ECPv5.1.2.1//NONSGML v1.0//EN
CALSCALE:GREGORIAN
METHOD:PUBLISH
X-WR-CALNAME:Antigua Public Utilities Authority (APUA)
X-ORIGINAL-URL:https://www.apua.ag
X-WR-CALDESC:Events for Antigua Public Utilities Authority (APUA)
BEGIN:VTIMEZONE
TZID:America/Antigua
BEGIN:STANDARD
TZOFFSETFROM:-0400
TZOFFSETTO:-0400
TZNAME:AST
DTSTART:20210101T000000
END:STANDARD
END:VTIMEZONE
BEGIN:VEVENT
DTSTART;TZID=America/Antigua:20211221T133000
DTEND;TZID=America/Antigua:20211221T153000
DTSTAMP:20260419T150030
CREATED:20211220T115011Z
LAST-MODIFIED:20211221T155325Z
UID:2370-1640093400-1640100600@www.apua.ag
SUMMARY:Electricity Maintenance Schedule - Mac Pond
DESCRIPTION:Please note that Electricity will be suppressed during this period.\nDate: Tuesday\, 21st  December 2021 \nTime: 1:30 PM – 3:30PM \nAffected areas: Mac Pond \n  \n
URL:https://www.apua.ag/outage/_mac_pond/
CATEGORIES:Maintenance,Scheduled Outages
END:VEVENT
END:VCALENDAR