BEGIN:VCALENDAR
VERSION:2.0
PRODID:-//Antigua Public Utilities Authority (APUA) - ECPv5.1.2.1//NONSGML v1.0//EN
CALSCALE:GREGORIAN
METHOD:PUBLISH
X-WR-CALNAME:Antigua Public Utilities Authority (APUA)
X-ORIGINAL-URL:https://www.apua.ag
X-WR-CALDESC:Events for Antigua Public Utilities Authority (APUA)
BEGIN:VTIMEZONE
TZID:America/Antigua
BEGIN:STANDARD
TZOFFSETFROM:-0400
TZOFFSETTO:-0400
TZNAME:AST
DTSTART:20210101T000000
END:STANDARD
END:VTIMEZONE
BEGIN:VEVENT
DTSTART;TZID=America/Antigua:20211217T083000
DTEND;TZID=America/Antigua:20211217T130000
DTSTAMP:20260421T180429
CREATED:20211213T140427Z
LAST-MODIFIED:20211217T140528Z
UID:2360-1639729800-1639746000@www.apua.ag
SUMMARY:Electricity Maintenance Schedule - Boggy Peak
DESCRIPTION:Please note that Electricity will be suppressed during this period.\nDate: Friday\, 17th December  2021 \nTime: 8:30 AM – 1:00 PM \nAffected areas: Boggy Peak \n
URL:https://www.apua.ag/outage/electricity-maintenance-schedule-boggy-peak-6/
CATEGORIES:Maintenance,Scheduled Outages
END:VEVENT
END:VCALENDAR