BEGIN:VCALENDAR
VERSION:2.0
PRODID:-//Antigua Public Utilities Authority (APUA) - ECPv5.1.2.1//NONSGML v1.0//EN
CALSCALE:GREGORIAN
METHOD:PUBLISH
X-WR-CALNAME:Antigua Public Utilities Authority (APUA)
X-ORIGINAL-URL:https://www.apua.ag
X-WR-CALDESC:Events for Antigua Public Utilities Authority (APUA)
BEGIN:VTIMEZONE
TZID:America/Antigua
BEGIN:STANDARD
TZOFFSETFROM:-0400
TZOFFSETTO:-0400
TZNAME:AST
DTSTART:20250101T000000
END:STANDARD
END:VTIMEZONE
BEGIN:VEVENT
DTSTART;TZID=America/Antigua:20250402T083000
DTEND;TZID=America/Antigua:20250402T131500
DTSTAMP:20260425T191809
CREATED:20250331T133030Z
LAST-MODIFIED:20250331T133030Z
UID:5214-1743582600-1743599700@www.apua.ag
SUMMARY:Electricity Maintenance Schedule –  Dark Wood\, Tamarind Hills & Orange Valley
DESCRIPTION:Please note that the Electricity Service will be suppressed during this time. \nDate: Wednesday 2nd April 2025 \nTime: 8:30am – 1:15pm \nAffected area(s): Dark Wood\, Tamarind Hills & Orange Valley \n
URL:https://www.apua.ag/outage/electricity-maintenance-schedule-dark-wood-tamarind-hills-orange-valley-2/
CATEGORIES:Maintenance,Scheduled Outages
END:VEVENT
END:VCALENDAR