BEGIN:VCALENDAR
VERSION:2.0
PRODID:-//Antigua Public Utilities Authority (APUA) - ECPv5.1.2.1//NONSGML v1.0//EN
CALSCALE:GREGORIAN
METHOD:PUBLISH
X-WR-CALNAME:Antigua Public Utilities Authority (APUA)
X-ORIGINAL-URL:https://www.apua.ag
X-WR-CALDESC:Events for Antigua Public Utilities Authority (APUA)
BEGIN:VTIMEZONE
TZID:America/Antigua
BEGIN:STANDARD
TZOFFSETFROM:-0400
TZOFFSETTO:-0400
TZNAME:AST
DTSTART:20220101T000000
END:STANDARD
END:VTIMEZONE
BEGIN:VEVENT
DTSTART;TZID=America/Antigua:20220512T083000
DTEND;TZID=America/Antigua:20220512T113000
DTSTAMP:20260420T033447
CREATED:20220509T180211Z
LAST-MODIFIED:20220509T180211Z
UID:2615-1652344200-1652355000@www.apua.ag
SUMMARY:Electricity Maintenance Schedule - Eastern section of Carlisle
DESCRIPTION:Please note that Electricity will be suppressed during this period\nDate: Thursday\, 12th May 2022 \nTime: 8:30 AM – 11:30 AM \nAffected areas: Eastern section of Carlisle \n  \n
URL:https://www.apua.ag/outage/electricity-maintenance-schedule-eastern-section-of-carlisle/
CATEGORIES:Maintenance,Scheduled Outages
END:VEVENT
END:VCALENDAR