BEGIN:VCALENDAR
VERSION:2.0
PRODID:-//Antigua Public Utilities Authority (APUA) - ECPv5.1.2.1//NONSGML v1.0//EN
CALSCALE:GREGORIAN
METHOD:PUBLISH
X-WR-CALNAME:Antigua Public Utilities Authority (APUA)
X-ORIGINAL-URL:https://www.apua.ag
X-WR-CALDESC:Events for Antigua Public Utilities Authority (APUA)
BEGIN:VTIMEZONE
TZID:America/Antigua
BEGIN:STANDARD
TZOFFSETFROM:-0400
TZOFFSETTO:-0400
TZNAME:AST
DTSTART:20250101T000000
END:STANDARD
END:VTIMEZONE
BEGIN:VEVENT
DTSTART;TZID=America/Antigua:20250808T080000
DTEND;TZID=America/Antigua:20250808T170000
DTSTAMP:20260425T232353
CREATED:20250806T191741Z
LAST-MODIFIED:20250806T191741Z
UID:5664-1754640000-1754672400@www.apua.ag
SUMMARY:Electricity Maintenance Schedule - Factory Road in the vicinity of XPZ and North Sound
DESCRIPTION:Please note that the Electricity Service will be suppressed during this time. \nDate: Friday 8th August 2025 \nTime: 8:30 AM – 11:30 AM \nAffected areas: Factory Road in the vicinity of XPZ and North Sound \n
URL:https://www.apua.ag/outage/electricity-maintenance-schedule-factory-road-in-the-vicinity-of-xpz-and-north-sound/
CATEGORIES:Maintenance,Scheduled Outages
END:VEVENT
END:VCALENDAR