BEGIN:VCALENDAR
VERSION:2.0
PRODID:-//Antigua Public Utilities Authority (APUA) - ECPv5.1.2.1//NONSGML v1.0//EN
CALSCALE:GREGORIAN
METHOD:PUBLISH
X-WR-CALNAME:Antigua Public Utilities Authority (APUA)
X-ORIGINAL-URL:https://www.apua.ag
X-WR-CALDESC:Events for Antigua Public Utilities Authority (APUA)
BEGIN:VTIMEZONE
TZID:America/Antigua
BEGIN:STANDARD
TZOFFSETFROM:-0400
TZOFFSETTO:-0400
TZNAME:AST
DTSTART:20210101T000000
END:STANDARD
END:VTIMEZONE
BEGIN:VEVENT
DTSTART;TZID=America/Antigua:20210219T153000
DTEND;TZID=America/Antigua:20210219T180000
DTSTAMP:20260421T135452
CREATED:20210219T134248Z
LAST-MODIFIED:20210219T134248Z
UID:1699-1613748600-1613757600@www.apua.ag
SUMMARY:Electricity Maintenance Schedule - Friday 19th February between 3:30pm and 6:00pm
DESCRIPTION:The APUA Electricity Business Unit will be carrying out maintenance tomorrow\, Friday February 19th 2021 that will result in minimal power interruptions between the hours of 3:30pm – 6:00pm lasting no more than 15 minutes. \nAPUA sincerely apologizes for any inconvenience this may cause. \nDate: Friday 19th February 2021 \nTime: 3:30PM – 6:00PM \nAffected areas: \n\nAll Saints Main Road\nBrowns Avenue\nBelmont\nRadio Range\nJennings\nEbenezer\nYorks\nGolden Grove\nNut Grove\nCashew Hill\nBendals\nParham\nParham Corner\nJonas Road\nHerberts\nBuckleys Main Road\n\n
URL:https://www.apua.ag/outage/electricity-maintenance-schedule-friday-19th-february-between-330pm-and-600pm/
CATEGORIES:Maintenance
END:VEVENT
END:VCALENDAR