BEGIN:VCALENDAR
VERSION:2.0
PRODID:-//Antigua Public Utilities Authority (APUA) - ECPv5.1.2.1//NONSGML v1.0//EN
CALSCALE:GREGORIAN
METHOD:PUBLISH
X-WR-CALNAME:Antigua Public Utilities Authority (APUA)
X-ORIGINAL-URL:https://www.apua.ag
X-WR-CALDESC:Events for Antigua Public Utilities Authority (APUA)
BEGIN:VTIMEZONE
TZID:America/Antigua
BEGIN:STANDARD
TZOFFSETFROM:-0400
TZOFFSETTO:-0400
TZNAME:AST
DTSTART:20250101T000000
END:STANDARD
END:VTIMEZONE
BEGIN:VEVENT
DTSTART;TZID=America/Antigua:20250228T083000
DTEND;TZID=America/Antigua:20250228T103000
DTSTAMP:20260424T100543
CREATED:20250227T151802Z
LAST-MODIFIED:20250227T151802Z
UID:5104-1740731400-1740738600@www.apua.ag
SUMMARY:Electricity Maintenance Schedule – Hatton\, Cooks Estate\, Union Rd\, Christian Street\, King Obstinate Drive\, Grays Farm\, Green Bay\, King George Grounds\, Michaels Mount\, Five Islands\, Galley Bay\, Hawks Bill\, Yeptons & Royalton Hotel
DESCRIPTION:Please note that the Electricity Service will be suppressed during this time.  \nDate: Friday 28th February 2025 \nTime: 8:30am – 10:30am \nAffected area(s): Hatton\, Cooks Estate\, Union Rd\, Christian Street\, King Obstinate Drive\, Grays Farm\, Green Bay\, King George Grounds\, Michaels Mount\, Five Islands\, Galley Bay\, Hawks Bill\, Yeptons & Royalton Hotel \n
URL:https://www.apua.ag/outage/electricity-maintenance-schedule-hatton-cooks-estate-union-rd-christian-street-king-obstinate-drive-grays-farm-green-bay-king-george-grounds-michaels-mount-five-islands-galley-bay/
CATEGORIES:Maintenance,Scheduled Outages
END:VEVENT
END:VCALENDAR