BEGIN:VCALENDAR
VERSION:2.0
PRODID:-//Antigua Public Utilities Authority (APUA) - ECPv5.1.2.1//NONSGML v1.0//EN
CALSCALE:GREGORIAN
METHOD:PUBLISH
X-WR-CALNAME:Antigua Public Utilities Authority (APUA)
X-ORIGINAL-URL:https://www.apua.ag
X-WR-CALDESC:Events for Antigua Public Utilities Authority (APUA)
BEGIN:VTIMEZONE
TZID:America/Antigua
BEGIN:STANDARD
TZOFFSETFROM:-0400
TZOFFSETTO:-0400
TZNAME:AST
DTSTART:20250101T000000
END:STANDARD
END:VTIMEZONE
BEGIN:VEVENT
DTSTART;TZID=America/Antigua:20250228T103000
DTEND;TZID=America/Antigua:20250228T120000
DTSTAMP:20260420T191557
CREATED:20250227T152423Z
LAST-MODIFIED:20250227T152423Z
UID:5106-1740738600-1740744000@www.apua.ag
SUMMARY:Electricity Maintenance Schedule – Intermittent Outages - Lower All Saints Road\, Kentish Road\, De Souza Road\, Robinson Service Station\, Lower Ottos
DESCRIPTION:The following areas will be affected by one (1) period of approximately 30 minutes of intermittent outages during the scheduled period between the hours of 10:30am – 12:00pm. \n  \nDate: Saturday 1st March 2025\nTime: 10:30am – 12:00pm\nAffected area(s): Lower All Saints Road\, Kentish Road\, De Souza Road\, Robinson Service Station\, Lower Ottos\nPlease note that the Electricity Service may be de-enegized and re-engergized several times during the allotted  period.  \n  \n
URL:https://www.apua.ag/outage/electricity-maintenance-schedule-intermittent-outages-lower-all-saints-road-kentish-road-de-souza-road-robinson-service-station-lower-ottos/
CATEGORIES:Maintenance,Scheduled Outages
END:VEVENT
END:VCALENDAR