BEGIN:VCALENDAR
VERSION:2.0
PRODID:-//Antigua Public Utilities Authority (APUA) - ECPv5.1.2.1//NONSGML v1.0//EN
CALSCALE:GREGORIAN
METHOD:PUBLISH
X-WR-CALNAME:Antigua Public Utilities Authority (APUA)
X-ORIGINAL-URL:https://www.apua.ag
X-WR-CALDESC:Events for Antigua Public Utilities Authority (APUA)
BEGIN:VTIMEZONE
TZID:America/Antigua
BEGIN:STANDARD
TZOFFSETFROM:-0400
TZOFFSETTO:-0400
TZNAME:AST
DTSTART:20240101T000000
END:STANDARD
END:VTIMEZONE
BEGIN:VEVENT
DTSTART;TZID=America/Antigua:20241213T083000
DTEND;TZID=America/Antigua:20241213T133000
DTSTAMP:20260421T183637
CREATED:20241210T200742Z
LAST-MODIFIED:20241210T201214Z
UID:4982-1734078600-1734096600@www.apua.ag
SUMMARY:Electricity Maintenance Schedule - Seatons and Section of Glanvilles\, in the vicinity of St. Stephens Church
DESCRIPTION:Please note that the Electricity Service will be suppressed during this time.  \nDate: Thursday 12th December 2024\nTime: 8:30am – 1:30pm\nAffected area(s): Seatons and Section of Glanvilles\, in the vicinity of St. Stephens Church\n
URL:https://www.apua.ag/outage/electricity-maintenance-schedule-seatons-and-section-of-glanvilles-in-the-vicinity-of-st-stephens-church/
CATEGORIES:Maintenance,Scheduled Outages
END:VEVENT
END:VCALENDAR