BEGIN:VCALENDAR
VERSION:2.0
PRODID:-//Antigua Public Utilities Authority (APUA) - ECPv5.1.2.1//NONSGML v1.0//EN
CALSCALE:GREGORIAN
METHOD:PUBLISH
X-WR-CALNAME:Antigua Public Utilities Authority (APUA)
X-ORIGINAL-URL:https://www.apua.ag
X-WR-CALDESC:Events for Antigua Public Utilities Authority (APUA)
BEGIN:VTIMEZONE
TZID:America/Antigua
BEGIN:STANDARD
TZOFFSETFROM:-0400
TZOFFSETTO:-0400
TZNAME:AST
DTSTART:20250101T000000
END:STANDARD
END:VTIMEZONE
BEGIN:VEVENT
DTSTART;TZID=America/Antigua:20250707T083000
DTEND;TZID=America/Antigua:20250707T140000
DTSTAMP:20260420T155241
CREATED:20250707T134118Z
LAST-MODIFIED:20250707T134118Z
UID:5517-1751877000-1751896800@www.apua.ag
SUMMARY:Electricity Maintenance Schedule - Section of All Saints Road in the vicinity of Lics\, Ferris Farm and Renfrew
DESCRIPTION:Please note that the Electricity Service will be suppressed during this time. \nDate: Monday 7th July 2025 \nTime: 8:30am – 2:00pm \nAffected area(s): Section of All Saints Road in the vicinity of Lics\, Ferris Farm and Renfrew \n
URL:https://www.apua.ag/outage/electricity-maintenance-schedule-section-of-all-saints-road-in-the-vicinity-of-lics-ferris-farm-and-renfrew/
CATEGORIES:Maintenance,Scheduled Outages
END:VEVENT
END:VCALENDAR