BEGIN:VCALENDAR
VERSION:2.0
PRODID:-//Antigua Public Utilities Authority (APUA) - ECPv5.1.2.1//NONSGML v1.0//EN
CALSCALE:GREGORIAN
METHOD:PUBLISH
X-WR-CALNAME:Antigua Public Utilities Authority (APUA)
X-ORIGINAL-URL:https://www.apua.ag
X-WR-CALDESC:Events for Antigua Public Utilities Authority (APUA)
BEGIN:VTIMEZONE
TZID:America/Antigua
BEGIN:STANDARD
TZOFFSETFROM:-0400
TZOFFSETTO:-0400
TZNAME:AST
DTSTART:20250101T000000
END:STANDARD
END:VTIMEZONE
BEGIN:VEVENT
DTSTART;TZID=America/Antigua:20250310T083000
DTEND;TZID=America/Antigua:20250310T113000
DTSTAMP:20260425T005128
CREATED:20250310T123306Z
LAST-MODIFIED:20250310T185742Z
UID:5139-1741595400-1741606200@www.apua.ag
SUMMARY:Electricity Maintenance Schedule – Section of Bolans\, in the vicinity of the bridge
DESCRIPTION:Please note that the Electricity Service will be suppressed during this time. \nDate: Monday 10th March 2025\nTime: 8:30am – 11:30am\nAffected area(s): Section of Bolans\, in the vicinity of the bridge\n
URL:https://www.apua.ag/outage/electricity-maintenance-schedule-section-of-bolans-in-the-vicinity-of-the-bridge/
CATEGORIES:Maintenance,Scheduled Outages
END:VEVENT
END:VCALENDAR