BEGIN:VCALENDAR
VERSION:2.0
PRODID:-//Antigua Public Utilities Authority (APUA) - ECPv5.1.2.1//NONSGML v1.0//EN
CALSCALE:GREGORIAN
METHOD:PUBLISH
X-WR-CALNAME:Antigua Public Utilities Authority (APUA)
X-ORIGINAL-URL:https://www.apua.ag
X-WR-CALDESC:Events for Antigua Public Utilities Authority (APUA)
BEGIN:VTIMEZONE
TZID:America/Antigua
BEGIN:STANDARD
TZOFFSETFROM:-0400
TZOFFSETTO:-0400
TZNAME:AST
DTSTART:20210101T000000
END:STANDARD
END:VTIMEZONE
BEGIN:VEVENT
DTSTART;TZID=America/Antigua:20210720T082000
DTEND;TZID=America/Antigua:20210720T113000
DTSTAMP:20260423T005549
CREATED:20210719T142407Z
LAST-MODIFIED:20210719T142407Z
UID:1959-1626769200-1626780600@www.apua.ag
SUMMARY:Electricity Maintenance Schedule – Section of Briggins near the pond
DESCRIPTION:Please note that Electricity will be suppressed during this period.\nDate: Tuesday\, 20th July 2021 \nTime: 8:20 AM  –  11:30 AM \nAffected areas: Section of Briggins near the pond \n  \n  \n
URL:https://www.apua.ag/outage/electricity-maintenance-schedule-section-of-briggins-near-the-pond/
CATEGORIES:Maintenance,Scheduled Outages
END:VEVENT
END:VCALENDAR