BEGIN:VCALENDAR
VERSION:2.0
PRODID:-//Antigua Public Utilities Authority (APUA) - ECPv5.1.2.1//NONSGML v1.0//EN
CALSCALE:GREGORIAN
METHOD:PUBLISH
X-WR-CALNAME:Antigua Public Utilities Authority (APUA)
X-ORIGINAL-URL:https://www.apua.ag
X-WR-CALDESC:Events for Antigua Public Utilities Authority (APUA)
BEGIN:VTIMEZONE
TZID:America/Antigua
BEGIN:STANDARD
TZOFFSETFROM:-0400
TZOFFSETTO:-0400
TZNAME:AST
DTSTART:20250101T000000
END:STANDARD
END:VTIMEZONE
BEGIN:VEVENT
DTSTART;TZID=America/Antigua:20250321T083000
DTEND;TZID=America/Antigua:20250321T083000
DTSTAMP:20260422T131256
CREATED:20250317T183520Z
LAST-MODIFIED:20250317T183520Z
UID:5176-1742545800-1742545800@www.apua.ag
SUMMARY:Electricity Maintenance Schedule – Section of Cedar Grove\, in the vicinity of the Water Tank and Hodges Bay\, near Ocean Point Resort & Spa
DESCRIPTION:Please note that the Electricity Service will be suppressed during this time.  \nDate: Friday 21st March 2025 \nTime: 8:30am – 1:30pm \nAffected area(s): Section of Cedar Grove\, in the vicinity of the Water Tank and Hodges Bay\, near Ocean Point Resort & Spa  \n
URL:https://www.apua.ag/outage/electricity-maintenance-schedule-section-of-cedar-grove-in-the-vicinity-of-the-water-tank-and-hodges-bay-near-ocean-point-resort-spa/
CATEGORIES:Maintenance,Scheduled Outages
END:VEVENT
END:VCALENDAR