BEGIN:VCALENDAR
VERSION:2.0
PRODID:-//Antigua Public Utilities Authority (APUA) - ECPv5.1.2.1//NONSGML v1.0//EN
CALSCALE:GREGORIAN
METHOD:PUBLISH
X-WR-CALNAME:Antigua Public Utilities Authority (APUA)
X-ORIGINAL-URL:https://www.apua.ag
X-WR-CALDESC:Events for Antigua Public Utilities Authority (APUA)
BEGIN:VTIMEZONE
TZID:America/Antigua
BEGIN:STANDARD
TZOFFSETFROM:-0400
TZOFFSETTO:-0400
TZNAME:AST
DTSTART:20250101T000000
END:STANDARD
END:VTIMEZONE
BEGIN:VEVENT
DTSTART;TZID=America/Antigua:20250731T083000
DTEND;TZID=America/Antigua:20250731T140000
DTSTAMP:20260423T163927
CREATED:20250728T190713Z
LAST-MODIFIED:20250728T190713Z
UID:5631-1753950600-1753970400@www.apua.ag
SUMMARY:Electricity Maintenance Schedule - Section of Cedar Valley\, in the vicinity of Old Popeshead Road
DESCRIPTION:Please note that the Electricity Service will be suppressed during this time. \nDate: Thursday\, 31st July 2025 \nTime: 8:30 AM – 2:00 PM \nAffected areas: Section of Cedar Valley\, in the vicinity of Old Popeshead Road \n
URL:https://www.apua.ag/outage/electricity-maintenance-schedule-section-of-cedar-valley-in-the-vicinity-of-old-popeshead-road/
CATEGORIES:Maintenance,Scheduled Outages
END:VEVENT
END:VCALENDAR