BEGIN:VCALENDAR
VERSION:2.0
PRODID:-//Antigua Public Utilities Authority (APUA) - ECPv5.1.2.1//NONSGML v1.0//EN
CALSCALE:GREGORIAN
METHOD:PUBLISH
X-WR-CALNAME:Antigua Public Utilities Authority (APUA)
X-ORIGINAL-URL:https://www.apua.ag
X-WR-CALDESC:Events for Antigua Public Utilities Authority (APUA)
BEGIN:VTIMEZONE
TZID:America/Antigua
BEGIN:STANDARD
TZOFFSETFROM:-0400
TZOFFSETTO:-0400
TZNAME:AST
DTSTART:20250101T000000
END:STANDARD
END:VTIMEZONE
BEGIN:VEVENT
DTSTART;TZID=America/Antigua:20250403T110000
DTEND;TZID=America/Antigua:20250403T131500
DTSTAMP:20260425T190709
CREATED:20250331T145752Z
LAST-MODIFIED:20250331T145752Z
UID:5218-1743678000-1743686100@www.apua.ag
SUMMARY:Electricity Maintenance Schedule –  Section of Cedar Valley near golf course
DESCRIPTION:Please note that the Electricity Service will be suppressed during this time. \nDate: Thursday 3rd April 2025 \nTime: 11:00am – 1:15pm \nAffected area(s): Section of Cedar Valley near golf course \n
URL:https://www.apua.ag/outage/electricity-maintenance-schedule-section-of-cedar-valley-near-golf-course/
CATEGORIES:Maintenance,Scheduled Outages
END:VEVENT
END:VCALENDAR