BEGIN:VCALENDAR
VERSION:2.0
PRODID:-//Antigua Public Utilities Authority (APUA) - ECPv5.1.2.1//NONSGML v1.0//EN
CALSCALE:GREGORIAN
METHOD:PUBLISH
X-WR-CALNAME:Antigua Public Utilities Authority (APUA)
X-ORIGINAL-URL:https://www.apua.ag
X-WR-CALDESC:Events for Antigua Public Utilities Authority (APUA)
BEGIN:VTIMEZONE
TZID:America/Antigua
BEGIN:STANDARD
TZOFFSETFROM:-0400
TZOFFSETTO:-0400
TZNAME:AST
DTSTART:20250101T000000
END:STANDARD
END:VTIMEZONE
BEGIN:VEVENT
DTSTART;TZID=America/Antigua:20250318T080000
DTEND;TZID=America/Antigua:20250318T080000
DTSTAMP:20260420T155220
CREATED:20250317T144614Z
LAST-MODIFIED:20250317T144848Z
UID:5161-1742284800-1742284800@www.apua.ag
SUMMARY:Electricity Maintenance Schedule – Section of Clarks Hill\, on Mango Lane\, Midway Service Station\, Bellvue Estate
DESCRIPTION:Please note that the Electricity Service will be suppressed during this time.  \nDate: Tuesday 18th March 2025 \nTime: 8:30am – 2:30pm \nAffected area(s): Section of Clarks Hill\, on Mango Lane\, Midway Service Station\, Bellvue Estate \n
URL:https://www.apua.ag/outage/electricity-maintenance-schedule-section-of-clarks-hill-on-mango-lane-midway-service-station-bellvue-estate-3/
CATEGORIES:Maintenance,Scheduled Outages
END:VEVENT
END:VCALENDAR