BEGIN:VCALENDAR
VERSION:2.0
PRODID:-//Antigua Public Utilities Authority (APUA) - ECPv5.1.2.1//NONSGML v1.0//EN
CALSCALE:GREGORIAN
METHOD:PUBLISH
X-WR-CALNAME:Antigua Public Utilities Authority (APUA)
X-ORIGINAL-URL:https://www.apua.ag
X-WR-CALDESC:Events for Antigua Public Utilities Authority (APUA)
BEGIN:VTIMEZONE
TZID:America/Antigua
BEGIN:STANDARD
TZOFFSETFROM:-0400
TZOFFSETTO:-0400
TZNAME:AST
DTSTART:20250101T000000
END:STANDARD
END:VTIMEZONE
BEGIN:VEVENT
DTSTART;TZID=America/Antigua:20250808T120000
DTEND;TZID=America/Antigua:20250808T140000
DTSTAMP:20260425T192608
CREATED:20250806T195002Z
LAST-MODIFIED:20250806T195002Z
UID:5666-1754654400-1754661600@www.apua.ag
SUMMARY:Electricity Maintenance Schedule - Section of Crabbe Hill\, in the vicinity of Keyonna Beach Resort
DESCRIPTION:Please note that the Electricity Service will be suppressed during this time. \nDate: Friday 8th August 2025 \nTime: 12:00 PM – 2:00 PM \nAffected areas: Section of Crabbe Hill\, in the vicinity of Keyonna Beach Resort \n
URL:https://www.apua.ag/outage/electricity-maintenance-schedule-section-of-crabbe-hill-in-the-vicinity-of-keyonna-beach-resort/
CATEGORIES:Maintenance,Scheduled Outages
END:VEVENT
END:VCALENDAR