BEGIN:VCALENDAR
VERSION:2.0
PRODID:-//Antigua Public Utilities Authority (APUA) - ECPv5.1.2.1//NONSGML v1.0//EN
CALSCALE:GREGORIAN
METHOD:PUBLISH
X-WR-CALNAME:Antigua Public Utilities Authority (APUA)
X-ORIGINAL-URL:https://www.apua.ag
X-WR-CALDESC:Events for Antigua Public Utilities Authority (APUA)
BEGIN:VTIMEZONE
TZID:America/Antigua
BEGIN:STANDARD
TZOFFSETFROM:-0400
TZOFFSETTO:-0400
TZNAME:AST
DTSTART:20250101T000000
END:STANDARD
END:VTIMEZONE
BEGIN:VEVENT
DTSTART;TZID=America/Antigua:20250312T083000
DTEND;TZID=America/Antigua:20250312T113000
DTSTAMP:20260421T074308
CREATED:20250310T195638Z
LAST-MODIFIED:20250310T195638Z
UID:5153-1741768200-1741779000@www.apua.ag
SUMMARY:Electricity Maintenance Schedule – Section of Dry Hill\, on Smith Road
DESCRIPTION:Please note that the Electricity Service will be suppressed during this time.  \nDate: Wednesday 12th March 2025\nTime: 8:30am – 11:30am\nAffected area(s): Section of Dry Hill\, on Smith Road\n
URL:https://www.apua.ag/outage/electricity-maintenance-schedule-section-of-dry-hill-on-smith-road/
CATEGORIES:Maintenance,Scheduled Outages
END:VEVENT
END:VCALENDAR