BEGIN:VCALENDAR
VERSION:2.0
PRODID:-//Antigua Public Utilities Authority (APUA) - ECPv5.1.2.1//NONSGML v1.0//EN
CALSCALE:GREGORIAN
METHOD:PUBLISH
X-WR-CALNAME:Antigua Public Utilities Authority (APUA)
X-ORIGINAL-URL:https://www.apua.ag
X-WR-CALDESC:Events for Antigua Public Utilities Authority (APUA)
BEGIN:VTIMEZONE
TZID:America/Antigua
BEGIN:STANDARD
TZOFFSETFROM:-0400
TZOFFSETTO:-0400
TZNAME:AST
DTSTART:20240101T000000
END:STANDARD
END:VTIMEZONE
BEGIN:VEVENT
DTSTART;TZID=America/Antigua:20241108T083000
DTEND;TZID=America/Antigua:20241108T134500
DTSTAMP:20260425T223725
CREATED:20241104T175343Z
LAST-MODIFIED:20241108T120316Z
UID:4867-1731054600-1731073500@www.apua.ag
SUMMARY:Electricity Maintenance Schedule - Section of English Harbour\, in the vicinity of North Sails Antigua
DESCRIPTION:Please note that Electricity will be suppressed during this period. \nDate: Friday 8th November 2024\nTime: 8:30am – 1:45pm\nAffected area(s): Section of English Harbour\, in the vicinity of North Sails Antigua \n
URL:https://www.apua.ag/outage/electricity-maintenance-schedule-section-of-english-harbour-in-the-vicinity-of-north-sails-antigua/
CATEGORIES:Maintenance,Scheduled Outages
END:VEVENT
END:VCALENDAR