BEGIN:VCALENDAR
VERSION:2.0
PRODID:-//Antigua Public Utilities Authority (APUA) - ECPv5.1.2.1//NONSGML v1.0//EN
CALSCALE:GREGORIAN
METHOD:PUBLISH
X-WR-CALNAME:Antigua Public Utilities Authority (APUA)
X-ORIGINAL-URL:https://www.apua.ag
X-WR-CALDESC:Events for Antigua Public Utilities Authority (APUA)
BEGIN:VTIMEZONE
TZID:America/Antigua
BEGIN:STANDARD
TZOFFSETFROM:-0400
TZOFFSETTO:-0400
TZNAME:AST
DTSTART:20250101T000000
END:STANDARD
END:VTIMEZONE
BEGIN:VEVENT
DTSTART;TZID=America/Antigua:20250211T083000
DTEND;TZID=America/Antigua:20250211T140000
DTSTAMP:20260423T010948
CREATED:20250210T193000Z
LAST-MODIFIED:20250210T193000Z
UID:5029-1739262600-1739282400@www.apua.ag
SUMMARY:Electricity Maintenance Schedule - Section of Fitches Creek\, in the vicinity of Central Avenue & Fitches Creek Drive
DESCRIPTION:Please note that the Electricity Service will be suppressed during this time.  \nDate: Tuesday 11th February 2025 \nTime: 8:30am – 2:00pm \nAffected area(s):  Section of Fitches Creek\, in the vicinity of Central Avenue & Fitches Creek Drive \n
URL:https://www.apua.ag/outage/electricity-maintenance-schedule-section-of-fitches-creek-in-the-vicinity-of-central-avenue-fitches-creek-drive/
CATEGORIES:Maintenance,Scheduled Outages
END:VEVENT
END:VCALENDAR