BEGIN:VCALENDAR
VERSION:2.0
PRODID:-//Antigua Public Utilities Authority (APUA) - ECPv5.1.2.1//NONSGML v1.0//EN
CALSCALE:GREGORIAN
METHOD:PUBLISH
X-WR-CALNAME:Antigua Public Utilities Authority (APUA)
X-ORIGINAL-URL:https://www.apua.ag
X-WR-CALDESC:Events for Antigua Public Utilities Authority (APUA)
BEGIN:VTIMEZONE
TZID:America/Antigua
BEGIN:STANDARD
TZOFFSETFROM:-0400
TZOFFSETTO:-0400
TZNAME:AST
DTSTART:20250101T000000
END:STANDARD
END:VTIMEZONE
BEGIN:VEVENT
DTSTART;TZID=America/Antigua:20250217T083000
DTEND;TZID=America/Antigua:20250217T113000
DTSTAMP:20260425T220311
CREATED:20250217T100459Z
LAST-MODIFIED:20250217T140609Z
UID:5038-1739781000-1739791800@www.apua.ag
SUMMARY:Electricity Maintenance Schedule - Section of Five Islands\, in the vicinity of Inn La Galleria
DESCRIPTION:Please note that the Electricity Service will be suppressed during this time.  \nDate: Monday 17th February 2025\nTime: 8:30am – 11:30am\nAffected area(s): Section of Five Islands\, in the vicinity of Inn La Galleria\n
URL:https://www.apua.ag/outage/electricity-maintenance-schedule-section-of-five-islands-in-the-vicinity-of-inn-la-galleria/
CATEGORIES:Maintenance,Scheduled Outages
END:VEVENT
END:VCALENDAR