BEGIN:VCALENDAR
VERSION:2.0
PRODID:-//Antigua Public Utilities Authority (APUA) - ECPv5.1.2.1//NONSGML v1.0//EN
CALSCALE:GREGORIAN
METHOD:PUBLISH
X-WR-CALNAME:Antigua Public Utilities Authority (APUA)
X-ORIGINAL-URL:https://www.apua.ag
X-WR-CALDESC:Events for Antigua Public Utilities Authority (APUA)
BEGIN:VTIMEZONE
TZID:America/Antigua
BEGIN:STANDARD
TZOFFSETFROM:-0400
TZOFFSETTO:-0400
TZNAME:AST
DTSTART:20250101T000000
END:STANDARD
END:VTIMEZONE
BEGIN:VEVENT
DTSTART;TZID=America/Antigua:20250221T083000
DTEND;TZID=America/Antigua:20250221T140000
DTSTAMP:20260424T200229
CREATED:20250217T150212Z
LAST-MODIFIED:20250217T150225Z
UID:5055-1740126600-1740146400@www.apua.ag
SUMMARY:Electricity Maintenance Schedule –  Section of  Glanvilles\, in the vicinity of St. Stephens Anglican Church and Seatons
DESCRIPTION:Please note that the Electricity Service will be suppressed during this time.  \nDate: Friday 21st February 2025\nTime: 8:30am – 2:00pm\nAffected area(s): Section of  Glanvilles\, in the vicinity of St. Stephens Anglican Church and Seatons\n
URL:https://www.apua.ag/outage/electricity-maintenance-schedule-section-of-glanvilles-in-the-vicinity-of-st-stephens-anglican-church-and-seatons/
CATEGORIES:Maintenance,Scheduled Outages
END:VEVENT
END:VCALENDAR