BEGIN:VCALENDAR
VERSION:2.0
PRODID:-//Antigua Public Utilities Authority (APUA) - ECPv5.1.2.1//NONSGML v1.0//EN
CALSCALE:GREGORIAN
METHOD:PUBLISH
X-WR-CALNAME:Antigua Public Utilities Authority (APUA)
X-ORIGINAL-URL:https://www.apua.ag
X-WR-CALDESC:Events for Antigua Public Utilities Authority (APUA)
BEGIN:VTIMEZONE
TZID:America/Antigua
BEGIN:STANDARD
TZOFFSETFROM:-0400
TZOFFSETTO:-0400
TZNAME:AST
DTSTART:20250101T000000
END:STANDARD
END:VTIMEZONE
BEGIN:VEVENT
DTSTART;TZID=America/Antigua:20251211T133000
DTEND;TZID=America/Antigua:20251211T150000
DTSTAMP:20260425T005035
CREATED:20251208T145847Z
LAST-MODIFIED:20251208T145847Z
UID:5947-1765459800-1765465200@www.apua.ag
SUMMARY:Electricity Maintenance Schedule - Section of Hodges Bay south of Matthias Drive
DESCRIPTION:Please note that the Electricity Service will be suppressed during this time. \nDate: Thursday 11th December 2025 \nTime: 1:30pm -3:30pm \nAffected area(s): Section of Hodges Bay south of Matthias Drive \n
URL:https://www.apua.ag/outage/electricity-maintenance-schedule-section-of-hodges-bay-south-of-matthias-drive/
CATEGORIES:Maintenance,Scheduled Outages
END:VEVENT
END:VCALENDAR