BEGIN:VCALENDAR
VERSION:2.0
PRODID:-//Antigua Public Utilities Authority (APUA) - ECPv5.1.2.1//NONSGML v1.0//EN
CALSCALE:GREGORIAN
METHOD:PUBLISH
X-WR-CALNAME:Antigua Public Utilities Authority (APUA)
X-ORIGINAL-URL:https://www.apua.ag
X-WR-CALDESC:Events for Antigua Public Utilities Authority (APUA)
BEGIN:VTIMEZONE
TZID:America/Antigua
BEGIN:STANDARD
TZOFFSETFROM:-0400
TZOFFSETTO:-0400
TZNAME:AST
DTSTART:20240101T000000
END:STANDARD
END:VTIMEZONE
BEGIN:VEVENT
DTSTART;TZID=America/Antigua:20240621T083000
DTEND;TZID=America/Antigua:20240621T133000
DTSTAMP:20260420T024254
CREATED:20240620T200421Z
LAST-MODIFIED:20240620T200421Z
UID:4443-1718958600-1718976600@www.apua.ag
SUMMARY:Electricity Maintenance Schedule - Section of Jennings\, going towards the cell site
DESCRIPTION:Please note that Electricity will be suppressed during this period.\nDate: Friday 21st June 2024\nTime: 8:30am – 1:30pm\nAffected area(s): Section of Jennings\, going towards the cell site\n
URL:https://www.apua.ag/outage/electricity-maintenance-schedule-section-of-jennings-going-towards-the-cell-site/
CATEGORIES:Maintenance,Scheduled Outages
END:VEVENT
END:VCALENDAR