BEGIN:VCALENDAR
VERSION:2.0
PRODID:-//Antigua Public Utilities Authority (APUA) - ECPv5.1.2.1//NONSGML v1.0//EN
CALSCALE:GREGORIAN
METHOD:PUBLISH
X-WR-CALNAME:Antigua Public Utilities Authority (APUA)
X-ORIGINAL-URL:https://www.apua.ag
X-WR-CALDESC:Events for Antigua Public Utilities Authority (APUA)
BEGIN:VTIMEZONE
TZID:America/Antigua
BEGIN:STANDARD
TZOFFSETFROM:-0400
TZOFFSETTO:-0400
TZNAME:AST
DTSTART:20250101T000000
END:STANDARD
END:VTIMEZONE
BEGIN:VEVENT
DTSTART;TZID=America/Antigua:20250812T083000
DTEND;TZID=America/Antigua:20250812T134500
DTSTAMP:20260422T121102
CREATED:20250812T135505Z
LAST-MODIFIED:20250812T135505Z
UID:5679-1754987400-1755006300@www.apua.ag
SUMMARY:Electricity Maintenance Schedule -  Section of Langfords
DESCRIPTION:Please note that the Electricity Service will be suppressed during this time. \nDate: Tuesday 12th August 2025 \nTime: 8:30am – 1:45pm \nAffected area(s): Section of Langfords \n\n
URL:https://www.apua.ag/outage/electricity-maintenance-schedule-section-of-langfords-2/
CATEGORIES:Maintenance,Scheduled Outages
END:VEVENT
END:VCALENDAR