BEGIN:VCALENDAR
VERSION:2.0
PRODID:-//Antigua Public Utilities Authority (APUA) - ECPv5.1.2.1//NONSGML v1.0//EN
CALSCALE:GREGORIAN
METHOD:PUBLISH
X-WR-CALNAME:Antigua Public Utilities Authority (APUA)
X-ORIGINAL-URL:https://www.apua.ag
X-WR-CALDESC:Events for Antigua Public Utilities Authority (APUA)
BEGIN:VTIMEZONE
TZID:America/Antigua
BEGIN:STANDARD
TZOFFSETFROM:-0400
TZOFFSETTO:-0400
TZNAME:AST
DTSTART:20250101T000000
END:STANDARD
END:VTIMEZONE
BEGIN:VEVENT
DTSTART;TZID=America/Antigua:20250623T083000
DTEND;TZID=America/Antigua:20250623T140000
DTSTAMP:20260423T124118
CREATED:20250623T122811Z
LAST-MODIFIED:20250625T143254Z
UID:5400-1750667400-1750687200@www.apua.ag
SUMMARY:Electricity Maintenance Schedule - Section of Liberta in the vicinity of the police station to Horsford Hill
DESCRIPTION:Please note that the Electricity Service will be suppressed during this time. \nDate: Monday 23rd June 2025 \nTime: 8:30am – 2:00pm \nAffected area(s): Section of Liberta in the vicinity of the police station to Horsford Hill \n
URL:https://www.apua.ag/outage/electricity-maintenance-schedule-section-of-liberta-in-the-vicinity-of-the-police-station-to-horsford-hill/
CATEGORIES:Maintenance,Scheduled Outages
END:VEVENT
END:VCALENDAR