BEGIN:VCALENDAR
VERSION:2.0
PRODID:-//Antigua Public Utilities Authority (APUA) - ECPv5.1.2.1//NONSGML v1.0//EN
CALSCALE:GREGORIAN
METHOD:PUBLISH
X-WR-CALNAME:Antigua Public Utilities Authority (APUA)
X-ORIGINAL-URL:https://www.apua.ag
X-WR-CALDESC:Events for Antigua Public Utilities Authority (APUA)
BEGIN:VTIMEZONE
TZID:America/Antigua
BEGIN:STANDARD
TZOFFSETFROM:-0400
TZOFFSETTO:-0400
TZNAME:AST
DTSTART:20250101T000000
END:STANDARD
END:VTIMEZONE
BEGIN:VEVENT
DTSTART;TZID=America/Antigua:20250702T083000
DTEND;TZID=America/Antigua:20250702T113000
DTSTAMP:20260420T125458
CREATED:20250630T193710Z
LAST-MODIFIED:20250630T193710Z
UID:5471-1751445000-1751455800@www.apua.ag
SUMMARY:Electricity Maintenance Schedule - Section of Liberta in the vicinity of VJ Bakery
DESCRIPTION:Please note that the Electricity Service will be suppressed during this time. \nDate: Wednesday 2nd July 2025 \nTime: 8:30am – 11:30am \nAffected area(s): Section of Liberta in the vicinity of VJ Bakery \n
URL:https://www.apua.ag/outage/electricity-maintenance-schedule-section-of-liberta-in-the-vicinity-of-vj-bakery/
CATEGORIES:Maintenance,Scheduled Outages
END:VEVENT
END:VCALENDAR