BEGIN:VCALENDAR
VERSION:2.0
PRODID:-//Antigua Public Utilities Authority (APUA) - ECPv5.1.2.1//NONSGML v1.0//EN
CALSCALE:GREGORIAN
METHOD:PUBLISH
X-WR-CALNAME:Antigua Public Utilities Authority (APUA)
X-ORIGINAL-URL:https://www.apua.ag
X-WR-CALDESC:Events for Antigua Public Utilities Authority (APUA)
BEGIN:VTIMEZONE
TZID:America/Antigua
BEGIN:STANDARD
TZOFFSETFROM:-0400
TZOFFSETTO:-0400
TZNAME:AST
DTSTART:20230101T000000
END:STANDARD
END:VTIMEZONE
BEGIN:VEVENT
DTSTART;TZID=America/Antigua:20230719T083000
DTEND;TZID=America/Antigua:20230719T112000
DTSTAMP:20260419T132353
CREATED:20230717T130106Z
LAST-MODIFIED:20230717T130106Z
UID:3640-1689755400-1689765600@www.apua.ag
SUMMARY:Electricity Maintenance Schedule - Section of Liberta near Green Hill Road
DESCRIPTION:Please note that Electricity will be suppressed during this period.\nDate: Wednesday\, 19th July 2023 \nTime: 8:30 AM – 11:20 AM \nAffected areas: Section of Liberta near Green Hill Road \n
URL:https://www.apua.ag/outage/electricity-maintenance-schedule-section-of-liberta-near-green-hill-road/
CATEGORIES:Maintenance,Scheduled Outages
END:VEVENT
END:VCALENDAR