BEGIN:VCALENDAR
VERSION:2.0
PRODID:-//Antigua Public Utilities Authority (APUA) - ECPv5.1.2.1//NONSGML v1.0//EN
CALSCALE:GREGORIAN
METHOD:PUBLISH
X-WR-CALNAME:Antigua Public Utilities Authority (APUA)
X-ORIGINAL-URL:https://www.apua.ag
X-WR-CALDESC:Events for Antigua Public Utilities Authority (APUA)
BEGIN:VTIMEZONE
TZID:America/Antigua
BEGIN:STANDARD
TZOFFSETFROM:-0400
TZOFFSETTO:-0400
TZNAME:AST
DTSTART:20250101T000000
END:STANDARD
END:VTIMEZONE
BEGIN:VEVENT
DTSTART;TZID=America/Antigua:20250429T083000
DTEND;TZID=America/Antigua:20250429T143000
DTSTAMP:20260421T211312
CREATED:20250428T142217Z
LAST-MODIFIED:20250428T142217Z
UID:5295-1745915400-1745937000@www.apua.ag
SUMMARY:Electricity Maintenance Schedule – Section of Lightfoot in the vicinity of Cedar Cresent\, Jaz Supermarket and Tilago Farm
DESCRIPTION:Please note that the Electricity Service will be suppressed during this time. \nDate: Tuesday 29th April 2025 \nTime: 8:30am – 2:30pm \nAffected area(s): Section of Lightfoot in the vicinity of Cedar Cresent\, Jaz Supermarket and Tilago Farm \n
URL:https://www.apua.ag/outage/electricity-maintenance-schedule-section-of-lightfoot-in-the-vicinity-of-cedar-cresent-jaz-supermarket-and-tilago-farm/
CATEGORIES:Maintenance
END:VEVENT
END:VCALENDAR