BEGIN:VCALENDAR
VERSION:2.0
PRODID:-//Antigua Public Utilities Authority (APUA) - ECPv5.1.2.1//NONSGML v1.0//EN
CALSCALE:GREGORIAN
METHOD:PUBLISH
X-WR-CALNAME:Antigua Public Utilities Authority (APUA)
X-ORIGINAL-URL:https://www.apua.ag
X-WR-CALDESC:Events for Antigua Public Utilities Authority (APUA)
BEGIN:VTIMEZONE
TZID:America/Antigua
BEGIN:STANDARD
TZOFFSETFROM:-0400
TZOFFSETTO:-0400
TZNAME:AST
DTSTART:20250101T000000
END:STANDARD
END:VTIMEZONE
BEGIN:VEVENT
DTSTART;TZID=America/Antigua:20250212T083000
DTEND;TZID=America/Antigua:20250212T113000
DTSTAMP:20260420T204600
CREATED:20250210T201058Z
LAST-MODIFIED:20250210T201058Z
UID:5036-1739349000-1739359800@www.apua.ag
SUMMARY:Electricity Maintenance Schedule - Section of Lower Gambles\, in the vicinity of the St. Johns Public Cemetary
DESCRIPTION:Please note that the Electricity Service will be suppressed during this time.  \nDate: Wednesday 12th February 2025\nTime: 8:30am – 11:30am\nAffected area(s):  Section of Lower Gambles\, in the vicinity of the St. Johns Public Cemetery\n
URL:https://www.apua.ag/outage/electricity-maintenance-schedule-section-of-lower-gambles-in-the-vicinity-of-the-st-johns-public-cemetary/
CATEGORIES:Maintenance,Scheduled Outages
END:VEVENT
END:VCALENDAR