BEGIN:VCALENDAR
VERSION:2.0
PRODID:-//Antigua Public Utilities Authority (APUA) - ECPv5.1.2.1//NONSGML v1.0//EN
CALSCALE:GREGORIAN
METHOD:PUBLISH
X-WR-CALNAME:Antigua Public Utilities Authority (APUA)
X-ORIGINAL-URL:https://www.apua.ag
X-WR-CALDESC:Events for Antigua Public Utilities Authority (APUA)
BEGIN:VTIMEZONE
TZID:America/Antigua
BEGIN:STANDARD
TZOFFSETFROM:-0400
TZOFFSETTO:-0400
TZNAME:AST
DTSTART:20250101T000000
END:STANDARD
END:VTIMEZONE
BEGIN:VEVENT
DTSTART;TZID=America/Antigua:20250625T083000
DTEND;TZID=America/Antigua:20250625T170000
DTSTAMP:20260425T123235
CREATED:20250625T143509Z
LAST-MODIFIED:20250625T143509Z
UID:5402-1750840200-1750870800@www.apua.ag
SUMMARY:Electricity Maintenance Schedule - Section of McKinnons in the vicinity of Flamboyant Ave. & Sir Prince Ramsey Drive
DESCRIPTION:Please note that the Electricity Service will be suppressed during this time. \nDate: Wednesday 25th June 2025 \nTime: 8:30am – 12:35am \nAffected area(s): Section of McKinnons in the vicinity of Flamboyant Ave. & Sir Prince Ramsey Drive \n
URL:https://www.apua.ag/outage/electricity-maintenance-schedule-section-of-mckinnons-in-the-vicinity-of-flamboyant-ave-sir-prince-ramsey-drive/
CATEGORIES:Maintenance,Scheduled Outages
END:VEVENT
END:VCALENDAR