BEGIN:VCALENDAR
VERSION:2.0
PRODID:-//Antigua Public Utilities Authority (APUA) - ECPv5.1.2.1//NONSGML v1.0//EN
CALSCALE:GREGORIAN
METHOD:PUBLISH
X-WR-CALNAME:Antigua Public Utilities Authority (APUA)
X-ORIGINAL-URL:https://www.apua.ag
X-WR-CALDESC:Events for Antigua Public Utilities Authority (APUA)
BEGIN:VTIMEZONE
TZID:America/Antigua
BEGIN:STANDARD
TZOFFSETFROM:-0400
TZOFFSETTO:-0400
TZNAME:AST
DTSTART:20260101T000000
END:STANDARD
END:VTIMEZONE
BEGIN:VEVENT
DTSTART;TZID=America/Antigua:20260220T083000
DTEND;TZID=America/Antigua:20260220T110000
DTSTAMP:20260426T002824
CREATED:20260216T185321Z
LAST-MODIFIED:20260216T185321Z
UID:6110-1771576200-1771585200@www.apua.ag
SUMMARY:Electricity Maintenance Schedule - Section of Ottos in the vicinity of Rose Street
DESCRIPTION:Please note that the Electricity Service will be suppressed during this time. \nDate: Friday 20th February 2026 \nTime: 8:30am – 11:00am \nAffected area(s): Section of Ottos in the vicinity of Rose Street \n
URL:https://www.apua.ag/outage/electricity-maintenance-schedule-section-of-ottos-in-the-vicinity-of-rose-street/
CATEGORIES:Maintenance,Scheduled Outages
END:VEVENT
END:VCALENDAR