BEGIN:VCALENDAR
VERSION:2.0
PRODID:-//Antigua Public Utilities Authority (APUA) - ECPv5.1.2.1//NONSGML v1.0//EN
CALSCALE:GREGORIAN
METHOD:PUBLISH
X-WR-CALNAME:Antigua Public Utilities Authority (APUA)
X-ORIGINAL-URL:https://www.apua.ag
X-WR-CALDESC:Events for Antigua Public Utilities Authority (APUA)
BEGIN:VTIMEZONE
TZID:America/Antigua
BEGIN:STANDARD
TZOFFSETFROM:-0400
TZOFFSETTO:-0400
TZNAME:AST
DTSTART:20200101T000000
END:STANDARD
END:VTIMEZONE
BEGIN:VEVENT
DTSTART;TZID=America/Antigua:20201118T083000
DTEND;TZID=America/Antigua:20201118T113000
DTSTAMP:20260424T111129
CREATED:20201116T134614Z
LAST-MODIFIED:20201116T134614Z
UID:1482-1605688200-1605699000@www.apua.ag
SUMMARY:Electricity Maintenance Schedule –Section of Parham west of Mary Ground
DESCRIPTION:Please note that Electricity will be suppressed during this period.\n  \nDate: Tuesday 18th November\, 2020 \nExpected duration: 8:30 AM – 11:30 AM \nAffected areas: Section of Parham west of Mary Ground \n
URL:https://www.apua.ag/outage/electricity-maintenance-schedule-section-of-parham-west-of-mary-ground/
CATEGORIES:Maintenance
END:VEVENT
END:VCALENDAR