BEGIN:VCALENDAR
VERSION:2.0
PRODID:-//Antigua Public Utilities Authority (APUA) - ECPv5.1.2.1//NONSGML v1.0//EN
CALSCALE:GREGORIAN
METHOD:PUBLISH
X-WR-CALNAME:Antigua Public Utilities Authority (APUA)
X-ORIGINAL-URL:https://www.apua.ag
X-WR-CALDESC:Events for Antigua Public Utilities Authority (APUA)
BEGIN:VTIMEZONE
TZID:America/Antigua
BEGIN:STANDARD
TZOFFSETFROM:-0400
TZOFFSETTO:-0400
TZNAME:AST
DTSTART:20240101T000000
END:STANDARD
END:VTIMEZONE
BEGIN:VEVENT
DTSTART;TZID=America/Antigua:20241127T083000
DTEND;TZID=America/Antigua:20241127T113000
DTSTAMP:20260423T113630
CREATED:20241126T143027Z
LAST-MODIFIED:20241126T143027Z
UID:4923-1732696200-1732707000@www.apua.ag
SUMMARY:Electricity Maintenance Schedule - Section of Piccadilly\, in the vicinity of the Seventh-day Adventist Church
DESCRIPTION:Please note that Electricity will be suppressed during this period. \nDate: Wednesday 27th November 2024\nTime: 8:30am – 11:30am\nAffected area(s): Section of Piccadilly\, in the vicinity of the Seventh-day Adventist Church\n
URL:https://www.apua.ag/outage/electricity-maintenance-schedule-section-of-piccadilly-in-the-vicinity-of-the-seventh-day-adventist-church/
CATEGORIES:Maintenance,Scheduled Outages
END:VEVENT
END:VCALENDAR