BEGIN:VCALENDAR
VERSION:2.0
PRODID:-//Antigua Public Utilities Authority (APUA) - ECPv5.1.2.1//NONSGML v1.0//EN
CALSCALE:GREGORIAN
METHOD:PUBLISH
X-WR-CALNAME:Antigua Public Utilities Authority (APUA)
X-ORIGINAL-URL:https://www.apua.ag
X-WR-CALDESC:Events for Antigua Public Utilities Authority (APUA)
BEGIN:VTIMEZONE
TZID:America/Antigua
BEGIN:STANDARD
TZOFFSETFROM:-0400
TZOFFSETTO:-0400
TZNAME:AST
DTSTART:20250101T000000
END:STANDARD
END:VTIMEZONE
BEGIN:VEVENT
DTSTART;TZID=America/Antigua:20250701T133000
DTEND;TZID=America/Antigua:20250701T153000
DTSTAMP:20260421T164716
CREATED:20250630T192616Z
LAST-MODIFIED:20250630T192616Z
UID:5469-1751376600-1751383800@www.apua.ag
SUMMARY:Electricity Maintenance Schedule - Section of Royal Gardens
DESCRIPTION:Please note that the Electricity Service will be suppressed during this time. \nDate: Tuesday 1st July 2025 \nTime: 1:30pm – 3:30pm \nAffected area(s): Section of Royal Gardens \n  \n
URL:https://www.apua.ag/outage/electricity-maintenance-schedule-section-of-royal-gardens/
CATEGORIES:Maintenance,Scheduled Outages
END:VEVENT
END:VCALENDAR