BEGIN:VCALENDAR
VERSION:2.0
PRODID:-//Antigua Public Utilities Authority (APUA) - ECPv5.1.2.1//NONSGML v1.0//EN
CALSCALE:GREGORIAN
METHOD:PUBLISH
X-WR-CALNAME:Antigua Public Utilities Authority (APUA)
X-ORIGINAL-URL:https://www.apua.ag
X-WR-CALDESC:Events for Antigua Public Utilities Authority (APUA)
BEGIN:VTIMEZONE
TZID:America/Antigua
BEGIN:STANDARD
TZOFFSETFROM:-0400
TZOFFSETTO:-0400
TZNAME:AST
DTSTART:20250101T000000
END:STANDARD
END:VTIMEZONE
BEGIN:VEVENT
DTSTART;TZID=America/Antigua:20250509T083000
DTEND;TZID=America/Antigua:20250509T133000
DTSTAMP:20260425T022122
CREATED:20250506T132843Z
LAST-MODIFIED:20250506T132843Z
UID:5324-1746779400-1746797400@www.apua.ag
SUMMARY:Electricity Maintenance Schedule – Section of Skerritts Pasture on Kings Glass Road
DESCRIPTION:Please note that the Electricity Service will be suppressed during this time. \nDate: Friday 9th May 2025 \nTime: 8:30am – 1:30pm \nAffected area(s): Section of Skerritts Pasture on Kings Glass Road \n
URL:https://www.apua.ag/outage/electricity-maintenance-schedule-section-of-skerritts-pasture-on-kings-glass-road/
CATEGORIES:Maintenance,Scheduled Outages
END:VEVENT
END:VCALENDAR