BEGIN:VCALENDAR
VERSION:2.0
PRODID:-//Antigua Public Utilities Authority (APUA) - ECPv5.1.2.1//NONSGML v1.0//EN
CALSCALE:GREGORIAN
METHOD:PUBLISH
X-WR-CALNAME:Antigua Public Utilities Authority (APUA)
X-ORIGINAL-URL:https://www.apua.ag
X-WR-CALDESC:Events for Antigua Public Utilities Authority (APUA)
BEGIN:VTIMEZONE
TZID:America/Antigua
BEGIN:STANDARD
TZOFFSETFROM:-0400
TZOFFSETTO:-0400
TZNAME:AST
DTSTART:20260101T000000
END:STANDARD
END:VTIMEZONE
BEGIN:VEVENT
DTSTART;TZID=America/Antigua:20260216T080000
DTEND;TZID=America/Antigua:20260216T170000
DTSTAMP:20260425T004959
CREATED:20260216T191400Z
LAST-MODIFIED:20260216T191400Z
UID:6112-1771228800-1771261200@www.apua.ag
SUMMARY:Electricity Maintenance Schedule - Section of Tindall Road in the vicinity of Santana Complex
DESCRIPTION:Please note that the Electricity Service will be suppressed during this time. \nDate: Friday 13th February 2026 \nTime: 8:30am – 2:00pm \nAffected area(s): Section of Tindall Road in the vicinity of Santana Complex \n
URL:https://www.apua.ag/outage/electricity-maintenance-schedule-section-of-tindall-road-in-the-vicinity-of-santana-complex/
CATEGORIES:Maintenance,Scheduled Outages
END:VEVENT
END:VCALENDAR