BEGIN:VCALENDAR
VERSION:2.0
PRODID:-//Antigua Public Utilities Authority (APUA) - ECPv5.1.2.1//NONSGML v1.0//EN
CALSCALE:GREGORIAN
METHOD:PUBLISH
X-WR-CALNAME:Antigua Public Utilities Authority (APUA)
X-ORIGINAL-URL:https://www.apua.ag
X-WR-CALDESC:Events for Antigua Public Utilities Authority (APUA)
BEGIN:VTIMEZONE
TZID:America/Antigua
BEGIN:STANDARD
TZOFFSETFROM:-0400
TZOFFSETTO:-0400
TZNAME:AST
DTSTART:20230101T000000
END:STANDARD
END:VTIMEZONE
BEGIN:VEVENT
DTSTART;TZID=America/Antigua:20230712T083000
DTEND;TZID=America/Antigua:20230712T113000
DTSTAMP:20260420T125428
CREATED:20230710T131246Z
LAST-MODIFIED:20230710T131246Z
UID:3614-1689150600-1689161400@www.apua.ag
SUMMARY:Electricity Maintenance Schedule - Section of Urlings north of the Fisheries
DESCRIPTION:Please note that Electricity will be suppressed during this period.\nDate: Wednesday\, 12th July 2023 \nTime: 8:30 AM – 11:30 AM \nAffected areas: Section of Urlings north of the Fisheries \n
URL:https://www.apua.ag/outage/electricity-maintenance-schedule-section-of-urlings-north-of-the-fisheries/
CATEGORIES:Maintenance,Scheduled Outages
END:VEVENT
END:VCALENDAR