BEGIN:VCALENDAR
VERSION:2.0
PRODID:-//Antigua Public Utilities Authority (APUA) - ECPv5.1.2.1//NONSGML v1.0//EN
CALSCALE:GREGORIAN
METHOD:PUBLISH
X-WR-CALNAME:Antigua Public Utilities Authority (APUA)
X-ORIGINAL-URL:https://www.apua.ag
X-WR-CALDESC:Events for Antigua Public Utilities Authority (APUA)
BEGIN:VTIMEZONE
TZID:America/Antigua
BEGIN:STANDARD
TZOFFSETFROM:-0400
TZOFFSETTO:-0400
TZNAME:AST
DTSTART:20240101T000000
END:STANDARD
END:VTIMEZONE
BEGIN:VEVENT
DTSTART;TZID=America/Antigua:20241114T133000
DTEND;TZID=America/Antigua:20241114T153000
DTSTAMP:20260425T113354
CREATED:20241108T140202Z
LAST-MODIFIED:20241108T140202Z
UID:4899-1731591000-1731598200@www.apua.ag
SUMMARY:Electricity Maintenance Schedule - Small section of Parham\, in the vicinity of the Primary School and Playing Field
DESCRIPTION:Please note that Electricity will be suppressed during this period. \nDate: Thursday 14th November 2024 \nTime: 1:30pm – 3:30pm \nAffected area(s): Small section of Parham\, in the vicinity of the Primary School and Playing Field \n
URL:https://www.apua.ag/outage/electricity-maintenance-schedule-small-section-of-parham-in-the-vicinity-of-the-primary-school-and-playing-field-2/
CATEGORIES:Maintenance,Scheduled Outages
END:VEVENT
END:VCALENDAR