BEGIN:VCALENDAR
VERSION:2.0
PRODID:-//Antigua Public Utilities Authority (APUA) - ECPv5.1.2.1//NONSGML v1.0//EN
CALSCALE:GREGORIAN
METHOD:PUBLISH
X-WR-CALNAME:Antigua Public Utilities Authority (APUA)
X-ORIGINAL-URL:https://www.apua.ag
X-WR-CALDESC:Events for Antigua Public Utilities Authority (APUA)
BEGIN:VTIMEZONE
TZID:America/Antigua
BEGIN:STANDARD
TZOFFSETFROM:-0400
TZOFFSETTO:-0400
TZNAME:AST
DTSTART:20220101T000000
END:STANDARD
END:VTIMEZONE
BEGIN:VEVENT
DTSTART;TZID=America/Antigua:20220317T090000
DTEND;TZID=America/Antigua:20220317T100000
DTSTAMP:20260424T124707
CREATED:20220311T183051Z
LAST-MODIFIED:20220311T183051Z
UID:2546-1647507600-1647511200@www.apua.ag
SUMMARY:Electricity Maintenance Schedule - Swetes\, Buckleys\, Folleys\, John Hughes\, Fig Tree Drive\, Old Road\, Cades Bay\, Urlings\, Johnson's Point\, Crab Hill and Roman Hill
DESCRIPTION:Please note that Electricity will be suppressed during this perio\nDate: Thursday\, 17th  March 2022 \nTime: 9:00 AM – 10:00 AM \nAffected areas: Swetes\, Buckleys\, Folleys\, John Hughes\, Fig Tree Drive\, Old Road\, Cades Bay\, Urlings\, Johnson’s Point\, Crab Hill and Roman Hill \n  \n
URL:https://www.apua.ag/outage/electricity-maintenance-schedule-swetes-buckleys-folleys-john-hughes-fig-tree-drive-old-road-cades-bay-urlings-johnsons-point-crab-hill-and-roman-hill/
CATEGORIES:Maintenance,Scheduled Outages
END:VEVENT
END:VCALENDAR